BEGIN:VCALENDAR
VERSION:2.0
PRODID:-//Christ The King Lutheran Church - ECPv6.15.20//NONSGML v1.0//EN
CALSCALE:GREGORIAN
METHOD:PUBLISH
X-WR-CALNAME:Christ The King Lutheran Church
X-ORIGINAL-URL:https://ctkrva.org
X-WR-CALDESC:Events for Christ The King Lutheran Church
REFRESH-INTERVAL;VALUE=DURATION:PT1H
X-Robots-Tag:noindex
X-PUBLISHED-TTL:PT1H
BEGIN:VTIMEZONE
TZID:America/New_York
BEGIN:DAYLIGHT
TZOFFSETFROM:-0500
TZOFFSETTO:-0400
TZNAME:EDT
DTSTART:20240310T070000
END:DAYLIGHT
BEGIN:STANDARD
TZOFFSETFROM:-0400
TZOFFSETTO:-0500
TZNAME:EST
DTSTART:20241103T060000
END:STANDARD
BEGIN:DAYLIGHT
TZOFFSETFROM:-0500
TZOFFSETTO:-0400
TZNAME:EDT
DTSTART:20250309T070000
END:DAYLIGHT
BEGIN:STANDARD
TZOFFSETFROM:-0400
TZOFFSETTO:-0500
TZNAME:EST
DTSTART:20251102T060000
END:STANDARD
BEGIN:DAYLIGHT
TZOFFSETFROM:-0500
TZOFFSETTO:-0400
TZNAME:EDT
DTSTART:20260308T070000
END:DAYLIGHT
BEGIN:STANDARD
TZOFFSETFROM:-0400
TZOFFSETTO:-0500
TZNAME:EST
DTSTART:20261101T060000
END:STANDARD
END:VTIMEZONE
BEGIN:VEVENT
DTSTART;VALUE=DATE:20250914
DTEND;VALUE=DATE:20250915
DTSTAMP:20260423T212753
CREATED:20250910T192017Z
LAST-MODIFIED:20250915T161320Z
UID:37079-1757808000-1757894399@ctkrva.org
SUMMARY:Sacrament of Baptism & Rite of Confirmation
DESCRIPTION:
URL:https://ctkrva.org/event/sacrament-of-baptism-rite-of-confirmation/
END:VEVENT
BEGIN:VEVENT
DTSTART;TZID=America/New_York:20250914T100000
DTEND;TZID=America/New_York:20250914T110000
DTSTAMP:20260423T212753
CREATED:20250818T202546Z
LAST-MODIFIED:20250915T161321Z
UID:36414-1757844000-1757847600@ctkrva.org
SUMMARY:Worship
DESCRIPTION:
URL:https://ctkrva.org/event/worship-45/
END:VEVENT
BEGIN:VEVENT
DTSTART;TZID=America/New_York:20250914T111500
DTEND;TZID=America/New_York:20250914T114500
DTSTAMP:20260423T212753
CREATED:20250818T202547Z
LAST-MODIFIED:20250915T161322Z
UID:36415-1757848500-1757850300@ctkrva.org
SUMMARY:CTK Cafe
DESCRIPTION:
URL:https://ctkrva.org/event/ctk-cafe-34/
LOCATION:After Worship
END:VEVENT
BEGIN:VEVENT
DTSTART;TZID=America/New_York:20250914T123000
DTEND;TZID=America/New_York:20250914T140000
DTSTAMP:20260423T212753
CREATED:20250825T202103Z
LAST-MODIFIED:20250915T161323Z
UID:36708-1757853000-1757858400@ctkrva.org
SUMMARY:Dempster - Lohr Luncheon
DESCRIPTION:
URL:https://ctkrva.org/event/dempster-lohr-luncheon/
LOCATION:Fellowship Hall
END:VEVENT
END:VCALENDAR