BEGIN:VCALENDAR
VERSION:2.0
PRODID:-//Christ The King Lutheran Church - ECPv6.15.20//NONSGML v1.0//EN
CALSCALE:GREGORIAN
METHOD:PUBLISH
X-ORIGINAL-URL:https://ctkrva.org
X-WR-CALDESC:Events for Christ The King Lutheran Church
REFRESH-INTERVAL;VALUE=DURATION:PT1H
X-Robots-Tag:noindex
X-PUBLISHED-TTL:PT1H
BEGIN:VTIMEZONE
TZID:America/New_York
BEGIN:DAYLIGHT
TZOFFSETFROM:-0500
TZOFFSETTO:-0400
TZNAME:EDT
DTSTART:20240310T070000
END:DAYLIGHT
BEGIN:STANDARD
TZOFFSETFROM:-0400
TZOFFSETTO:-0500
TZNAME:EST
DTSTART:20241103T060000
END:STANDARD
BEGIN:DAYLIGHT
TZOFFSETFROM:-0500
TZOFFSETTO:-0400
TZNAME:EDT
DTSTART:20250309T070000
END:DAYLIGHT
BEGIN:STANDARD
TZOFFSETFROM:-0400
TZOFFSETTO:-0500
TZNAME:EST
DTSTART:20251102T060000
END:STANDARD
BEGIN:DAYLIGHT
TZOFFSETFROM:-0500
TZOFFSETTO:-0400
TZNAME:EDT
DTSTART:20260308T070000
END:DAYLIGHT
BEGIN:STANDARD
TZOFFSETFROM:-0400
TZOFFSETTO:-0500
TZNAME:EST
DTSTART:20261101T060000
END:STANDARD
END:VTIMEZONE
BEGIN:VEVENT
DTSTART;VALUE=DATE:20251005
DTEND;VALUE=DATE:20251006
DTSTAMP:20260423T202102
CREATED:20250818T165221Z
LAST-MODIFIED:20251006T155345Z
UID:35936-1759622400-1759708799@ctkrva.org
SUMMARY:Food Pantry Sunday
DESCRIPTION:
URL:https://ctkrva.org/event/food-pantry-sunday-8/
END:VEVENT
BEGIN:VEVENT
DTSTART;TZID=America/New_York:20251005T100000
DTEND;TZID=America/New_York:20251005T110000
DTSTAMP:20260423T202102
CREATED:20250818T165234Z
LAST-MODIFIED:20251006T155346Z
UID:35937-1759658400-1759662000@ctkrva.org
SUMMARY:Worship
DESCRIPTION:
URL:https://ctkrva.org/event/worship-43/
END:VEVENT
BEGIN:VEVENT
DTSTART;TZID=America/New_York:20251005T111500
DTEND;TZID=America/New_York:20251005T114500
DTSTAMP:20260423T202102
CREATED:20250818T165235Z
LAST-MODIFIED:20251006T155347Z
UID:35938-1759662900-1759664700@ctkrva.org
SUMMARY:CTK Cafe
DESCRIPTION:
URL:https://ctkrva.org/event/ctk-cafe-32/
LOCATION:After Worship
END:VEVENT
END:VCALENDAR