BEGIN:VCALENDAR
VERSION:2.0
PRODID:-//Christ The King Lutheran Church - ECPv6.15.20//NONSGML v1.0//EN
CALSCALE:GREGORIAN
METHOD:PUBLISH
X-ORIGINAL-URL:https://ctkrva.org
X-WR-CALDESC:Events for Christ The King Lutheran Church
REFRESH-INTERVAL;VALUE=DURATION:PT1H
X-Robots-Tag:noindex
X-PUBLISHED-TTL:PT1H
BEGIN:VTIMEZONE
TZID:America/New_York
BEGIN:DAYLIGHT
TZOFFSETFROM:-0500
TZOFFSETTO:-0400
TZNAME:EDT
DTSTART:20240310T070000
END:DAYLIGHT
BEGIN:STANDARD
TZOFFSETFROM:-0400
TZOFFSETTO:-0500
TZNAME:EST
DTSTART:20241103T060000
END:STANDARD
BEGIN:DAYLIGHT
TZOFFSETFROM:-0500
TZOFFSETTO:-0400
TZNAME:EDT
DTSTART:20250309T070000
END:DAYLIGHT
BEGIN:STANDARD
TZOFFSETFROM:-0400
TZOFFSETTO:-0500
TZNAME:EST
DTSTART:20251102T060000
END:STANDARD
BEGIN:DAYLIGHT
TZOFFSETFROM:-0500
TZOFFSETTO:-0400
TZNAME:EDT
DTSTART:20260308T070000
END:DAYLIGHT
BEGIN:STANDARD
TZOFFSETFROM:-0400
TZOFFSETTO:-0500
TZNAME:EST
DTSTART:20261101T060000
END:STANDARD
END:VTIMEZONE
BEGIN:VEVENT
DTSTART;TZID=America/New_York:20251014T093000
DTEND;TZID=America/New_York:20251014T100000
DTSTAMP:20260423T201455
CREATED:20251014T133617Z
LAST-MODIFIED:20251014T133617Z
UID:37923-1760434200-1760436000@ctkrva.org
SUMMARY:Dead Deer
DESCRIPTION:________________________________________________________________________________\nMicrosoft Teams Need help?\nJoin the meeting now\nMeeting ID: 291 035 223 342 2\nPasscode: EU2V4pd6\n________________________________\nDial in by phone\n+1 804-462-9970\,\,987168978# United States\, Lively\nFind a local number\nPhone conference ID: 987 168 978#\nFor organizers: Meeting options | Reset dial-in PIN\n________________________________________________________________________________\n_____________________________________________\nFrom: Richard Landers\nSent: Sunday\, October 12\, 2025 2:37 PM\nTo: Tim Young\nCc: Charles Albert ; Matt Fay ; Office Info\nSubject: Re: Dead Deer\nTim –\nI also submitted a Service Request (#  2219325 )\, yesterday at noon. They predict pickup within 72 hours.\nMy guess is that the Deer was hit Friday night. It was pretty bloated by noon yesterday.\nI’ll fix the Banner Frame this week. The impact knocked the deer through the frame. It knocked off both bottom 2x4s\, but didn’t break them. I’ll straighten the brackets and nail them back in.\nIt also destroyed all 4 of the little solar lights. I’m not sure how much benefit these were. They were always an obstacle to mow around. Unless someone wants these I’ll not replace them.\nI picked up a large wheel well molding\, and another piece that the driver left behind. It must have been a pickup.\nThat is the 5th dead deer in the last 3 years.\nThanks.\nRichard\nOn Sun\, Oct 12\, 2025 at 2:11 PM Tim Young <TYoung@htrsi.com> wrote:\nWe have another dead deer on the property. I submitted it to VDOT.\nTim Young\nKevin Currie Group\nw/ Hometown Realty\n804-385-0683\ntyoung@htrsi.com\nhttps://www.kevincurriegroup.com/\n________________________________\nFrom: Tim Young\nSent: Wednesday\, May 28\, 2025 8:19 PM\nTo: Charles Albert <charlesgalbert@gmail.com>\nCc: Richard Landers <richard.landers@gmail.com>; Matt Fay <mflapfay@gmail.com>\nSubject: Re: Dead Deer\nLooks like the deer was picked up. Thank you again Richard for making the call.\nTim Young\nKevin Currie Group\nw/ Hometown Realty\n804-385-0683\ntyoung@htrsi.com\nOn May 26\, 2025\, at 19:37\, Charles Albert <charlesgalbert@gmail.com> wrote:\n﻿ Thanks Richard! You’re the best\nSent from my iPhone\nOn May 26\, 2025\, at 2:02 PM\, Richard Landers <richard.landers@gmail.com> wrote:\n﻿\nFYI\nYour service request number is 2136848. Track your status on https://my.vdot.virginia.gov.\nReply STOP to Cancel\nOn Mon\, May 26\, 2025 at 1:33 PM Richard Landers <richard.landers@gmail.com> wrote:\nI looked at the deer and decided to call VDOT at 800-367-7623. It’s a little big to put in a trash can. They have our address. They’ll pick it up. It may be 1 to 2 days\, since it is a holiday.\nI was on the way over anyway to trim some brush.\nRichard\nIf your request is related to a road hazard that needs immediate attention\, please call 1-800-367-7623\nOn Mon\, May 26\, 2025 at 12:57 PM Tim Young <TYoung@htrsi.com> wrote:\nI’ll drag it to the other side for now.\nRichard\, is there a number to call to have it removed?\nTim Young\nKevin Currie Group\nw/ Hometown Realty\n804-385-0683\ntyoung@htrsi.com\nOn May 26\, 2025\, at 12:19\, Charles Albert <charlesgalbert@gmail.com> wrote:\n﻿\nHi all\,\nI hate to be the bearer of bad news but Gretchen saw a dead deer on the church property. Very near Huguenot. Kinda half way down the property line.\nI just wanted to give you a heads up.\nCharles\nSent from my iPhone\nThis is an External email! Please think carefully before clicking links or opening attachments.\nThis is an External email! Please think carefully before clicking links or opening attachments.
URL:https://ctkrva.org/event/dead-deer/
LOCATION:Microsoft Teams Meeting
END:VEVENT
BEGIN:VEVENT
DTSTART;TZID=America/New_York:20251014T100000
DTEND;TZID=America/New_York:20251014T120000
DTSTAMP:20260423T201455
CREATED:20250818T165302Z
LAST-MODIFIED:20251014T213841Z
UID:35953-1760436000-1760443200@ctkrva.org
SUMMARY:Richmond Conference Meeting
DESCRIPTION:
URL:https://ctkrva.org/event/richmond-conference-meeting-25/
END:VEVENT
BEGIN:VEVENT
DTSTART;TZID=America/New_York:20251014T100000
DTEND;TZID=America/New_York:20251014T120000
DTSTAMP:20260423T201455
CREATED:20250818T165303Z
LAST-MODIFIED:20251014T213842Z
UID:35954-1760436000-1760443200@ctkrva.org
SUMMARY:Circle of Faith
DESCRIPTION:
URL:https://ctkrva.org/event/circle-of-faith-42/
END:VEVENT
BEGIN:VEVENT
DTSTART;TZID=America/New_York:20251014T183000
DTEND;TZID=America/New_York:20251014T203000
DTSTAMP:20260423T201455
CREATED:20250818T165303Z
LAST-MODIFIED:20251014T232043Z
UID:35955-1760466600-1760473800@ctkrva.org
SUMMARY:Tai Chi - John Crouse
DESCRIPTION:
URL:https://ctkrva.org/event/tai-chi-john-crouse-227/
LOCATION:Fellowship Hall
END:VEVENT
END:VCALENDAR