BEGIN:VCALENDAR
VERSION:2.0
PRODID:-//Christ The King Lutheran Church - ECPv6.15.20//NONSGML v1.0//EN
CALSCALE:GREGORIAN
METHOD:PUBLISH
X-WR-CALNAME:Christ The King Lutheran Church
X-ORIGINAL-URL:https://ctkrva.org
X-WR-CALDESC:Events for Christ The King Lutheran Church
REFRESH-INTERVAL;VALUE=DURATION:PT1H
X-Robots-Tag:noindex
X-PUBLISHED-TTL:PT1H
BEGIN:VTIMEZONE
TZID:America/New_York
BEGIN:DAYLIGHT
TZOFFSETFROM:-0500
TZOFFSETTO:-0400
TZNAME:EDT
DTSTART:20240310T070000
END:DAYLIGHT
BEGIN:STANDARD
TZOFFSETFROM:-0400
TZOFFSETTO:-0500
TZNAME:EST
DTSTART:20241103T060000
END:STANDARD
BEGIN:DAYLIGHT
TZOFFSETFROM:-0500
TZOFFSETTO:-0400
TZNAME:EDT
DTSTART:20250309T070000
END:DAYLIGHT
BEGIN:STANDARD
TZOFFSETFROM:-0400
TZOFFSETTO:-0500
TZNAME:EST
DTSTART:20251102T060000
END:STANDARD
BEGIN:DAYLIGHT
TZOFFSETFROM:-0500
TZOFFSETTO:-0400
TZNAME:EDT
DTSTART:20260308T070000
END:DAYLIGHT
BEGIN:STANDARD
TZOFFSETFROM:-0400
TZOFFSETTO:-0500
TZNAME:EST
DTSTART:20261101T060000
END:STANDARD
END:VTIMEZONE
BEGIN:VEVENT
DTSTART;VALUE=DATE:20251102
DTEND;VALUE=DATE:20251103
DTSTAMP:20260423T185429
CREATED:20250818T165425Z
LAST-MODIFIED:20251103T160655Z
UID:35988-1762041600-1762127999@ctkrva.org
SUMMARY:Food Pantry Sunday
DESCRIPTION:
URL:https://ctkrva.org/event/food-pantry-sunday-12/
END:VEVENT
BEGIN:VEVENT
DTSTART;VALUE=DATE:20251102
DTEND;VALUE=DATE:20251103
DTSTAMP:20260423T185429
CREATED:20250818T165428Z
LAST-MODIFIED:20251103T160656Z
UID:35991-1762041600-1762127999@ctkrva.org
SUMMARY:Red Cross Blood Drive at CTK
DESCRIPTION:
URL:https://ctkrva.org/event/red-cross-blood-drive-at-ctk-5/
END:VEVENT
BEGIN:VEVENT
DTSTART;VALUE=DATE:20251102
DTEND;VALUE=DATE:20251103
DTSTAMP:20260423T185429
CREATED:20250827T182332Z
LAST-MODIFIED:20251103T160657Z
UID:36748-1762041600-1762127999@ctkrva.org
SUMMARY:All Saints Sunday
DESCRIPTION:
URL:https://ctkrva.org/event/all-saints-sunday-2/
END:VEVENT
BEGIN:VEVENT
DTSTART;TZID=America/New_York:20251102T000000
DTEND;TZID=America/New_York:20251103T000000
DTSTAMP:20260423T185429
CREATED:20251008T043732Z
LAST-MODIFIED:20251103T160658Z
UID:37764-1762041600-1762128000@ctkrva.org
SUMMARY:Food Pantry Sunday
DESCRIPTION:
URL:https://ctkrva.org/event/food-pantry-sunday-30/
END:VEVENT
BEGIN:VEVENT
DTSTART;TZID=America/New_York:20251102T090000
DTEND;TZID=America/New_York:20251102T100000
DTSTAMP:20260423T185429
CREATED:20251028T050532Z
LAST-MODIFIED:20251103T160659Z
UID:38247-1762074000-1762077600@ctkrva.org
SUMMARY:Worship
DESCRIPTION:
URL:https://ctkrva.org/event/worship-125/
END:VEVENT
BEGIN:VEVENT
DTSTART;TZID=America/New_York:20251102T100000
DTEND;TZID=America/New_York:20251102T110000
DTSTAMP:20260423T185429
CREATED:20250818T165426Z
LAST-MODIFIED:20251103T160700Z
UID:35989-1762077600-1762081200@ctkrva.org
SUMMARY:Worship
DESCRIPTION:
URL:https://ctkrva.org/event/worship-56/
END:VEVENT
BEGIN:VEVENT
DTSTART;TZID=America/New_York:20251102T101500
DTEND;TZID=America/New_York:20251102T104500
DTSTAMP:20260423T185429
CREATED:20251028T050546Z
LAST-MODIFIED:20251103T160702Z
UID:38248-1762078500-1762080300@ctkrva.org
SUMMARY:CTK Cafe
DESCRIPTION:
URL:https://ctkrva.org/event/ctk-cafe-84/
LOCATION:After Worship
END:VEVENT
BEGIN:VEVENT
DTSTART;TZID=America/New_York:20251102T111500
DTEND;TZID=America/New_York:20251102T114500
DTSTAMP:20260423T185429
CREATED:20250818T165427Z
LAST-MODIFIED:20251103T160703Z
UID:35990-1762082100-1762083900@ctkrva.org
SUMMARY:CTK Cafe
DESCRIPTION:
URL:https://ctkrva.org/event/ctk-cafe-49/
LOCATION:After Worship
END:VEVENT
END:VCALENDAR