BEGIN:VCALENDAR
VERSION:2.0
PRODID:-//Christ The King Lutheran Church - ECPv6.15.20//NONSGML v1.0//EN
CALSCALE:GREGORIAN
METHOD:PUBLISH
X-WR-CALNAME:Christ The King Lutheran Church
X-ORIGINAL-URL:https://ctkrva.org
X-WR-CALDESC:Events for Christ The King Lutheran Church
REFRESH-INTERVAL;VALUE=DURATION:PT1H
X-Robots-Tag:noindex
X-PUBLISHED-TTL:PT1H
BEGIN:VTIMEZONE
TZID:America/New_York
BEGIN:DAYLIGHT
TZOFFSETFROM:-0500
TZOFFSETTO:-0400
TZNAME:EDT
DTSTART:20240310T070000
END:DAYLIGHT
BEGIN:STANDARD
TZOFFSETFROM:-0400
TZOFFSETTO:-0500
TZNAME:EST
DTSTART:20241103T060000
END:STANDARD
BEGIN:DAYLIGHT
TZOFFSETFROM:-0500
TZOFFSETTO:-0400
TZNAME:EDT
DTSTART:20250309T070000
END:DAYLIGHT
BEGIN:STANDARD
TZOFFSETFROM:-0400
TZOFFSETTO:-0500
TZNAME:EST
DTSTART:20251102T060000
END:STANDARD
BEGIN:DAYLIGHT
TZOFFSETFROM:-0500
TZOFFSETTO:-0400
TZNAME:EDT
DTSTART:20260308T070000
END:DAYLIGHT
BEGIN:STANDARD
TZOFFSETFROM:-0400
TZOFFSETTO:-0500
TZNAME:EST
DTSTART:20261101T060000
END:STANDARD
END:VTIMEZONE
BEGIN:VEVENT
DTSTART;VALUE=DATE:20251127
DTEND;VALUE=DATE:20251128
DTSTAMP:20260423T185431
CREATED:20250818T165615Z
LAST-MODIFIED:20251127T230557Z
UID:36037-1764201600-1764287999@ctkrva.org
SUMMARY:Thanksgiving Day - Office Closed
DESCRIPTION:
URL:https://ctkrva.org/event/thanksgiving-day-office-closed/
END:VEVENT
BEGIN:VEVENT
DTSTART;TZID=America/New_York:20251127T120000
DTEND;TZID=America/New_York:20251127T130000
DTSTAMP:20260423T185431
CREATED:20250818T165559Z
LAST-MODIFIED:20251201T163604Z
UID:36035-1764244800-1764248400@ctkrva.org
SUMMARY:ALANON (12&12)
DESCRIPTION:
URL:https://ctkrva.org/event/alanon-1212-117/
LOCATION:Fellowship Hall
END:VEVENT
BEGIN:VEVENT
DTSTART;TZID=America/New_York:20251127T183000
DTEND;TZID=America/New_York:20251127T203000
DTSTAMP:20260423T185431
CREATED:20250818T165600Z
LAST-MODIFIED:20251201T163603Z
UID:36036-1764268200-1764275400@ctkrva.org
SUMMARY:Tai Chi - John Crouse
DESCRIPTION:
URL:https://ctkrva.org/event/tai-chi-john-crouse-239/
LOCATION:Fellowship Hall
END:VEVENT
END:VCALENDAR