BEGIN:VCALENDAR
VERSION:2.0
PRODID:-//Christ The King Lutheran Church - ECPv6.15.20//NONSGML v1.0//EN
CALSCALE:GREGORIAN
METHOD:PUBLISH
X-ORIGINAL-URL:https://ctkrva.org
X-WR-CALDESC:Events for Christ The King Lutheran Church
REFRESH-INTERVAL;VALUE=DURATION:PT1H
X-Robots-Tag:noindex
X-PUBLISHED-TTL:PT1H
BEGIN:VTIMEZONE
TZID:America/New_York
BEGIN:DAYLIGHT
TZOFFSETFROM:-0500
TZOFFSETTO:-0400
TZNAME:EDT
DTSTART:20250309T070000
END:DAYLIGHT
BEGIN:STANDARD
TZOFFSETFROM:-0400
TZOFFSETTO:-0500
TZNAME:EST
DTSTART:20251102T060000
END:STANDARD
BEGIN:DAYLIGHT
TZOFFSETFROM:-0500
TZOFFSETTO:-0400
TZNAME:EDT
DTSTART:20260308T070000
END:DAYLIGHT
BEGIN:STANDARD
TZOFFSETFROM:-0400
TZOFFSETTO:-0500
TZNAME:EST
DTSTART:20261101T060000
END:STANDARD
BEGIN:DAYLIGHT
TZOFFSETFROM:-0500
TZOFFSETTO:-0400
TZNAME:EDT
DTSTART:20270314T070000
END:DAYLIGHT
BEGIN:STANDARD
TZOFFSETFROM:-0400
TZOFFSETTO:-0500
TZNAME:EST
DTSTART:20271107T060000
END:STANDARD
END:VTIMEZONE
BEGIN:VEVENT
DTSTART;TZID=America/New_York:20260611T120000
DTEND;TZID=America/New_York:20260611T130000
DTSTAMP:20260423T141504
CREATED:20251123T171309Z
LAST-MODIFIED:20260423T172205Z
UID:39006-1781179200-1781182800@ctkrva.org
SUMMARY:ALANON (12&12)
DESCRIPTION:
URL:https://ctkrva.org/event/alanon-1212-144/
LOCATION:Fellowship Hall
END:VEVENT
BEGIN:VEVENT
DTSTART;TZID=America/New_York:20260611T120000
DTEND;TZID=America/New_York:20260611T130000
DTSTAMP:20260423T141504
CREATED:20251123T171310Z
LAST-MODIFIED:20260423T172205Z
UID:39007-1781179200-1781182800@ctkrva.org
SUMMARY:Bon Air Ministers Lunch
DESCRIPTION:
URL:https://ctkrva.org/event/bon-air-ministers-lunch-22/
END:VEVENT
BEGIN:VEVENT
DTSTART;TZID=America/New_York:20260611T120000
DTEND;TZID=America/New_York:20260611T130000
DTSTAMP:20260423T141504
CREATED:20260203T164003Z
LAST-MODIFIED:20260423T172205Z
UID:40680-1781179200-1781182800@ctkrva.org
SUMMARY:CTK Luncheon
DESCRIPTION:
URL:https://ctkrva.org/event/ctk-luncheon-5/
END:VEVENT
BEGIN:VEVENT
DTSTART;TZID=America/New_York:20260611T183000
DTEND;TZID=America/New_York:20260611T203000
DTSTAMP:20260423T141504
CREATED:20251124T193043Z
LAST-MODIFIED:20260423T172217Z
UID:39032-1781202600-1781209800@ctkrva.org
SUMMARY:Tai Chi - John Crouse
DESCRIPTION:
URL:https://ctkrva.org/event/tai-chi-john-crouse-293/
LOCATION:Fellowship Hall
END:VEVENT
END:VCALENDAR