BEGIN:VCALENDAR
VERSION:2.0
PRODID:-//Christ The King Lutheran Church - ECPv6.15.20//NONSGML v1.0//EN
CALSCALE:GREGORIAN
METHOD:PUBLISH
X-WR-CALNAME:Christ The King Lutheran Church
X-ORIGINAL-URL:https://ctkrva.org
X-WR-CALDESC:Events for Christ The King Lutheran Church
REFRESH-INTERVAL;VALUE=DURATION:PT1H
X-Robots-Tag:noindex
X-PUBLISHED-TTL:PT1H
BEGIN:VTIMEZONE
TZID:America/New_York
BEGIN:DAYLIGHT
TZOFFSETFROM:-0500
TZOFFSETTO:-0400
TZNAME:EDT
DTSTART:20250309T070000
END:DAYLIGHT
BEGIN:STANDARD
TZOFFSETFROM:-0400
TZOFFSETTO:-0500
TZNAME:EST
DTSTART:20251102T060000
END:STANDARD
BEGIN:DAYLIGHT
TZOFFSETFROM:-0500
TZOFFSETTO:-0400
TZNAME:EDT
DTSTART:20260308T070000
END:DAYLIGHT
BEGIN:STANDARD
TZOFFSETFROM:-0400
TZOFFSETTO:-0500
TZNAME:EST
DTSTART:20261101T060000
END:STANDARD
BEGIN:DAYLIGHT
TZOFFSETFROM:-0500
TZOFFSETTO:-0400
TZNAME:EDT
DTSTART:20270314T070000
END:DAYLIGHT
BEGIN:STANDARD
TZOFFSETFROM:-0400
TZOFFSETTO:-0500
TZNAME:EST
DTSTART:20271107T060000
END:STANDARD
END:VTIMEZONE
BEGIN:VEVENT
DTSTART;TZID=America/New_York:20260726T100000
DTEND;TZID=America/New_York:20260726T110000
DTSTAMP:20260423T153343
CREATED:20251228T174257Z
LAST-MODIFIED:20260423T184156Z
UID:39823-1785060000-1785063600@ctkrva.org
SUMMARY:Worship
DESCRIPTION:
URL:https://ctkrva.org/event/worship-166/
END:VEVENT
BEGIN:VEVENT
DTSTART;TZID=America/New_York:20260726T111500
DTEND;TZID=America/New_York:20260726T114500
DTSTAMP:20260423T153343
CREATED:20251229T191354Z
LAST-MODIFIED:20260423T184156Z
UID:39847-1785064500-1785066300@ctkrva.org
SUMMARY:CTK Cafe
DESCRIPTION:
URL:https://ctkrva.org/event/ctk-cafe-133/
LOCATION:After Worship
END:VEVENT
END:VCALENDAR