BEGIN:VCALENDAR
VERSION:2.0
PRODID:-//Christ The King Lutheran Church - ECPv6.15.20//NONSGML v1.0//EN
CALSCALE:GREGORIAN
METHOD:PUBLISH
X-ORIGINAL-URL:https://ctkrva.org
X-WR-CALDESC:Events for Christ The King Lutheran Church
REFRESH-INTERVAL;VALUE=DURATION:PT1H
X-Robots-Tag:noindex
X-PUBLISHED-TTL:PT1H
BEGIN:VTIMEZONE
TZID:America/New_York
BEGIN:DAYLIGHT
TZOFFSETFROM:-0500
TZOFFSETTO:-0400
TZNAME:EDT
DTSTART:20250309T070000
END:DAYLIGHT
BEGIN:STANDARD
TZOFFSETFROM:-0400
TZOFFSETTO:-0500
TZNAME:EST
DTSTART:20251102T060000
END:STANDARD
BEGIN:DAYLIGHT
TZOFFSETFROM:-0500
TZOFFSETTO:-0400
TZNAME:EDT
DTSTART:20260308T070000
END:DAYLIGHT
BEGIN:STANDARD
TZOFFSETFROM:-0400
TZOFFSETTO:-0500
TZNAME:EST
DTSTART:20261101T060000
END:STANDARD
BEGIN:DAYLIGHT
TZOFFSETFROM:-0500
TZOFFSETTO:-0400
TZNAME:EDT
DTSTART:20270314T070000
END:DAYLIGHT
BEGIN:STANDARD
TZOFFSETFROM:-0400
TZOFFSETTO:-0500
TZNAME:EST
DTSTART:20271107T060000
END:STANDARD
END:VTIMEZONE
BEGIN:VEVENT
DTSTART;TZID=America/New_York:20260813T120000
DTEND;TZID=America/New_York:20260813T130000
DTSTAMP:20260423T165623
CREATED:20260116T192909Z
LAST-MODIFIED:20260423T195539Z
UID:40253-1786622400-1786626000@ctkrva.org
SUMMARY:Bon Air Ministers Lunch
DESCRIPTION:
URL:https://ctkrva.org/event/bon-air-ministers-lunch-24/
END:VEVENT
BEGIN:VEVENT
DTSTART;TZID=America/New_York:20260813T120000
DTEND;TZID=America/New_York:20260813T130000
DTSTAMP:20260423T165623
CREATED:20260117T012848Z
LAST-MODIFIED:20260423T195539Z
UID:40260-1786622400-1786626000@ctkrva.org
SUMMARY:ALANON (12&12)
DESCRIPTION:
URL:https://ctkrva.org/event/alanon-1212-153/
LOCATION:Fellowship Hall
END:VEVENT
BEGIN:VEVENT
DTSTART;TZID=America/New_York:20260813T120000
DTEND;TZID=America/New_York:20260813T130000
DTSTAMP:20260423T165623
CREATED:20260203T164250Z
LAST-MODIFIED:20260423T195539Z
UID:40682-1786622400-1786626000@ctkrva.org
SUMMARY:CTK Luncheon
DESCRIPTION:
URL:https://ctkrva.org/event/ctk-luncheon-7/
END:VEVENT
BEGIN:VEVENT
DTSTART;TZID=America/New_York:20260813T183000
DTEND;TZID=America/New_York:20260813T203000
DTSTAMP:20260423T165623
CREATED:20260118T172035Z
LAST-MODIFIED:20260423T195557Z
UID:40295-1786645800-1786653000@ctkrva.org
SUMMARY:Tai Chi - John Crouse
DESCRIPTION:
URL:https://ctkrva.org/event/tai-chi-john-crouse-311/
LOCATION:Fellowship Hall
END:VEVENT
END:VCALENDAR