BEGIN:VCALENDAR
VERSION:2.0
PRODID:-//Christ The King Lutheran Church - ECPv6.15.20//NONSGML v1.0//EN
CALSCALE:GREGORIAN
METHOD:PUBLISH
X-WR-CALNAME:Christ The King Lutheran Church
X-ORIGINAL-URL:https://ctkrva.org
X-WR-CALDESC:Events for Christ The King Lutheran Church
REFRESH-INTERVAL;VALUE=DURATION:PT1H
X-Robots-Tag:noindex
X-PUBLISHED-TTL:PT1H
BEGIN:VTIMEZONE
TZID:America/New_York
BEGIN:DAYLIGHT
TZOFFSETFROM:-0500
TZOFFSETTO:-0400
TZNAME:EDT
DTSTART:20250309T070000
END:DAYLIGHT
BEGIN:STANDARD
TZOFFSETFROM:-0400
TZOFFSETTO:-0500
TZNAME:EST
DTSTART:20251102T060000
END:STANDARD
BEGIN:DAYLIGHT
TZOFFSETFROM:-0500
TZOFFSETTO:-0400
TZNAME:EDT
DTSTART:20260308T070000
END:DAYLIGHT
BEGIN:STANDARD
TZOFFSETFROM:-0400
TZOFFSETTO:-0500
TZNAME:EST
DTSTART:20261101T060000
END:STANDARD
BEGIN:DAYLIGHT
TZOFFSETFROM:-0500
TZOFFSETTO:-0400
TZNAME:EDT
DTSTART:20270314T070000
END:DAYLIGHT
BEGIN:STANDARD
TZOFFSETFROM:-0400
TZOFFSETTO:-0500
TZNAME:EST
DTSTART:20271107T060000
END:STANDARD
END:VTIMEZONE
BEGIN:VEVENT
DTSTART;TZID=America/New_York:20260305T190000
DTEND;TZID=America/New_York:20260305T200000
DTSTAMP:20260423T153814
CREATED:20260219T142107Z
LAST-MODIFIED:20260306T003704Z
UID:41041-1772737200-1772740800@ctkrva.org
SUMMARY:Choir
DESCRIPTION:
URL:https://ctkrva.org/event/choir-24/
END:VEVENT
BEGIN:VEVENT
DTSTART;TZID=America/New_York:20260305T183000
DTEND;TZID=America/New_York:20260305T203000
DTSTAMP:20260423T153814
CREATED:20250910T192641Z
LAST-MODIFIED:20260306T003704Z
UID:37083-1772735400-1772742600@ctkrva.org
SUMMARY:Tai Chi - John Crouse
DESCRIPTION:
URL:https://ctkrva.org/event/tai-chi-john-crouse-265/
LOCATION:Fellowship Hall
END:VEVENT
BEGIN:VEVENT
DTSTART;TZID=America/New_York:20260305T120000
DTEND;TZID=America/New_York:20260305T130000
DTSTAMP:20260423T153814
CREATED:20250910T192640Z
LAST-MODIFIED:20260305T170511Z
UID:37082-1772712000-1772715600@ctkrva.org
SUMMARY:ALANON (12&12)
DESCRIPTION:
URL:https://ctkrva.org/event/alanon-1212-130/
LOCATION:Fellowship Hall
END:VEVENT
BEGIN:VEVENT
DTSTART;TZID=America/New_York:20260303T183000
DTEND;TZID=America/New_York:20260303T203000
DTSTAMP:20260423T153814
CREATED:20250910T192639Z
LAST-MODIFIED:20260304T010849Z
UID:37081-1772562600-1772569800@ctkrva.org
SUMMARY:Tai Chi - John Crouse
DESCRIPTION:
URL:https://ctkrva.org/event/tai-chi-john-crouse-264/
LOCATION:Fellowship Hall
END:VEVENT
BEGIN:VEVENT
DTSTART;TZID=America/New_York:20260302T130000
DTEND;TZID=America/New_York:20260302T140000
DTSTAMP:20260423T153814
CREATED:20250910T192637Z
LAST-MODIFIED:20260302T180518Z
UID:37080-1772456400-1772460000@ctkrva.org
SUMMARY:AA
DESCRIPTION:
URL:https://ctkrva.org/event/aa-264/
LOCATION:Fellowship Hall
END:VEVENT
BEGIN:VEVENT
DTSTART;TZID=America/New_York:20260301T111500
DTEND;TZID=America/New_York:20260301T114500
DTSTAMP:20260423T153814
CREATED:20250910T011146Z
LAST-MODIFIED:20260301T161004Z
UID:37062-1772363700-1772365500@ctkrva.org
SUMMARY:CTK Cafe
DESCRIPTION:
URL:https://ctkrva.org/event/ctk-cafe-67/
LOCATION:After Worship
END:VEVENT
BEGIN:VEVENT
DTSTART;TZID=America/New_York:20260301T101500
DTEND;TZID=America/New_York:20260301T104500
DTSTAMP:20260423T153814
CREATED:20251028T051117Z
LAST-MODIFIED:20260303T023039Z
UID:38282-1772360100-1772361900@ctkrva.org
SUMMARY:CTK Cafe
DESCRIPTION:
URL:https://ctkrva.org/event/ctk-cafe-106/
LOCATION:After Worship
END:VEVENT
BEGIN:VEVENT
DTSTART;TZID=America/New_York:20260301T100000
DTEND;TZID=America/New_York:20260301T110000
DTSTAMP:20260423T153814
CREATED:20250909T162710Z
LAST-MODIFIED:20260301T145107Z
UID:37053-1772359200-1772362800@ctkrva.org
SUMMARY:Worship
DESCRIPTION:
URL:https://ctkrva.org/event/worship-113/
END:VEVENT
BEGIN:VEVENT
DTSTART;TZID=America/New_York:20260301T090000
DTEND;TZID=America/New_York:20260301T100000
DTSTAMP:20260423T153814
CREATED:20251028T051116Z
LAST-MODIFIED:20260303T023039Z
UID:38281-1772355600-1772359200@ctkrva.org
SUMMARY:Worship
DESCRIPTION:
URL:https://ctkrva.org/event/worship-143/
END:VEVENT
BEGIN:VEVENT
DTSTART;TZID=America/New_York:20260301T000000
DTEND;TZID=America/New_York:20260302T000000
DTSTAMP:20260423T153814
CREATED:20251008T044242Z
LAST-MODIFIED:20260303T023039Z
UID:37768-1772323200-1772409600@ctkrva.org
SUMMARY:Food Pantry Sunday
DESCRIPTION:
URL:https://ctkrva.org/event/food-pantry-sunday-35/
END:VEVENT
BEGIN:VEVENT
DTSTART;VALUE=DATE:20260301
DTEND;VALUE=DATE:20260302
DTSTAMP:20260423T153814
CREATED:20250908T191146Z
LAST-MODIFIED:20260301T233539Z
UID:37032-1772323200-1772409599@ctkrva.org
SUMMARY:Food Pantry Sunday
DESCRIPTION:
URL:https://ctkrva.org/event/food-pantry-sunday-28/
END:VEVENT
BEGIN:VEVENT
DTSTART;TZID=America/New_York:20260227T190000
DTEND;TZID=America/New_York:20260227T200000
DTSTAMP:20260423T153814
CREATED:20250908T011148Z
LAST-MODIFIED:20260228T000531Z
UID:37014-1772218800-1772222400@ctkrva.org
SUMMARY:NarAnon
DESCRIPTION:
URL:https://ctkrva.org/event/naranon-92/
LOCATION:Gathering Space
END:VEVENT
BEGIN:VEVENT
DTSTART;TZID=America/New_York:20260227T130000
DTEND;TZID=America/New_York:20260227T140000
DTSTAMP:20260423T153814
CREATED:20250908T011146Z
LAST-MODIFIED:20260227T175112Z
UID:37013-1772197200-1772200800@ctkrva.org
SUMMARY:AA
DESCRIPTION:
URL:https://ctkrva.org/event/aa-263/
LOCATION:Fellowship Hall
END:VEVENT
BEGIN:VEVENT
DTSTART;TZID=America/New_York:20260226T190000
DTEND;TZID=America/New_York:20260226T200000
DTSTAMP:20260423T153814
CREATED:20260219T142051Z
LAST-MODIFIED:20260227T003704Z
UID:41040-1772132400-1772136000@ctkrva.org
SUMMARY:Choir
DESCRIPTION:
URL:https://ctkrva.org/event/choir-23/
END:VEVENT
BEGIN:VEVENT
DTSTART;TZID=America/New_York:20260226T183000
DTEND;TZID=America/New_York:20260226T203000
DTSTAMP:20260423T153814
CREATED:20250907T162646Z
LAST-MODIFIED:20260227T003704Z
UID:37004-1772130600-1772137800@ctkrva.org
SUMMARY:Tai Chi - John Crouse
DESCRIPTION:
URL:https://ctkrva.org/event/tai-chi-john-crouse-263/
LOCATION:Fellowship Hall
END:VEVENT
BEGIN:VEVENT
DTSTART;TZID=America/New_York:20260226T120000
DTEND;TZID=America/New_York:20260226T130000
DTSTAMP:20260423T153814
CREATED:20250907T151143Z
LAST-MODIFIED:20260226T170619Z
UID:37001-1772107200-1772110800@ctkrva.org
SUMMARY:ALANON (12&12)
DESCRIPTION:
URL:https://ctkrva.org/event/alanon-1212-129/
LOCATION:Fellowship Hall
END:VEVENT
BEGIN:VEVENT
DTSTART;TZID=America/New_York:20260225T133000
DTEND;TZID=America/New_York:20260225T143000
DTSTAMP:20260423T153814
CREATED:20250906T004238Z
LAST-MODIFIED:20260303T023039Z
UID:36968-1772026200-1772029800@ctkrva.org
SUMMARY:Intercessory Prayer Service
DESCRIPTION:
URL:https://ctkrva.org/event/intercessory-prayer-service-29/
END:VEVENT
BEGIN:VEVENT
DTSTART;TZID=America/New_York:20260224T183000
DTEND;TZID=America/New_York:20260224T203000
DTSTAMP:20260423T153814
CREATED:20250905T182700Z
LAST-MODIFIED:20260225T012434Z
UID:36961-1771957800-1771965000@ctkrva.org
SUMMARY:Tai Chi - John Crouse
DESCRIPTION:
URL:https://ctkrva.org/event/tai-chi-john-crouse-262/
LOCATION:Fellowship Hall
END:VEVENT
BEGIN:VEVENT
DTSTART;TZID=America/New_York:20260224T100000
DTEND;TZID=America/New_York:20260224T120000
DTSTAMP:20260423T153814
CREATED:20250905T021203Z
LAST-MODIFIED:20260224T163519Z
UID:36946-1771927200-1771934400@ctkrva.org
SUMMARY:Circle of Faith
DESCRIPTION:
URL:https://ctkrva.org/event/circle-of-faith-51/
END:VEVENT
BEGIN:VEVENT
DTSTART;TZID=America/New_York:20260223T130000
DTEND;TZID=America/New_York:20260223T140000
DTSTAMP:20260423T153814
CREATED:20250903T201145Z
LAST-MODIFIED:20260223T180510Z
UID:36918-1771851600-1771855200@ctkrva.org
SUMMARY:AA
DESCRIPTION:
URL:https://ctkrva.org/event/aa-262/
LOCATION:Fellowship Hall
END:VEVENT
BEGIN:VEVENT
DTSTART;TZID=America/New_York:20260223T120000
DTEND;TZID=America/New_York:20260223T130000
DTSTAMP:20260423T153814
CREATED:20250904T172648Z
LAST-MODIFIED:20260223T154330Z
UID:36937-1771848000-1771851600@ctkrva.org
SUMMARY:Executive Team
DESCRIPTION:
URL:https://ctkrva.org/event/executive-team-62/
END:VEVENT
BEGIN:VEVENT
DTSTART;TZID=America/New_York:20260222T111500
DTEND;TZID=America/New_York:20260222T114500
DTSTAMP:20260423T153814
CREATED:20250903T004225Z
LAST-MODIFIED:20260222T163545Z
UID:36900-1771758900-1771760700@ctkrva.org
SUMMARY:CTK Cafe
DESCRIPTION:
URL:https://ctkrva.org/event/ctk-cafe-66/
LOCATION:After Worship
END:VEVENT
BEGIN:VEVENT
DTSTART;TZID=America/New_York:20260222T101500
DTEND;TZID=America/New_York:20260222T104500
DTSTAMP:20260423T153814
CREATED:20251028T051057Z
LAST-MODIFIED:20260223T154331Z
UID:38280-1771755300-1771757100@ctkrva.org
SUMMARY:CTK Cafe
DESCRIPTION:
URL:https://ctkrva.org/event/ctk-cafe-105/
LOCATION:After Worship
END:VEVENT
BEGIN:VEVENT
DTSTART;TZID=America/New_York:20260222T100000
DTEND;TZID=America/New_York:20260222T110000
DTSTAMP:20260423T153814
CREATED:20250902T141201Z
LAST-MODIFIED:20260222T152605Z
UID:36887-1771754400-1771758000@ctkrva.org
SUMMARY:Worship
DESCRIPTION:
URL:https://ctkrva.org/event/worship-112/
END:VEVENT
BEGIN:VEVENT
DTSTART;TZID=America/New_York:20260222T090000
DTEND;TZID=America/New_York:20260222T100000
DTSTAMP:20260423T153814
CREATED:20251028T051056Z
LAST-MODIFIED:20260223T154331Z
UID:38279-1771750800-1771754400@ctkrva.org
SUMMARY:Worship
DESCRIPTION:
URL:https://ctkrva.org/event/worship-142/
END:VEVENT
BEGIN:VEVENT
DTSTART;TZID=America/New_York:20260220T190000
DTEND;TZID=America/New_York:20260220T200000
DTSTAMP:20260423T153814
CREATED:20250902T141200Z
LAST-MODIFIED:20260221T005155Z
UID:36886-1771614000-1771617600@ctkrva.org
SUMMARY:NarAnon
DESCRIPTION:
URL:https://ctkrva.org/event/naranon-91/
LOCATION:Gathering Space
END:VEVENT
BEGIN:VEVENT
DTSTART;TZID=America/New_York:20260220T130000
DTEND;TZID=America/New_York:20260220T140000
DTSTAMP:20260423T153814
CREATED:20250902T004150Z
LAST-MODIFIED:20260220T185018Z
UID:36873-1771592400-1771596000@ctkrva.org
SUMMARY:AA
DESCRIPTION:
URL:https://ctkrva.org/event/aa-261/
LOCATION:Fellowship Hall
END:VEVENT
BEGIN:VEVENT
DTSTART;TZID=America/New_York:20260219T183000
DTEND;TZID=America/New_York:20260219T203000
DTSTAMP:20260423T153814
CREATED:20250901T211145Z
LAST-MODIFIED:20260220T002046Z
UID:36868-1771525800-1771533000@ctkrva.org
SUMMARY:Tai Chi - John Crouse
DESCRIPTION:
URL:https://ctkrva.org/event/tai-chi-john-crouse-261/
LOCATION:Fellowship Hall
END:VEVENT
BEGIN:VEVENT
DTSTART;TZID=America/New_York:20260219T120000
DTEND;TZID=America/New_York:20260219T130000
DTSTAMP:20260423T153814
CREATED:20250831T202702Z
LAST-MODIFIED:20260219T165140Z
UID:36845-1771502400-1771506000@ctkrva.org
SUMMARY:ALANON (12&12)
DESCRIPTION:
URL:https://ctkrva.org/event/alanon-1212-128/
LOCATION:Fellowship Hall
END:VEVENT
BEGIN:VEVENT
DTSTART;TZID=America/New_York:20260217T190000
DTEND;TZID=America/New_York:20260217T210000
DTSTAMP:20260423T153814
CREATED:20250831T155655Z
LAST-MODIFIED:20260218T015124Z
UID:36838-1771354800-1771362000@ctkrva.org
SUMMARY:Church Council
DESCRIPTION:
URL:https://ctkrva.org/event/church-council-31/
END:VEVENT
END:VCALENDAR