BEGIN:VCALENDAR
VERSION:2.0
PRODID:-//Christ The King Lutheran Church - ECPv6.15.20//NONSGML v1.0//EN
CALSCALE:GREGORIAN
METHOD:PUBLISH
X-WR-CALNAME:Christ The King Lutheran Church
X-ORIGINAL-URL:https://ctkrva.org
X-WR-CALDESC:Events for Christ The King Lutheran Church
REFRESH-INTERVAL;VALUE=DURATION:PT1H
X-Robots-Tag:noindex
X-PUBLISHED-TTL:PT1H
BEGIN:VTIMEZONE
TZID:America/New_York
BEGIN:DAYLIGHT
TZOFFSETFROM:-0500
TZOFFSETTO:-0400
TZNAME:EDT
DTSTART:20250309T070000
END:DAYLIGHT
BEGIN:STANDARD
TZOFFSETFROM:-0400
TZOFFSETTO:-0500
TZNAME:EST
DTSTART:20251102T060000
END:STANDARD
BEGIN:DAYLIGHT
TZOFFSETFROM:-0500
TZOFFSETTO:-0400
TZNAME:EDT
DTSTART:20260308T070000
END:DAYLIGHT
BEGIN:STANDARD
TZOFFSETFROM:-0400
TZOFFSETTO:-0500
TZNAME:EST
DTSTART:20261101T060000
END:STANDARD
BEGIN:DAYLIGHT
TZOFFSETFROM:-0500
TZOFFSETTO:-0400
TZNAME:EDT
DTSTART:20270314T070000
END:DAYLIGHT
BEGIN:STANDARD
TZOFFSETFROM:-0400
TZOFFSETTO:-0500
TZNAME:EST
DTSTART:20271107T060000
END:STANDARD
END:VTIMEZONE
BEGIN:VEVENT
DTSTART;VALUE=DATE:20260104
DTEND;VALUE=DATE:20260105
DTSTAMP:20260423T183412
CREATED:20250818T165834Z
LAST-MODIFIED:20260104T233513Z
UID:36106-1767484800-1767571199@ctkrva.org
SUMMARY:Food Pantry Sunday
DESCRIPTION:
URL:https://ctkrva.org/event/food-pantry-sunday-14/
END:VEVENT
BEGIN:VEVENT
DTSTART;TZID=America/New_York:20260104T000000
DTEND;TZID=America/New_York:20260105T000000
DTSTAMP:20260423T183412
CREATED:20251008T044016Z
LAST-MODIFIED:20260105T152254Z
UID:37766-1767484800-1767571200@ctkrva.org
SUMMARY:Food Pantry Sunday
DESCRIPTION:
URL:https://ctkrva.org/event/food-pantry-sunday-33/
END:VEVENT
BEGIN:VEVENT
DTSTART;TZID=America/New_York:20260104T090000
DTEND;TZID=America/New_York:20260104T100000
DTSTAMP:20260423T183412
CREATED:20251028T050835Z
LAST-MODIFIED:20260105T152253Z
UID:38265-1767517200-1767520800@ctkrva.org
SUMMARY:Worship
DESCRIPTION:
URL:https://ctkrva.org/event/worship-135/
END:VEVENT
BEGIN:VEVENT
DTSTART;TZID=America/New_York:20260104T100000
DTEND;TZID=America/New_York:20260104T110000
DTSTAMP:20260423T183412
CREATED:20250818T165833Z
LAST-MODIFIED:20260104T145019Z
UID:36105-1767520800-1767524400@ctkrva.org
SUMMARY:Worship
DESCRIPTION:
URL:https://ctkrva.org/event/worship-65/
END:VEVENT
BEGIN:VEVENT
DTSTART;TZID=America/New_York:20260104T101500
DTEND;TZID=America/New_York:20260104T104500
DTSTAMP:20260423T183412
CREATED:20251028T050836Z
LAST-MODIFIED:20260105T152203Z
UID:38266-1767521700-1767523500@ctkrva.org
SUMMARY:CTK Cafe
DESCRIPTION:
URL:https://ctkrva.org/event/ctk-cafe-97/
LOCATION:After Worship
END:VEVENT
BEGIN:VEVENT
DTSTART;TZID=America/New_York:20260104T111500
DTEND;TZID=America/New_York:20260104T114500
DTSTAMP:20260423T183412
CREATED:20250818T165848Z
LAST-MODIFIED:20260104T160516Z
UID:36107-1767525300-1767527100@ctkrva.org
SUMMARY:CTK Cafe
DESCRIPTION:
URL:https://ctkrva.org/event/ctk-cafe-60/
LOCATION:After Worship
END:VEVENT
BEGIN:VEVENT
DTSTART;TZID=America/New_York:20260105T130000
DTEND;TZID=America/New_York:20260105T140000
DTSTAMP:20260423T183412
CREATED:20250818T165849Z
LAST-MODIFIED:20260105T175113Z
UID:36108-1767618000-1767621600@ctkrva.org
SUMMARY:AA
DESCRIPTION:
URL:https://ctkrva.org/event/aa-250/
LOCATION:Fellowship Hall
END:VEVENT
BEGIN:VEVENT
DTSTART;TZID=America/New_York:20260106T183000
DTEND;TZID=America/New_York:20260106T203000
DTSTAMP:20260423T183412
CREATED:20250818T165850Z
LAST-MODIFIED:20260107T010548Z
UID:36109-1767724200-1767731400@ctkrva.org
SUMMARY:Tai Chi - John Crouse
DESCRIPTION:
URL:https://ctkrva.org/event/tai-chi-john-crouse-250/
LOCATION:Fellowship Hall
END:VEVENT
BEGIN:VEVENT
DTSTART;TZID=America/New_York:20260108T120000
DTEND;TZID=America/New_York:20260108T130000
DTSTAMP:20260423T183412
CREATED:20250818T165851Z
LAST-MODIFIED:20260108T170617Z
UID:36110-1767873600-1767877200@ctkrva.org
SUMMARY:ALANON (12&12)
DESCRIPTION:
URL:https://ctkrva.org/event/alanon-1212-123/
LOCATION:Fellowship Hall
END:VEVENT
BEGIN:VEVENT
DTSTART;TZID=America/New_York:20260108T120000
DTEND;TZID=America/New_York:20260108T130000
DTSTAMP:20260423T183412
CREATED:20250911T205520Z
LAST-MODIFIED:20260108T170617Z
UID:37141-1767873600-1767877200@ctkrva.org
SUMMARY:Bon Air Ministers Lunch
DESCRIPTION:
URL:https://ctkrva.org/event/bon-air-ministers-lunch-17/
END:VEVENT
BEGIN:VEVENT
DTSTART;TZID=America/New_York:20260108T183000
DTEND;TZID=America/New_York:20260108T203000
DTSTAMP:20260423T183412
CREATED:20250818T165852Z
LAST-MODIFIED:20260109T003702Z
UID:36111-1767897000-1767904200@ctkrva.org
SUMMARY:Tai Chi - John Crouse
DESCRIPTION:
URL:https://ctkrva.org/event/tai-chi-john-crouse-251/
LOCATION:Fellowship Hall
END:VEVENT
BEGIN:VEVENT
DTSTART;TZID=America/New_York:20260109T130000
DTEND;TZID=America/New_York:20260109T140000
DTSTAMP:20260423T183412
CREATED:20250818T165853Z
LAST-MODIFIED:20260109T180623Z
UID:36112-1767963600-1767967200@ctkrva.org
SUMMARY:AA
DESCRIPTION:
URL:https://ctkrva.org/event/aa-251/
LOCATION:Fellowship Hall
END:VEVENT
BEGIN:VEVENT
DTSTART;TZID=America/New_York:20260109T190000
DTEND;TZID=America/New_York:20260109T200000
DTSTAMP:20260423T183412
CREATED:20250818T165854Z
LAST-MODIFIED:20260109T230609Z
UID:36113-1767985200-1767988800@ctkrva.org
SUMMARY:NarAnon
DESCRIPTION:
URL:https://ctkrva.org/event/naranon-86/
LOCATION:Gathering Space
END:VEVENT
BEGIN:VEVENT
DTSTART;TZID=America/New_York:20260111T090000
DTEND;TZID=America/New_York:20260111T100000
DTSTAMP:20260423T183413
CREATED:20251028T050837Z
LAST-MODIFIED:20260112T160119Z
UID:38267-1768122000-1768125600@ctkrva.org
SUMMARY:Worship
DESCRIPTION:
URL:https://ctkrva.org/event/worship-136/
END:VEVENT
BEGIN:VEVENT
DTSTART;TZID=America/New_York:20260111T100000
DTEND;TZID=America/New_York:20260111T110000
DTSTAMP:20260423T183413
CREATED:20250818T165855Z
LAST-MODIFIED:20260111T155028Z
UID:36114-1768125600-1768129200@ctkrva.org
SUMMARY:Worship
DESCRIPTION:
URL:https://ctkrva.org/event/worship-66/
END:VEVENT
BEGIN:VEVENT
DTSTART;TZID=America/New_York:20260111T101500
DTEND;TZID=America/New_York:20260111T104500
DTSTAMP:20260423T183413
CREATED:20251028T050856Z
LAST-MODIFIED:20260112T160118Z
UID:38268-1768126500-1768128300@ctkrva.org
SUMMARY:CTK Cafe
DESCRIPTION:
URL:https://ctkrva.org/event/ctk-cafe-98/
LOCATION:After Worship
END:VEVENT
BEGIN:VEVENT
DTSTART;TZID=America/New_York:20260111T111500
DTEND;TZID=America/New_York:20260111T114500
DTSTAMP:20260423T183413
CREATED:20250818T165856Z
LAST-MODIFIED:20260111T155028Z
UID:36115-1768130100-1768131900@ctkrva.org
SUMMARY:CTK Cafe
DESCRIPTION:
URL:https://ctkrva.org/event/ctk-cafe-61/
LOCATION:After Worship
END:VEVENT
BEGIN:VEVENT
DTSTART;TZID=America/New_York:20260111T120000
DTEND;TZID=America/New_York:20260111T140000
DTSTAMP:20260423T183413
CREATED:20260106T150641Z
LAST-MODIFIED:20260111T182020Z
UID:40022-1768132800-1768140000@ctkrva.org
SUMMARY:Worship & Music Team
DESCRIPTION:
URL:https://ctkrva.org/event/worship-music-team-2/
LOCATION:Gathering Space
END:VEVENT
BEGIN:VEVENT
DTSTART;TZID=America/New_York:20260111T150000
DTEND;TZID=America/New_York:20260111T170000
DTSTAMP:20260423T183413
CREATED:20260106T150643Z
LAST-MODIFIED:20260111T215513Z
UID:40023-1768143600-1768150800@ctkrva.org
SUMMARY:Dave Delaney Winter Celebration Meeting
DESCRIPTION:
URL:https://ctkrva.org/event/dave-delaney-winter-celebration-meeting/
LOCATION:Flexible
END:VEVENT
BEGIN:VEVENT
DTSTART;TZID=America/New_York:20260112T120000
DTEND;TZID=America/New_York:20260112T130000
DTSTAMP:20260423T183413
CREATED:20250818T165856Z
LAST-MODIFIED:20260112T172302Z
UID:36116-1768219200-1768222800@ctkrva.org
SUMMARY:Executive Team
DESCRIPTION:
URL:https://ctkrva.org/event/executive-team-59/
END:VEVENT
BEGIN:VEVENT
DTSTART;TZID=America/New_York:20260112T130000
DTEND;TZID=America/New_York:20260112T140000
DTSTAMP:20260423T183413
CREATED:20250818T165910Z
LAST-MODIFIED:20260112T183651Z
UID:36117-1768222800-1768226400@ctkrva.org
SUMMARY:AA
DESCRIPTION:
URL:https://ctkrva.org/event/aa-252/
LOCATION:Fellowship Hall
END:VEVENT
BEGIN:VEVENT
DTSTART;TZID=America/New_York:20260113T100000
DTEND;TZID=America/New_York:20260113T120000
DTSTAMP:20260423T183413
CREATED:20250818T165911Z
LAST-MODIFIED:20260113T155022Z
UID:36118-1768298400-1768305600@ctkrva.org
SUMMARY:Circle of Faith
DESCRIPTION:
URL:https://ctkrva.org/event/circle-of-faith-48/
END:VEVENT
BEGIN:VEVENT
DTSTART;TZID=America/New_York:20260113T100000
DTEND;TZID=America/New_York:20260113T120000
DTSTAMP:20260423T183413
CREATED:20250818T165912Z
LAST-MODIFIED:20260113T155022Z
UID:36119-1768298400-1768305600@ctkrva.org
SUMMARY:Richmond Conference Meeting
DESCRIPTION:
URL:https://ctkrva.org/event/richmond-conference-meeting-28/
END:VEVENT
BEGIN:VEVENT
DTSTART;TZID=America/New_York:20260113T183000
DTEND;TZID=America/New_York:20260113T203000
DTSTAMP:20260423T183413
CREATED:20250818T165913Z
LAST-MODIFIED:20260114T002036Z
UID:36120-1768329000-1768336200@ctkrva.org
SUMMARY:Tai Chi - John Crouse
DESCRIPTION:
URL:https://ctkrva.org/event/tai-chi-john-crouse-252/
LOCATION:Fellowship Hall
END:VEVENT
BEGIN:VEVENT
DTSTART;TZID=America/New_York:20260115T120000
DTEND;TZID=America/New_York:20260115T130000
DTSTAMP:20260423T183413
CREATED:20250818T165914Z
LAST-MODIFIED:20260115T172033Z
UID:36121-1768478400-1768482000@ctkrva.org
SUMMARY:ALANON (12&12)
DESCRIPTION:
URL:https://ctkrva.org/event/alanon-1212-124/
LOCATION:Fellowship Hall
END:VEVENT
BEGIN:VEVENT
DTSTART;TZID=America/New_York:20260115T183000
DTEND;TZID=America/New_York:20260115T203000
DTSTAMP:20260423T183413
CREATED:20250818T165915Z
LAST-MODIFIED:20260116T005108Z
UID:36122-1768501800-1768509000@ctkrva.org
SUMMARY:Tai Chi - John Crouse
DESCRIPTION:
URL:https://ctkrva.org/event/tai-chi-john-crouse-253/
LOCATION:Fellowship Hall
END:VEVENT
BEGIN:VEVENT
DTSTART;TZID=America/New_York:20260116T130000
DTEND;TZID=America/New_York:20260116T140000
DTSTAMP:20260423T183413
CREATED:20250818T165915Z
LAST-MODIFIED:20260116T180524Z
UID:36123-1768568400-1768572000@ctkrva.org
SUMMARY:AA
DESCRIPTION:
URL:https://ctkrva.org/event/aa-253/
LOCATION:Fellowship Hall
END:VEVENT
BEGIN:VEVENT
DTSTART;TZID=America/New_York:20260116T190000
DTEND;TZID=America/New_York:20260116T200000
DTSTAMP:20260423T183413
CREATED:20250818T165916Z
LAST-MODIFIED:20260117T000526Z
UID:36124-1768590000-1768593600@ctkrva.org
SUMMARY:NarAnon
DESCRIPTION:
URL:https://ctkrva.org/event/naranon-87/
LOCATION:Gathering Space
END:VEVENT
BEGIN:VEVENT
DTSTART;TZID=America/New_York:20260118T090000
DTEND;TZID=America/New_York:20260118T100000
DTSTAMP:20260423T183413
CREATED:20251028T050916Z
LAST-MODIFIED:20260119T165907Z
UID:38269-1768726800-1768730400@ctkrva.org
SUMMARY:Worship
DESCRIPTION:
URL:https://ctkrva.org/event/worship-137/
END:VEVENT
BEGIN:VEVENT
DTSTART;TZID=America/New_York:20260118T100000
DTEND;TZID=America/New_York:20260118T110000
DTSTAMP:20260423T183413
CREATED:20250818T165917Z
LAST-MODIFIED:20260118T155132Z
UID:36125-1768730400-1768734000@ctkrva.org
SUMMARY:Worship
DESCRIPTION:
URL:https://ctkrva.org/event/worship-67/
END:VEVENT
END:VCALENDAR