BEGIN:VCALENDAR
VERSION:2.0
PRODID:-//Christ The King Lutheran Church - ECPv6.15.20//NONSGML v1.0//EN
CALSCALE:GREGORIAN
METHOD:PUBLISH
X-WR-CALNAME:Christ The King Lutheran Church
X-ORIGINAL-URL:https://ctkrva.org
X-WR-CALDESC:Events for Christ The King Lutheran Church
REFRESH-INTERVAL;VALUE=DURATION:PT1H
X-Robots-Tag:noindex
X-PUBLISHED-TTL:PT1H
BEGIN:VTIMEZONE
TZID:America/New_York
BEGIN:DAYLIGHT
TZOFFSETFROM:-0500
TZOFFSETTO:-0400
TZNAME:EDT
DTSTART:20250309T070000
END:DAYLIGHT
BEGIN:STANDARD
TZOFFSETFROM:-0400
TZOFFSETTO:-0500
TZNAME:EST
DTSTART:20251102T060000
END:STANDARD
BEGIN:DAYLIGHT
TZOFFSETFROM:-0500
TZOFFSETTO:-0400
TZNAME:EDT
DTSTART:20260308T070000
END:DAYLIGHT
BEGIN:STANDARD
TZOFFSETFROM:-0400
TZOFFSETTO:-0500
TZNAME:EST
DTSTART:20261101T060000
END:STANDARD
BEGIN:DAYLIGHT
TZOFFSETFROM:-0500
TZOFFSETTO:-0400
TZNAME:EDT
DTSTART:20270314T070000
END:DAYLIGHT
BEGIN:STANDARD
TZOFFSETFROM:-0400
TZOFFSETTO:-0500
TZNAME:EST
DTSTART:20271107T060000
END:STANDARD
END:VTIMEZONE
BEGIN:VEVENT
DTSTART;TZID=America/New_York:20260821T130000
DTEND;TZID=America/New_York:20260821T140000
DTSTAMP:20260423T182116
CREATED:20260121T034921Z
LAST-MODIFIED:20260423T211013Z
UID:40367-1787317200-1787320800@ctkrva.org
SUMMARY:AA
DESCRIPTION:
URL:https://ctkrva.org/event/aa-313/
LOCATION:Fellowship Hall
END:VEVENT
BEGIN:VEVENT
DTSTART;TZID=America/New_York:20260821T190000
DTEND;TZID=America/New_York:20260821T200000
DTSTAMP:20260423T182116
CREATED:20260122T190140Z
LAST-MODIFIED:20260423T211013Z
UID:40401-1787338800-1787342400@ctkrva.org
SUMMARY:NarAnon
DESCRIPTION:
URL:https://ctkrva.org/event/naranon-117/
LOCATION:Gathering Space
END:VEVENT
BEGIN:VEVENT
DTSTART;TZID=America/New_York:20260823T100000
DTEND;TZID=America/New_York:20260823T110000
DTSTAMP:20260423T182116
CREATED:20260123T023058Z
LAST-MODIFIED:20260423T211013Z
UID:40409-1787479200-1787482800@ctkrva.org
SUMMARY:Worship
DESCRIPTION:
URL:https://ctkrva.org/event/worship-170/
END:VEVENT
BEGIN:VEVENT
DTSTART;TZID=America/New_York:20260823T111500
DTEND;TZID=America/New_York:20260823T114500
DTSTAMP:20260423T182116
CREATED:20260125T165853Z
LAST-MODIFIED:20260423T211013Z
UID:40466-1787483700-1787485500@ctkrva.org
SUMMARY:CTK Cafe
DESCRIPTION:
URL:https://ctkrva.org/event/ctk-cafe-137/
LOCATION:After Worship
END:VEVENT
BEGIN:VEVENT
DTSTART;TZID=America/New_York:20260824T130000
DTEND;TZID=America/New_York:20260824T140000
DTSTAMP:20260423T182116
CREATED:20260125T165854Z
LAST-MODIFIED:20260423T211013Z
UID:40467-1787576400-1787580000@ctkrva.org
SUMMARY:AA
DESCRIPTION:
URL:https://ctkrva.org/event/aa-314/
LOCATION:Fellowship Hall
END:VEVENT
BEGIN:VEVENT
DTSTART;TZID=America/New_York:20260825T100000
DTEND;TZID=America/New_York:20260825T120000
DTSTAMP:20260423T182116
CREATED:20260126T194323Z
LAST-MODIFIED:20260423T211013Z
UID:40493-1787652000-1787659200@ctkrva.org
SUMMARY:Circle of Faith
DESCRIPTION:
URL:https://ctkrva.org/event/circle-of-faith-63/
END:VEVENT
BEGIN:VEVENT
DTSTART;TZID=America/New_York:20260825T183000
DTEND;TZID=America/New_York:20260825T203000
DTSTAMP:20260423T182116
CREATED:20260127T171646Z
LAST-MODIFIED:20260423T211013Z
UID:40512-1787682600-1787689800@ctkrva.org
SUMMARY:Tai Chi - John Crouse
DESCRIPTION:
URL:https://ctkrva.org/event/tai-chi-john-crouse-314/
LOCATION:Fellowship Hall
END:VEVENT
BEGIN:VEVENT
DTSTART;TZID=America/New_York:20260826T133000
DTEND;TZID=America/New_York:20260826T143000
DTSTAMP:20260423T182116
CREATED:20260128T015849Z
LAST-MODIFIED:20260423T211013Z
UID:40521-1787751000-1787754600@ctkrva.org
SUMMARY:Intercessory Prayer Service
DESCRIPTION:
URL:https://ctkrva.org/event/intercessory-prayer-service-35/
END:VEVENT
BEGIN:VEVENT
DTSTART;TZID=America/New_York:20260827T120000
DTEND;TZID=America/New_York:20260827T130000
DTSTAMP:20260423T182116
CREATED:20260128T204342Z
LAST-MODIFIED:20260423T211013Z
UID:40538-1787832000-1787835600@ctkrva.org
SUMMARY:ALANON (12&12)
DESCRIPTION:
URL:https://ctkrva.org/event/alanon-1212-155/
LOCATION:Fellowship Hall
END:VEVENT
BEGIN:VEVENT
DTSTART;TZID=America/New_York:20260827T183000
DTEND;TZID=America/New_York:20260827T203000
DTSTAMP:20260423T182116
CREATED:20260129T185804Z
LAST-MODIFIED:20260423T211013Z
UID:40558-1787855400-1787862600@ctkrva.org
SUMMARY:Tai Chi - John Crouse
DESCRIPTION:
URL:https://ctkrva.org/event/tai-chi-john-crouse-315/
LOCATION:Fellowship Hall
END:VEVENT
BEGIN:VEVENT
DTSTART;TZID=America/New_York:20260828T130000
DTEND;TZID=America/New_York:20260828T140000
DTSTAMP:20260423T182116
CREATED:20260130T022937Z
LAST-MODIFIED:20260423T211031Z
UID:40566-1787922000-1787925600@ctkrva.org
SUMMARY:AA
DESCRIPTION:
URL:https://ctkrva.org/event/aa-315/
LOCATION:Fellowship Hall
END:VEVENT
BEGIN:VEVENT
DTSTART;TZID=America/New_York:20260828T190000
DTEND;TZID=America/New_York:20260828T200000
DTSTAMP:20260423T182116
CREATED:20260130T193057Z
LAST-MODIFIED:20260423T211032Z
UID:40582-1787943600-1787947200@ctkrva.org
SUMMARY:NarAnon
DESCRIPTION:
URL:https://ctkrva.org/event/naranon-118/
LOCATION:Gathering Space
END:VEVENT
BEGIN:VEVENT
DTSTART;TZID=America/New_York:20260830T100000
DTEND;TZID=America/New_York:20260830T110000
DTSTAMP:20260423T182116
CREATED:20260131T025805Z
LAST-MODIFIED:20260423T211032Z
UID:40590-1788084000-1788087600@ctkrva.org
SUMMARY:Worship
DESCRIPTION:
URL:https://ctkrva.org/event/worship-171/
END:VEVENT
BEGIN:VEVENT
DTSTART;TZID=America/New_York:20260830T111500
DTEND;TZID=America/New_York:20260830T114500
DTSTAMP:20260423T182116
CREATED:20260131T164446Z
LAST-MODIFIED:20260423T211032Z
UID:40603-1788088500-1788090300@ctkrva.org
SUMMARY:CTK Cafe
DESCRIPTION:
URL:https://ctkrva.org/event/ctk-cafe-138/
LOCATION:After Worship
END:VEVENT
BEGIN:VEVENT
DTSTART;TZID=America/New_York:20260831T130000
DTEND;TZID=America/New_York:20260831T140000
DTSTAMP:20260423T182116
CREATED:20260201T161529Z
LAST-MODIFIED:20260423T211032Z
UID:40624-1788181200-1788184800@ctkrva.org
SUMMARY:AA
DESCRIPTION:
URL:https://ctkrva.org/event/aa-316/
LOCATION:Fellowship Hall
END:VEVENT
BEGIN:VEVENT
DTSTART;TZID=America/New_York:20260901T183000
DTEND;TZID=America/New_York:20260901T203000
DTSTAMP:20260423T182116
CREATED:20260201T173152Z
LAST-MODIFIED:20260423T211032Z
UID:40627-1788287400-1788294600@ctkrva.org
SUMMARY:Tai Chi - John Crouse
DESCRIPTION:
URL:https://ctkrva.org/event/tai-chi-john-crouse-316/
LOCATION:Fellowship Hall
END:VEVENT
BEGIN:VEVENT
DTSTART;TZID=America/New_York:20260903T120000
DTEND;TZID=America/New_York:20260903T130000
DTSTAMP:20260423T182116
CREATED:20260202T005828Z
LAST-MODIFIED:20260423T211032Z
UID:40635-1788436800-1788440400@ctkrva.org
SUMMARY:ALANON (12&12)
DESCRIPTION:
URL:https://ctkrva.org/event/alanon-1212-156/
LOCATION:Fellowship Hall
END:VEVENT
BEGIN:VEVENT
DTSTART;TZID=America/New_York:20260903T183000
DTEND;TZID=America/New_York:20260903T203000
DTSTAMP:20260423T182116
CREATED:20260202T192808Z
LAST-MODIFIED:20260423T211032Z
UID:40653-1788460200-1788467400@ctkrva.org
SUMMARY:Tai Chi - John Crouse
DESCRIPTION:
URL:https://ctkrva.org/event/tai-chi-john-crouse-317/
LOCATION:Fellowship Hall
END:VEVENT
BEGIN:VEVENT
DTSTART;TZID=America/New_York:20260904T130000
DTEND;TZID=America/New_York:20260904T140000
DTSTAMP:20260423T182116
CREATED:20260208T184559Z
LAST-MODIFIED:20260423T211032Z
UID:40790-1788526800-1788530400@ctkrva.org
SUMMARY:AA
DESCRIPTION:
URL:https://ctkrva.org/event/aa-317/
LOCATION:Fellowship Hall
END:VEVENT
BEGIN:VEVENT
DTSTART;TZID=America/New_York:20260904T190000
DTEND;TZID=America/New_York:20260904T200000
DTSTAMP:20260423T182116
CREATED:20260208T222826Z
LAST-MODIFIED:20260423T211032Z
UID:40795-1788548400-1788552000@ctkrva.org
SUMMARY:NarAnon
DESCRIPTION:
URL:https://ctkrva.org/event/naranon-119/
LOCATION:Gathering Space
END:VEVENT
BEGIN:VEVENT
DTSTART;VALUE=DATE:20260906
DTEND;VALUE=DATE:20260907
DTSTAMP:20260423T182116
CREATED:20260209T201352Z
LAST-MODIFIED:20260423T211051Z
UID:40816-1788652800-1788739199@ctkrva.org
SUMMARY:Food Pantry Sunday
DESCRIPTION:
URL:https://ctkrva.org/event/food-pantry-sunday-42/
END:VEVENT
BEGIN:VEVENT
DTSTART;TZID=America/New_York:20260906T100000
DTEND;TZID=America/New_York:20260906T110000
DTSTAMP:20260423T182116
CREATED:20260210T172813Z
LAST-MODIFIED:20260423T211051Z
UID:40835-1788688800-1788692400@ctkrva.org
SUMMARY:Worship
DESCRIPTION:
URL:https://ctkrva.org/event/worship-172/
END:VEVENT
BEGIN:VEVENT
DTSTART;TZID=America/New_York:20260906T111500
DTEND;TZID=America/New_York:20260906T114500
DTSTAMP:20260423T182116
CREATED:20260210T172814Z
LAST-MODIFIED:20260423T211051Z
UID:40836-1788693300-1788695100@ctkrva.org
SUMMARY:CTK Cafe
DESCRIPTION:
URL:https://ctkrva.org/event/ctk-cafe-139/
LOCATION:After Worship
END:VEVENT
BEGIN:VEVENT
DTSTART;TZID=America/New_York:20260907T130000
DTEND;TZID=America/New_York:20260907T140000
DTSTAMP:20260423T182116
CREATED:20260211T021308Z
LAST-MODIFIED:20260423T211051Z
UID:40846-1788786000-1788789600@ctkrva.org
SUMMARY:AA
DESCRIPTION:
URL:https://ctkrva.org/event/aa-318/
LOCATION:Fellowship Hall
END:VEVENT
BEGIN:VEVENT
DTSTART;TZID=America/New_York:20260908T100000
DTEND;TZID=America/New_York:20260908T120000
DTSTAMP:20260423T182116
CREATED:20260211T204350Z
LAST-MODIFIED:20260423T211051Z
UID:40863-1788861600-1788868800@ctkrva.org
SUMMARY:Circle of Faith
DESCRIPTION:
URL:https://ctkrva.org/event/circle-of-faith-64/
END:VEVENT
BEGIN:VEVENT
DTSTART;TZID=America/New_York:20260908T100000
DTEND;TZID=America/New_York:20260908T120000
DTSTAMP:20260423T182116
CREATED:20260212T052828Z
LAST-MODIFIED:20260423T211051Z
UID:40872-1788861600-1788868800@ctkrva.org
SUMMARY:Richmond Conference Meeting
DESCRIPTION:
URL:https://ctkrva.org/event/richmond-conference-meeting-36/
END:VEVENT
BEGIN:VEVENT
DTSTART;TZID=America/New_York:20260908T183000
DTEND;TZID=America/New_York:20260908T203000
DTSTAMP:20260423T182116
CREATED:20260212T185816Z
LAST-MODIFIED:20260423T211051Z
UID:40885-1788892200-1788899400@ctkrva.org
SUMMARY:Tai Chi - John Crouse
DESCRIPTION:
URL:https://ctkrva.org/event/tai-chi-john-crouse-318/
LOCATION:Fellowship Hall
END:VEVENT
BEGIN:VEVENT
DTSTART;TZID=America/New_York:20260910T120000
DTEND;TZID=America/New_York:20260910T130000
DTSTAMP:20260423T182116
CREATED:20260212T185817Z
LAST-MODIFIED:20260423T211051Z
UID:40886-1789041600-1789045200@ctkrva.org
SUMMARY:Bon Air Ministers Lunch
DESCRIPTION:
URL:https://ctkrva.org/event/bon-air-ministers-lunch-25/
END:VEVENT
BEGIN:VEVENT
DTSTART;TZID=America/New_York:20260910T120000
DTEND;TZID=America/New_York:20260910T130000
DTSTAMP:20260423T182116
CREATED:20260213T022940Z
LAST-MODIFIED:20260423T211051Z
UID:40895-1789041600-1789045200@ctkrva.org
SUMMARY:CTK Luncheon
DESCRIPTION:
URL:https://ctkrva.org/event/ctk-luncheon-8/
END:VEVENT
BEGIN:VEVENT
DTSTART;TZID=America/New_York:20260910T120000
DTEND;TZID=America/New_York:20260910T130000
DTSTAMP:20260423T182116
CREATED:20260213T194615Z
LAST-MODIFIED:20260423T211051Z
UID:40911-1789041600-1789045200@ctkrva.org
SUMMARY:ALANON (12&12)
DESCRIPTION:
URL:https://ctkrva.org/event/alanon-1212-157/
LOCATION:Fellowship Hall
END:VEVENT
END:VCALENDAR