BEGIN:VCALENDAR
VERSION:2.0
PRODID:-//Christ The King Lutheran Church - ECPv6.15.20//NONSGML v1.0//EN
CALSCALE:GREGORIAN
METHOD:PUBLISH
X-ORIGINAL-URL:https://ctkrva.org
X-WR-CALDESC:Events for Christ The King Lutheran Church
REFRESH-INTERVAL;VALUE=DURATION:PT1H
X-Robots-Tag:noindex
X-PUBLISHED-TTL:PT1H
BEGIN:VTIMEZONE
TZID:America/New_York
BEGIN:DAYLIGHT
TZOFFSETFROM:-0500
TZOFFSETTO:-0400
TZNAME:EDT
DTSTART:20240310T070000
END:DAYLIGHT
BEGIN:STANDARD
TZOFFSETFROM:-0400
TZOFFSETTO:-0500
TZNAME:EST
DTSTART:20241103T060000
END:STANDARD
BEGIN:DAYLIGHT
TZOFFSETFROM:-0500
TZOFFSETTO:-0400
TZNAME:EDT
DTSTART:20250309T070000
END:DAYLIGHT
BEGIN:STANDARD
TZOFFSETFROM:-0400
TZOFFSETTO:-0500
TZNAME:EST
DTSTART:20251102T060000
END:STANDARD
BEGIN:DAYLIGHT
TZOFFSETFROM:-0500
TZOFFSETTO:-0400
TZNAME:EDT
DTSTART:20260308T070000
END:DAYLIGHT
BEGIN:STANDARD
TZOFFSETFROM:-0400
TZOFFSETTO:-0500
TZNAME:EST
DTSTART:20261101T060000
END:STANDARD
END:VTIMEZONE
BEGIN:VEVENT
DTSTART;TZID=America/New_York:20251014T093000
DTEND;TZID=America/New_York:20251014T100000
DTSTAMP:20260423T213255
CREATED:20251014T133617Z
LAST-MODIFIED:20251014T133617Z
UID:37923-1760434200-1760436000@ctkrva.org
SUMMARY:Dead Deer
DESCRIPTION:________________________________________________________________________________\nMicrosoft Teams Need help?\nJoin the meeting now\nMeeting ID: 291 035 223 342 2\nPasscode: EU2V4pd6\n________________________________\nDial in by phone\n+1 804-462-9970\,\,987168978# United States\, Lively\nFind a local number\nPhone conference ID: 987 168 978#\nFor organizers: Meeting options | Reset dial-in PIN\n________________________________________________________________________________\n_____________________________________________\nFrom: Richard Landers\nSent: Sunday\, October 12\, 2025 2:37 PM\nTo: Tim Young\nCc: Charles Albert ; Matt Fay ; Office Info\nSubject: Re: Dead Deer\nTim –\nI also submitted a Service Request (#  2219325 )\, yesterday at noon. They predict pickup within 72 hours.\nMy guess is that the Deer was hit Friday night. It was pretty bloated by noon yesterday.\nI’ll fix the Banner Frame this week. The impact knocked the deer through the frame. It knocked off both bottom 2x4s\, but didn’t break them. I’ll straighten the brackets and nail them back in.\nIt also destroyed all 4 of the little solar lights. I’m not sure how much benefit these were. They were always an obstacle to mow around. Unless someone wants these I’ll not replace them.\nI picked up a large wheel well molding\, and another piece that the driver left behind. It must have been a pickup.\nThat is the 5th dead deer in the last 3 years.\nThanks.\nRichard\nOn Sun\, Oct 12\, 2025 at 2:11 PM Tim Young <TYoung@htrsi.com> wrote:\nWe have another dead deer on the property. I submitted it to VDOT.\nTim Young\nKevin Currie Group\nw/ Hometown Realty\n804-385-0683\ntyoung@htrsi.com\nhttps://www.kevincurriegroup.com/\n________________________________\nFrom: Tim Young\nSent: Wednesday\, May 28\, 2025 8:19 PM\nTo: Charles Albert <charlesgalbert@gmail.com>\nCc: Richard Landers <richard.landers@gmail.com>; Matt Fay <mflapfay@gmail.com>\nSubject: Re: Dead Deer\nLooks like the deer was picked up. Thank you again Richard for making the call.\nTim Young\nKevin Currie Group\nw/ Hometown Realty\n804-385-0683\ntyoung@htrsi.com\nOn May 26\, 2025\, at 19:37\, Charles Albert <charlesgalbert@gmail.com> wrote:\n﻿ Thanks Richard! You’re the best\nSent from my iPhone\nOn May 26\, 2025\, at 2:02 PM\, Richard Landers <richard.landers@gmail.com> wrote:\n﻿\nFYI\nYour service request number is 2136848. Track your status on https://my.vdot.virginia.gov.\nReply STOP to Cancel\nOn Mon\, May 26\, 2025 at 1:33 PM Richard Landers <richard.landers@gmail.com> wrote:\nI looked at the deer and decided to call VDOT at 800-367-7623. It’s a little big to put in a trash can. They have our address. They’ll pick it up. It may be 1 to 2 days\, since it is a holiday.\nI was on the way over anyway to trim some brush.\nRichard\nIf your request is related to a road hazard that needs immediate attention\, please call 1-800-367-7623\nOn Mon\, May 26\, 2025 at 12:57 PM Tim Young <TYoung@htrsi.com> wrote:\nI’ll drag it to the other side for now.\nRichard\, is there a number to call to have it removed?\nTim Young\nKevin Currie Group\nw/ Hometown Realty\n804-385-0683\ntyoung@htrsi.com\nOn May 26\, 2025\, at 12:19\, Charles Albert <charlesgalbert@gmail.com> wrote:\n﻿\nHi all\,\nI hate to be the bearer of bad news but Gretchen saw a dead deer on the church property. Very near Huguenot. Kinda half way down the property line.\nI just wanted to give you a heads up.\nCharles\nSent from my iPhone\nThis is an External email! Please think carefully before clicking links or opening attachments.\nThis is an External email! Please think carefully before clicking links or opening attachments.
URL:https://ctkrva.org/event/dead-deer/
LOCATION:Microsoft Teams Meeting
END:VEVENT
BEGIN:VEVENT
DTSTART;TZID=America/New_York:20251014T100000
DTEND;TZID=America/New_York:20251014T120000
DTSTAMP:20260423T213255
CREATED:20250818T165302Z
LAST-MODIFIED:20251014T213841Z
UID:35953-1760436000-1760443200@ctkrva.org
SUMMARY:Richmond Conference Meeting
DESCRIPTION:
URL:https://ctkrva.org/event/richmond-conference-meeting-25/
END:VEVENT
BEGIN:VEVENT
DTSTART;TZID=America/New_York:20251014T100000
DTEND;TZID=America/New_York:20251014T120000
DTSTAMP:20260423T213255
CREATED:20250818T165303Z
LAST-MODIFIED:20251014T213842Z
UID:35954-1760436000-1760443200@ctkrva.org
SUMMARY:Circle of Faith
DESCRIPTION:
URL:https://ctkrva.org/event/circle-of-faith-42/
END:VEVENT
BEGIN:VEVENT
DTSTART;TZID=America/New_York:20251014T183000
DTEND;TZID=America/New_York:20251014T203000
DTSTAMP:20260423T213255
CREATED:20250818T165303Z
LAST-MODIFIED:20251014T232043Z
UID:35955-1760466600-1760473800@ctkrva.org
SUMMARY:Tai Chi - John Crouse
DESCRIPTION:
URL:https://ctkrva.org/event/tai-chi-john-crouse-227/
LOCATION:Fellowship Hall
END:VEVENT
BEGIN:VEVENT
DTSTART;TZID=America/New_York:20251015T093000
DTEND;TZID=America/New_York:20251015T103000
DTSTAMP:20260423T213255
CREATED:20250818T165304Z
LAST-MODIFIED:20251020T154927Z
UID:35956-1760520600-1760524200@ctkrva.org
SUMMARY:Staff Meeting
DESCRIPTION:
URL:https://ctkrva.org/event/staff-meeting-112/
END:VEVENT
BEGIN:VEVENT
DTSTART;TZID=America/New_York:20251015T100000
DTEND;TZID=America/New_York:20251015T160000
DTSTAMP:20260423T213255
CREATED:20250818T165318Z
LAST-MODIFIED:20251020T154928Z
UID:35957-1760522400-1760544000@ctkrva.org
SUMMARY:CTK Quilters
DESCRIPTION:
URL:https://ctkrva.org/event/ctk-quilters-32/
END:VEVENT
BEGIN:VEVENT
DTSTART;TZID=America/New_York:20251016T120000
DTEND;TZID=America/New_York:20251016T130000
DTSTAMP:20260423T213255
CREATED:20250818T165319Z
LAST-MODIFIED:20251020T154929Z
UID:35958-1760616000-1760619600@ctkrva.org
SUMMARY:ALANON (12&12)
DESCRIPTION:
URL:https://ctkrva.org/event/alanon-1212-111/
LOCATION:Fellowship Hall
END:VEVENT
BEGIN:VEVENT
DTSTART;TZID=America/New_York:20251016T183000
DTEND;TZID=America/New_York:20251016T203000
DTSTAMP:20260423T213255
CREATED:20250818T165320Z
LAST-MODIFIED:20251020T154930Z
UID:35959-1760639400-1760646600@ctkrva.org
SUMMARY:Tai Chi - John Crouse
DESCRIPTION:
URL:https://ctkrva.org/event/tai-chi-john-crouse-228/
LOCATION:Fellowship Hall
END:VEVENT
BEGIN:VEVENT
DTSTART;TZID=America/New_York:20251017T130000
DTEND;TZID=America/New_York:20251017T140000
DTSTAMP:20260423T213255
CREATED:20250818T165321Z
LAST-MODIFIED:20251020T154931Z
UID:35960-1760706000-1760709600@ctkrva.org
SUMMARY:AA
DESCRIPTION:
URL:https://ctkrva.org/event/aa-227/
LOCATION:Fellowship Hall
END:VEVENT
BEGIN:VEVENT
DTSTART;TZID=America/New_York:20251017T190000
DTEND;TZID=America/New_York:20251017T200000
DTSTAMP:20260423T213255
CREATED:20250818T165322Z
LAST-MODIFIED:20251020T154932Z
UID:35961-1760727600-1760731200@ctkrva.org
SUMMARY:NarAnon
DESCRIPTION:
URL:https://ctkrva.org/event/naranon-74/
LOCATION:Gathering Space
END:VEVENT
BEGIN:VEVENT
DTSTART;TZID=America/New_York:20251018T100000
DTEND;TZID=America/New_York:20251018T140000
DTSTAMP:20260423T213255
CREATED:20250818T165323Z
LAST-MODIFIED:20251020T154933Z
UID:35962-1760781600-1760796000@ctkrva.org
SUMMARY:Quilt Set Up in Sanctuary
DESCRIPTION:
URL:https://ctkrva.org/event/quilt-set-up-in-sanctuary/
LOCATION:Sanctuary
END:VEVENT
BEGIN:VEVENT
DTSTART;TZID=America/New_York:20251018T100000
DTEND;TZID=America/New_York:20251018T160000
DTSTAMP:20260423T213255
CREATED:20250919T160739Z
LAST-MODIFIED:20251020T154934Z
UID:37325-1760781600-1760803200@ctkrva.org
SUMMARY:Dave Delaney Lost & Found Planning Session
DESCRIPTION:
URL:https://ctkrva.org/event/dave-delaney-lost-found-planning-session/
LOCATION:Any Available
END:VEVENT
BEGIN:VEVENT
DTSTART;VALUE=DATE:20251019
DTEND;VALUE=DATE:20251020
DTSTAMP:20260423T213255
CREATED:20250818T165324Z
LAST-MODIFIED:20251020T154935Z
UID:35964-1760832000-1760918399@ctkrva.org
SUMMARY:Quilt Dedication
DESCRIPTION:
URL:https://ctkrva.org/event/quilt-dedication/
END:VEVENT
BEGIN:VEVENT
DTSTART;TZID=America/New_York:20251019T100000
DTEND;TZID=America/New_York:20251019T110000
DTSTAMP:20260423T213255
CREATED:20250818T165325Z
LAST-MODIFIED:20251020T154937Z
UID:35965-1760868000-1760871600@ctkrva.org
SUMMARY:Worship
DESCRIPTION:
URL:https://ctkrva.org/event/worship-54/
END:VEVENT
BEGIN:VEVENT
DTSTART;TZID=America/New_York:20251019T111500
DTEND;TZID=America/New_York:20251019T114500
DTSTAMP:20260423T213255
CREATED:20250818T165323Z
LAST-MODIFIED:20251020T154938Z
UID:35963-1760872500-1760874300@ctkrva.org
SUMMARY:CTK Cafe
DESCRIPTION:
URL:https://ctkrva.org/event/ctk-cafe-40/
LOCATION:After Worship
END:VEVENT
BEGIN:VEVENT
DTSTART;TZID=America/New_York:20251020T130000
DTEND;TZID=America/New_York:20251020T140000
DTSTAMP:20260423T213255
CREATED:20250818T165326Z
LAST-MODIFIED:20251020T174814Z
UID:35966-1760965200-1760968800@ctkrva.org
SUMMARY:AA
DESCRIPTION:
URL:https://ctkrva.org/event/aa-228/
LOCATION:Fellowship Hall
END:VEVENT
BEGIN:VEVENT
DTSTART;TZID=America/New_York:20251021T183000
DTEND;TZID=America/New_York:20251021T203000
DTSTAMP:20260423T213255
CREATED:20250818T165340Z
LAST-MODIFIED:20251027T162843Z
UID:35967-1761071400-1761078600@ctkrva.org
SUMMARY:Tai Chi - John Crouse
DESCRIPTION:
URL:https://ctkrva.org/event/tai-chi-john-crouse-229/
LOCATION:Fellowship Hall
END:VEVENT
BEGIN:VEVENT
DTSTART;TZID=America/New_York:20251021T190000
DTEND;TZID=America/New_York:20251021T210000
DTSTAMP:20260423T213255
CREATED:20250818T165341Z
LAST-MODIFIED:20251027T162842Z
UID:35968-1761073200-1761080400@ctkrva.org
SUMMARY:Church Council
DESCRIPTION:
URL:https://ctkrva.org/event/church-council-27/
END:VEVENT
BEGIN:VEVENT
DTSTART;TZID=America/New_York:20251022T093000
DTEND;TZID=America/New_York:20251022T103000
DTSTAMP:20260423T213255
CREATED:20250818T165342Z
LAST-MODIFIED:20251027T162841Z
UID:35969-1761125400-1761129000@ctkrva.org
SUMMARY:Staff Meeting
DESCRIPTION:
URL:https://ctkrva.org/event/staff-meeting-113/
END:VEVENT
BEGIN:VEVENT
DTSTART;TZID=America/New_York:20251022T100000
DTEND;TZID=America/New_York:20251022T160000
DTSTAMP:20260423T213255
CREATED:20250818T165343Z
LAST-MODIFIED:20251027T162840Z
UID:35970-1761127200-1761148800@ctkrva.org
SUMMARY:CTK Quilters
DESCRIPTION:
URL:https://ctkrva.org/event/ctk-quilters-33/
END:VEVENT
BEGIN:VEVENT
DTSTART;TZID=America/New_York:20251023T120000
DTEND;TZID=America/New_York:20251023T130000
DTSTAMP:20260423T213255
CREATED:20250818T165344Z
LAST-MODIFIED:20251027T162839Z
UID:35971-1761220800-1761224400@ctkrva.org
SUMMARY:ALANON (12&12)
DESCRIPTION:
URL:https://ctkrva.org/event/alanon-1212-112/
LOCATION:Fellowship Hall
END:VEVENT
BEGIN:VEVENT
DTSTART;TZID=America/New_York:20251023T183000
DTEND;TZID=America/New_York:20251023T203000
DTSTAMP:20260423T213255
CREATED:20250818T165345Z
LAST-MODIFIED:20251027T162838Z
UID:35972-1761244200-1761251400@ctkrva.org
SUMMARY:Tai Chi - John Crouse
DESCRIPTION:
URL:https://ctkrva.org/event/tai-chi-john-crouse-230/
LOCATION:Fellowship Hall
END:VEVENT
BEGIN:VEVENT
DTSTART;TZID=America/New_York:20251024T130000
DTEND;TZID=America/New_York:20251024T140000
DTSTAMP:20260423T213255
CREATED:20250818T165346Z
LAST-MODIFIED:20251027T162837Z
UID:35973-1761310800-1761314400@ctkrva.org
SUMMARY:AA
DESCRIPTION:
URL:https://ctkrva.org/event/aa-229/
LOCATION:Fellowship Hall
END:VEVENT
BEGIN:VEVENT
DTSTART;TZID=America/New_York:20251024T190000
DTEND;TZID=America/New_York:20251024T200000
DTSTAMP:20260423T213255
CREATED:20250818T165347Z
LAST-MODIFIED:20251027T162836Z
UID:35974-1761332400-1761336000@ctkrva.org
SUMMARY:NarAnon
DESCRIPTION:
URL:https://ctkrva.org/event/naranon-75/
LOCATION:Gathering Space
END:VEVENT
BEGIN:VEVENT
DTSTART;TZID=America/New_York:20251025T100000
DTEND;TZID=America/New_York:20251025T160000
DTSTAMP:20260423T213255
CREATED:20250919T160753Z
LAST-MODIFIED:20251027T162835Z
UID:37327-1761386400-1761408000@ctkrva.org
SUMMARY:Dave Delaney Lost & Found Planning Session
DESCRIPTION:
URL:https://ctkrva.org/event/dave-delaney-lost-found-planning-session-2/
LOCATION:Any Available
END:VEVENT
BEGIN:VEVENT
DTSTART;TZID=America/New_York:20251026T100000
DTEND;TZID=America/New_York:20251026T110000
DTSTAMP:20260423T213255
CREATED:20250818T165347Z
LAST-MODIFIED:20251027T162834Z
UID:35975-1761472800-1761476400@ctkrva.org
SUMMARY:Worship
DESCRIPTION:
URL:https://ctkrva.org/event/worship-55/
END:VEVENT
BEGIN:VEVENT
DTSTART;TZID=America/New_York:20251026T111500
DTEND;TZID=America/New_York:20251026T114500
DTSTAMP:20260423T213255
CREATED:20250818T165348Z
LAST-MODIFIED:20251027T162832Z
UID:35976-1761477300-1761479100@ctkrva.org
SUMMARY:CTK Cafe
DESCRIPTION:
URL:https://ctkrva.org/event/ctk-cafe-48/
LOCATION:After Worship
END:VEVENT
BEGIN:VEVENT
DTSTART;TZID=America/New_York:20251027T120000
DTEND;TZID=America/New_York:20251027T130000
DTSTAMP:20260423T213255
CREATED:20250818T165403Z
LAST-MODIFIED:20251027T162831Z
UID:35977-1761566400-1761570000@ctkrva.org
SUMMARY:Executive Team
DESCRIPTION:
URL:https://ctkrva.org/event/executive-team-54/
END:VEVENT
BEGIN:VEVENT
DTSTART;TZID=America/New_York:20251027T130000
DTEND;TZID=America/New_York:20251027T140000
DTSTAMP:20260423T213255
CREATED:20250818T165404Z
LAST-MODIFIED:20251027T175235Z
UID:35978-1761570000-1761573600@ctkrva.org
SUMMARY:AA
DESCRIPTION:
URL:https://ctkrva.org/event/aa-230/
LOCATION:Fellowship Hall
END:VEVENT
BEGIN:VEVENT
DTSTART;TZID=America/New_York:20251028T100000
DTEND;TZID=America/New_York:20251028T120000
DTSTAMP:20260423T213255
CREATED:20250818T165404Z
LAST-MODIFIED:20251028T152044Z
UID:35979-1761645600-1761652800@ctkrva.org
SUMMARY:Circle of Faith
DESCRIPTION:
URL:https://ctkrva.org/event/circle-of-faith-43/
END:VEVENT
END:VCALENDAR