BEGIN:VCALENDAR
VERSION:2.0
PRODID:-//Christ The King Lutheran Church - ECPv6.15.20//NONSGML v1.0//EN
CALSCALE:GREGORIAN
METHOD:PUBLISH
X-ORIGINAL-URL:https://ctkrva.org
X-WR-CALDESC:Events for Christ The King Lutheran Church
REFRESH-INTERVAL;VALUE=DURATION:PT1H
X-Robots-Tag:noindex
X-PUBLISHED-TTL:PT1H
BEGIN:VTIMEZONE
TZID:America/New_York
BEGIN:DAYLIGHT
TZOFFSETFROM:-0500
TZOFFSETTO:-0400
TZNAME:EDT
DTSTART:20240310T070000
END:DAYLIGHT
BEGIN:STANDARD
TZOFFSETFROM:-0400
TZOFFSETTO:-0500
TZNAME:EST
DTSTART:20241103T060000
END:STANDARD
BEGIN:DAYLIGHT
TZOFFSETFROM:-0500
TZOFFSETTO:-0400
TZNAME:EDT
DTSTART:20250309T070000
END:DAYLIGHT
BEGIN:STANDARD
TZOFFSETFROM:-0400
TZOFFSETTO:-0500
TZNAME:EST
DTSTART:20251102T060000
END:STANDARD
BEGIN:DAYLIGHT
TZOFFSETFROM:-0500
TZOFFSETTO:-0400
TZNAME:EDT
DTSTART:20260308T070000
END:DAYLIGHT
BEGIN:STANDARD
TZOFFSETFROM:-0400
TZOFFSETTO:-0500
TZNAME:EST
DTSTART:20261101T060000
END:STANDARD
END:VTIMEZONE
BEGIN:VEVENT
DTSTART;TZID=America/New_York:20251113T120000
DTEND;TZID=America/New_York:20251113T130000
DTSTAMP:20260423T201737
CREATED:20250818T165510Z
LAST-MODIFIED:20251113T173532Z
UID:36010-1763035200-1763038800@ctkrva.org
SUMMARY:Senior Fellowship Luncheon
DESCRIPTION:
URL:https://ctkrva.org/event/senior-fellowship-luncheon-6/
LOCATION:Fellowship Hall
END:VEVENT
BEGIN:VEVENT
DTSTART;TZID=America/New_York:20251113T120000
DTEND;TZID=America/New_York:20251113T130000
DTSTAMP:20260423T201737
CREATED:20250818T165511Z
LAST-MODIFIED:20251113T173532Z
UID:36011-1763035200-1763038800@ctkrva.org
SUMMARY:ALANON (12&12)
DESCRIPTION:
URL:https://ctkrva.org/event/alanon-1212-115/
LOCATION:Fellowship Hall
END:VEVENT
BEGIN:VEVENT
DTSTART;TZID=America/New_York:20251113T120000
DTEND;TZID=America/New_York:20251113T130000
DTSTAMP:20260423T201737
CREATED:20250911T205320Z
LAST-MODIFIED:20251113T173532Z
UID:37139-1763035200-1763038800@ctkrva.org
SUMMARY:Bon Air Ministers Lunch
DESCRIPTION:
URL:https://ctkrva.org/event/bon-air-ministers-lunch-15/
END:VEVENT
BEGIN:VEVENT
DTSTART;TZID=America/New_York:20251113T183000
DTEND;TZID=America/New_York:20251113T203000
DTSTAMP:20260423T201737
CREATED:20250818T165512Z
LAST-MODIFIED:20251114T010545Z
UID:36012-1763058600-1763065800@ctkrva.org
SUMMARY:Tai Chi - John Crouse
DESCRIPTION:
URL:https://ctkrva.org/event/tai-chi-john-crouse-235/
LOCATION:Fellowship Hall
END:VEVENT
BEGIN:VEVENT
DTSTART;TZID=America/New_York:20251114T130000
DTEND;TZID=America/New_York:20251114T140000
DTSTAMP:20260423T201737
CREATED:20250818T165513Z
LAST-MODIFIED:20251114T183522Z
UID:36013-1763125200-1763128800@ctkrva.org
SUMMARY:AA
DESCRIPTION:
URL:https://ctkrva.org/event/aa-235/
LOCATION:Fellowship Hall
END:VEVENT
BEGIN:VEVENT
DTSTART;TZID=America/New_York:20251114T190000
DTEND;TZID=America/New_York:20251114T200000
DTSTAMP:20260423T201737
CREATED:20250818T165514Z
LAST-MODIFIED:20251115T005021Z
UID:36014-1763146800-1763150400@ctkrva.org
SUMMARY:NarAnon
DESCRIPTION:
URL:https://ctkrva.org/event/naranon-78/
LOCATION:Gathering Space
END:VEVENT
BEGIN:VEVENT
DTSTART;TZID=America/New_York:20251116T090000
DTEND;TZID=America/New_York:20251116T100000
DTSTAMP:20260423T201737
CREATED:20251028T050616Z
LAST-MODIFIED:20251117T154655Z
UID:38251-1763283600-1763287200@ctkrva.org
SUMMARY:Worship
DESCRIPTION:
URL:https://ctkrva.org/event/worship-127/
END:VEVENT
BEGIN:VEVENT
DTSTART;TZID=America/New_York:20251116T100000
DTEND;TZID=America/New_York:20251116T110000
DTSTAMP:20260423T201737
CREATED:20250818T165515Z
LAST-MODIFIED:20251116T153517Z
UID:36015-1763287200-1763290800@ctkrva.org
SUMMARY:Worship
DESCRIPTION:
URL:https://ctkrva.org/event/worship-58/
END:VEVENT
BEGIN:VEVENT
DTSTART;TZID=America/New_York:20251116T101500
DTEND;TZID=America/New_York:20251116T104500
DTSTAMP:20260423T201737
CREATED:20251028T050617Z
LAST-MODIFIED:20251117T154656Z
UID:38252-1763288100-1763289900@ctkrva.org
SUMMARY:CTK Cafe
DESCRIPTION:
URL:https://ctkrva.org/event/ctk-cafe-90/
LOCATION:After Worship
END:VEVENT
BEGIN:VEVENT
DTSTART;TZID=America/New_York:20251116T111500
DTEND;TZID=America/New_York:20251116T114500
DTSTAMP:20260423T201737
CREATED:20250818T165516Z
LAST-MODIFIED:20251116T153517Z
UID:36016-1763291700-1763293500@ctkrva.org
SUMMARY:CTK Cafe
DESCRIPTION:
URL:https://ctkrva.org/event/ctk-cafe-53/
LOCATION:After Worship
END:VEVENT
BEGIN:VEVENT
DTSTART;TZID=America/New_York:20251117T130000
DTEND;TZID=America/New_York:20251117T140000
DTSTAMP:20260423T201737
CREATED:20250818T165529Z
LAST-MODIFIED:20251117T182027Z
UID:36017-1763384400-1763388000@ctkrva.org
SUMMARY:AA
DESCRIPTION:
URL:https://ctkrva.org/event/aa-236/
LOCATION:Fellowship Hall
END:VEVENT
BEGIN:VEVENT
DTSTART;TZID=America/New_York:20251118T183000
DTEND;TZID=America/New_York:20251118T203000
DTSTAMP:20260423T201737
CREATED:20250818T165530Z
LAST-MODIFIED:20251119T012019Z
UID:36018-1763490600-1763497800@ctkrva.org
SUMMARY:Tai Chi - John Crouse
DESCRIPTION:
URL:https://ctkrva.org/event/tai-chi-john-crouse-236/
LOCATION:Fellowship Hall
END:VEVENT
BEGIN:VEVENT
DTSTART;TZID=America/New_York:20251118T190000
DTEND;TZID=America/New_York:20251118T210000
DTSTAMP:20260423T201737
CREATED:20250818T165531Z
LAST-MODIFIED:20251119T012019Z
UID:36019-1763492400-1763499600@ctkrva.org
SUMMARY:Church Council
DESCRIPTION:
URL:https://ctkrva.org/event/church-council-28/
END:VEVENT
BEGIN:VEVENT
DTSTART;TZID=America/New_York:20251119T093000
DTEND;TZID=America/New_York:20251119T103000
DTSTAMP:20260423T201737
CREATED:20250818T165532Z
LAST-MODIFIED:20251124T164126Z
UID:36020-1763544600-1763548200@ctkrva.org
SUMMARY:Staff Meeting
DESCRIPTION:
URL:https://ctkrva.org/event/staff-meeting-117/
END:VEVENT
BEGIN:VEVENT
DTSTART;TZID=America/New_York:20251119T100000
DTEND;TZID=America/New_York:20251119T160000
DTSTAMP:20260423T201737
CREATED:20250818T165533Z
LAST-MODIFIED:20251119T200522Z
UID:36021-1763546400-1763568000@ctkrva.org
SUMMARY:CTK Quilters
DESCRIPTION:
URL:https://ctkrva.org/event/ctk-quilters-37/
END:VEVENT
BEGIN:VEVENT
DTSTART;TZID=America/New_York:20251119T173000
DTEND;TZID=America/New_York:20251119T194500
DTSTAMP:20260423T201737
CREATED:20251110T150946Z
LAST-MODIFIED:20251119T235023Z
UID:38677-1763573400-1763581500@ctkrva.org
SUMMARY:Facilities Use: Bluffs HOA Meeting
DESCRIPTION:
URL:https://ctkrva.org/event/facilities-use-bluffs-hoa-meeting/
LOCATION:Fellowship Hall
END:VEVENT
BEGIN:VEVENT
DTSTART;TZID=America/New_York:20251120T120000
DTEND;TZID=America/New_York:20251120T130000
DTSTAMP:20260423T201737
CREATED:20250818T165534Z
LAST-MODIFIED:20251120T170542Z
UID:36022-1763640000-1763643600@ctkrva.org
SUMMARY:ALANON (12&12)
DESCRIPTION:
URL:https://ctkrva.org/event/alanon-1212-116/
LOCATION:Fellowship Hall
END:VEVENT
BEGIN:VEVENT
DTSTART;TZID=America/New_York:20251120T183000
DTEND;TZID=America/New_York:20251120T203000
DTSTAMP:20260423T201737
CREATED:20250818T165535Z
LAST-MODIFIED:20251121T003526Z
UID:36023-1763663400-1763670600@ctkrva.org
SUMMARY:Tai Chi - John Crouse
DESCRIPTION:
URL:https://ctkrva.org/event/tai-chi-john-crouse-237/
LOCATION:Fellowship Hall
END:VEVENT
BEGIN:VEVENT
DTSTART;TZID=America/New_York:20251121T130000
DTEND;TZID=America/New_York:20251121T140000
DTSTAMP:20260423T201737
CREATED:20250818T165535Z
LAST-MODIFIED:20251121T175023Z
UID:36024-1763730000-1763733600@ctkrva.org
SUMMARY:AA
DESCRIPTION:
URL:https://ctkrva.org/event/aa-237/
LOCATION:Fellowship Hall
END:VEVENT
BEGIN:VEVENT
DTSTART;TZID=America/New_York:20251121T190000
DTEND;TZID=America/New_York:20251121T200000
DTSTAMP:20260423T201737
CREATED:20250818T165536Z
LAST-MODIFIED:20251122T000523Z
UID:36025-1763751600-1763755200@ctkrva.org
SUMMARY:NarAnon
DESCRIPTION:
URL:https://ctkrva.org/event/naranon-79/
LOCATION:Gathering Space
END:VEVENT
BEGIN:VEVENT
DTSTART;TZID=America/New_York:20251122T090000
DTEND;TZID=America/New_York:20251122T110000
DTSTAMP:20260423T201737
CREATED:20251113T212031Z
LAST-MODIFIED:20251122T150519Z
UID:38758-1763802000-1763809200@ctkrva.org
SUMMARY:Property Work Group
DESCRIPTION:
URL:https://ctkrva.org/event/property-work-group/
LOCATION:CTK
END:VEVENT
BEGIN:VEVENT
DTSTART;TZID=America/New_York:20251123T090000
DTEND;TZID=America/New_York:20251123T100000
DTSTAMP:20260423T201737
CREATED:20251028T050631Z
LAST-MODIFIED:20251124T164125Z
UID:38253-1763888400-1763892000@ctkrva.org
SUMMARY:Worship
DESCRIPTION:
URL:https://ctkrva.org/event/worship-128/
END:VEVENT
BEGIN:VEVENT
DTSTART;TZID=America/New_York:20251123T100000
DTEND;TZID=America/New_York:20251123T110000
DTSTAMP:20260423T201737
CREATED:20250818T165537Z
LAST-MODIFIED:20251123T155042Z
UID:36026-1763892000-1763895600@ctkrva.org
SUMMARY:Worship
DESCRIPTION:
URL:https://ctkrva.org/event/worship-59/
END:VEVENT
BEGIN:VEVENT
DTSTART;TZID=America/New_York:20251123T101500
DTEND;TZID=America/New_York:20251123T104500
DTSTAMP:20260423T201737
CREATED:20251028T050633Z
LAST-MODIFIED:20251124T164124Z
UID:38254-1763892900-1763894700@ctkrva.org
SUMMARY:CTK Cafe
DESCRIPTION:
URL:https://ctkrva.org/event/ctk-cafe-91/
LOCATION:After Worship
END:VEVENT
BEGIN:VEVENT
DTSTART;TZID=America/New_York:20251123T111500
DTEND;TZID=America/New_York:20251123T114500
DTSTAMP:20260423T201737
CREATED:20250818T165552Z
LAST-MODIFIED:20251123T155042Z
UID:36027-1763896500-1763898300@ctkrva.org
SUMMARY:CTK Cafe
DESCRIPTION:
URL:https://ctkrva.org/event/ctk-cafe-54/
LOCATION:After Worship
END:VEVENT
BEGIN:VEVENT
DTSTART;TZID=America/New_York:20251124T120000
DTEND;TZID=America/New_York:20251124T130000
DTSTAMP:20260423T201737
CREATED:20250818T165553Z
LAST-MODIFIED:20251124T164123Z
UID:36028-1763985600-1763989200@ctkrva.org
SUMMARY:Executive Team
DESCRIPTION:
URL:https://ctkrva.org/event/executive-team-56/
END:VEVENT
BEGIN:VEVENT
DTSTART;TZID=America/New_York:20251124T130000
DTEND;TZID=America/New_York:20251124T140000
DTSTAMP:20260423T201737
CREATED:20250818T165554Z
LAST-MODIFIED:20251124T180527Z
UID:36029-1763989200-1763992800@ctkrva.org
SUMMARY:AA
DESCRIPTION:
URL:https://ctkrva.org/event/aa-238/
LOCATION:Fellowship Hall
END:VEVENT
BEGIN:VEVENT
DTSTART;TZID=America/New_York:20251125T100000
DTEND;TZID=America/New_York:20251125T120000
DTSTAMP:20260423T201737
CREATED:20250818T165555Z
LAST-MODIFIED:20251125T162037Z
UID:36030-1764064800-1764072000@ctkrva.org
SUMMARY:Circle of Faith
DESCRIPTION:
URL:https://ctkrva.org/event/circle-of-faith-45/
END:VEVENT
BEGIN:VEVENT
DTSTART;TZID=America/New_York:20251125T183000
DTEND;TZID=America/New_York:20251125T203000
DTSTAMP:20260423T201737
CREATED:20250818T165556Z
LAST-MODIFIED:20251125T235058Z
UID:36031-1764095400-1764102600@ctkrva.org
SUMMARY:Tai Chi - John Crouse
DESCRIPTION:
URL:https://ctkrva.org/event/tai-chi-john-crouse-238/
LOCATION:Fellowship Hall
END:VEVENT
BEGIN:VEVENT
DTSTART;TZID=America/New_York:20251126T093000
DTEND;TZID=America/New_York:20251126T103000
DTSTAMP:20260423T201737
CREATED:20250818T165557Z
LAST-MODIFIED:20251201T163605Z
UID:36032-1764149400-1764153000@ctkrva.org
SUMMARY:Staff Meeting
DESCRIPTION:
URL:https://ctkrva.org/event/staff-meeting-118/
END:VEVENT
END:VCALENDAR