BEGIN:VCALENDAR
VERSION:2.0
PRODID:-//Christ The King Lutheran Church - ECPv6.15.20//NONSGML v1.0//EN
CALSCALE:GREGORIAN
METHOD:PUBLISH
X-ORIGINAL-URL:https://ctkrva.org
X-WR-CALDESC:Events for Christ The King Lutheran Church
REFRESH-INTERVAL;VALUE=DURATION:PT1H
X-Robots-Tag:noindex
X-PUBLISHED-TTL:PT1H
BEGIN:VTIMEZONE
TZID:America/New_York
BEGIN:DAYLIGHT
TZOFFSETFROM:-0500
TZOFFSETTO:-0400
TZNAME:EDT
DTSTART:20250309T070000
END:DAYLIGHT
BEGIN:STANDARD
TZOFFSETFROM:-0400
TZOFFSETTO:-0500
TZNAME:EST
DTSTART:20251102T060000
END:STANDARD
BEGIN:DAYLIGHT
TZOFFSETFROM:-0500
TZOFFSETTO:-0400
TZNAME:EDT
DTSTART:20260308T070000
END:DAYLIGHT
BEGIN:STANDARD
TZOFFSETFROM:-0400
TZOFFSETTO:-0500
TZNAME:EST
DTSTART:20261101T060000
END:STANDARD
BEGIN:DAYLIGHT
TZOFFSETFROM:-0500
TZOFFSETTO:-0400
TZNAME:EDT
DTSTART:20270314T070000
END:DAYLIGHT
BEGIN:STANDARD
TZOFFSETFROM:-0400
TZOFFSETTO:-0500
TZNAME:EST
DTSTART:20271107T060000
END:STANDARD
END:VTIMEZONE
BEGIN:VEVENT
DTSTART;TZID=America/New_York:20260125T090000
DTEND;TZID=America/New_York:20260125T100000
DTSTAMP:20260423T185108
CREATED:20251028T050918Z
LAST-MODIFIED:20260126T155414Z
UID:38271-1769331600-1769335200@ctkrva.org
SUMMARY:Worship
DESCRIPTION:
URL:https://ctkrva.org/event/worship-138/
END:VEVENT
BEGIN:VEVENT
DTSTART;TZID=America/New_York:20260125T100000
DTEND;TZID=America/New_York:20260125T110000
DTSTAMP:20260423T185108
CREATED:20250818T165939Z
LAST-MODIFIED:20260125T153529Z
UID:36134-1769335200-1769338800@ctkrva.org
SUMMARY:Worship
DESCRIPTION:
URL:https://ctkrva.org/event/worship-68/
END:VEVENT
BEGIN:VEVENT
DTSTART;TZID=America/New_York:20260125T101500
DTEND;TZID=America/New_York:20260125T104500
DTSTAMP:20260423T185108
CREATED:20251028T050937Z
LAST-MODIFIED:20260126T155413Z
UID:38272-1769336100-1769337900@ctkrva.org
SUMMARY:CTK Cafe
DESCRIPTION:
URL:https://ctkrva.org/event/ctk-cafe-100/
LOCATION:After Worship
END:VEVENT
BEGIN:VEVENT
DTSTART;TZID=America/New_York:20260125T111500
DTEND;TZID=America/New_York:20260125T114500
DTSTAMP:20260423T185108
CREATED:20250818T165940Z
LAST-MODIFIED:20260125T153529Z
UID:36135-1769339700-1769341500@ctkrva.org
SUMMARY:CTK Cafe
DESCRIPTION:
URL:https://ctkrva.org/event/ctk-cafe-63/
LOCATION:After Worship
END:VEVENT
BEGIN:VEVENT
DTSTART;TZID=America/New_York:20260126T120000
DTEND;TZID=America/New_York:20260126T130000
DTSTAMP:20260423T185108
CREATED:20250818T165955Z
LAST-MODIFIED:20260126T155412Z
UID:36137-1769428800-1769432400@ctkrva.org
SUMMARY:Executive Team
DESCRIPTION:
URL:https://ctkrva.org/event/executive-team-60/
END:VEVENT
BEGIN:VEVENT
DTSTART;TZID=America/New_York:20260126T130000
DTEND;TZID=America/New_York:20260126T140000
DTSTAMP:20260423T185108
CREATED:20250818T165941Z
LAST-MODIFIED:20260126T182020Z
UID:36136-1769432400-1769436000@ctkrva.org
SUMMARY:AA
DESCRIPTION:
URL:https://ctkrva.org/event/aa-256/
LOCATION:Fellowship Hall
END:VEVENT
BEGIN:VEVENT
DTSTART;TZID=America/New_York:20260127T100000
DTEND;TZID=America/New_York:20260127T120000
DTSTAMP:20260423T185108
CREATED:20250818T165956Z
LAST-MODIFIED:20260127T154411Z
UID:36138-1769508000-1769515200@ctkrva.org
SUMMARY:Circle of Faith
DESCRIPTION:
URL:https://ctkrva.org/event/circle-of-faith-49/
END:VEVENT
BEGIN:VEVENT
DTSTART;TZID=America/New_York:20260127T183000
DTEND;TZID=America/New_York:20260127T203000
DTSTAMP:20260423T185108
CREATED:20250818T165957Z
LAST-MODIFIED:20260128T004136Z
UID:36139-1769538600-1769545800@ctkrva.org
SUMMARY:Tai Chi - John Crouse
DESCRIPTION:
URL:https://ctkrva.org/event/tai-chi-john-crouse-256/
LOCATION:Fellowship Hall
END:VEVENT
BEGIN:VEVENT
DTSTART;TZID=America/New_York:20260128T133000
DTEND;TZID=America/New_York:20260128T143000
DTSTAMP:20260423T185108
CREATED:20250818T165958Z
LAST-MODIFIED:20260128T192100Z
UID:36140-1769607000-1769610600@ctkrva.org
SUMMARY:Intercessory Prayer Service
DESCRIPTION:
URL:https://ctkrva.org/event/intercessory-prayer-service-28/
END:VEVENT
BEGIN:VEVENT
DTSTART;TZID=America/New_York:20260129T120000
DTEND;TZID=America/New_York:20260129T130000
DTSTAMP:20260423T185108
CREATED:20250818T165959Z
LAST-MODIFIED:20260129T173517Z
UID:36141-1769688000-1769691600@ctkrva.org
SUMMARY:ALANON (12&12)
DESCRIPTION:
URL:https://ctkrva.org/event/alanon-1212-126/
LOCATION:Fellowship Hall
END:VEVENT
BEGIN:VEVENT
DTSTART;TZID=America/New_York:20260129T183000
DTEND;TZID=America/New_York:20260129T203000
DTSTAMP:20260423T185108
CREATED:20250818T165959Z
LAST-MODIFIED:20260130T010532Z
UID:36142-1769711400-1769718600@ctkrva.org
SUMMARY:Tai Chi - John Crouse
DESCRIPTION:
URL:https://ctkrva.org/event/tai-chi-john-crouse-257/
LOCATION:Fellowship Hall
END:VEVENT
BEGIN:VEVENT
DTSTART;TZID=America/New_York:20260130T130000
DTEND;TZID=America/New_York:20260130T140000
DTSTAMP:20260423T185108
CREATED:20250818T170000Z
LAST-MODIFIED:20260130T180614Z
UID:36143-1769778000-1769781600@ctkrva.org
SUMMARY:AA
DESCRIPTION:
URL:https://ctkrva.org/event/aa-257/
LOCATION:Fellowship Hall
END:VEVENT
BEGIN:VEVENT
DTSTART;TZID=America/New_York:20260130T190000
DTEND;TZID=America/New_York:20260130T200000
DTSTAMP:20260423T185108
CREATED:20250818T170001Z
LAST-MODIFIED:20260131T002018Z
UID:36144-1769799600-1769803200@ctkrva.org
SUMMARY:NarAnon
DESCRIPTION:
URL:https://ctkrva.org/event/naranon-89/
LOCATION:Gathering Space
END:VEVENT
BEGIN:VEVENT
DTSTART;TZID=America/New_York:20260131T090000
DTEND;TZID=America/New_York:20260131T110000
DTSTAMP:20260423T185108
CREATED:20260123T142107Z
LAST-MODIFIED:20260131T152156Z
UID:40421-1769850000-1769857200@ctkrva.org
SUMMARY:Girl Scouts
DESCRIPTION:
URL:https://ctkrva.org/event/girl-scouts/
LOCATION:Fellowship Hall
END:VEVENT
BEGIN:VEVENT
DTSTART;VALUE=DATE:20260201
DTEND;VALUE=DATE:20260202
DTSTAMP:20260423T185108
CREATED:20250818T170003Z
LAST-MODIFIED:20260201T222028Z
UID:36145-1769904000-1769990399@ctkrva.org
SUMMARY:Food Pantry Sunday
DESCRIPTION:
URL:https://ctkrva.org/event/food-pantry-sunday-15/
END:VEVENT
BEGIN:VEVENT
DTSTART;TZID=America/New_York:20260201T000000
DTEND;TZID=America/New_York:20260202T000000
DTSTAMP:20260423T185108
CREATED:20251008T044129Z
LAST-MODIFIED:20260202T155702Z
UID:37767-1769904000-1769990400@ctkrva.org
SUMMARY:Food Pantry Sunday
DESCRIPTION:
URL:https://ctkrva.org/event/food-pantry-sunday-34/
END:VEVENT
BEGIN:VEVENT
DTSTART;TZID=America/New_York:20260201T090000
DTEND;TZID=America/New_York:20260201T100000
DTSTAMP:20260423T185108
CREATED:20251028T050956Z
LAST-MODIFIED:20260202T155701Z
UID:38273-1769936400-1769940000@ctkrva.org
SUMMARY:Worship
DESCRIPTION:
URL:https://ctkrva.org/event/worship-139/
END:VEVENT
BEGIN:VEVENT
DTSTART;TZID=America/New_York:20260201T100000
DTEND;TZID=America/New_York:20260201T110000
DTSTAMP:20260423T185108
CREATED:20250818T170004Z
LAST-MODIFIED:20260201T145225Z
UID:36146-1769940000-1769943600@ctkrva.org
SUMMARY:Worship
DESCRIPTION:
URL:https://ctkrva.org/event/worship-69/
END:VEVENT
BEGIN:VEVENT
DTSTART;TZID=America/New_York:20260201T101500
DTEND;TZID=America/New_York:20260201T104500
DTSTAMP:20260423T185108
CREATED:20251028T050957Z
LAST-MODIFIED:20260202T155609Z
UID:38274-1769940900-1769942700@ctkrva.org
SUMMARY:CTK Cafe
DESCRIPTION:
URL:https://ctkrva.org/event/ctk-cafe-101/
LOCATION:After Worship
END:VEVENT
BEGIN:VEVENT
DTSTART;TZID=America/New_York:20260201T111500
DTEND;TZID=America/New_York:20260201T114500
DTSTAMP:20260423T185108
CREATED:20250819T051139Z
LAST-MODIFIED:20260201T160754Z
UID:36548-1769944500-1769946300@ctkrva.org
SUMMARY:CTK Cafe
DESCRIPTION:
URL:https://ctkrva.org/event/ctk-cafe-38/
LOCATION:After Worship
END:VEVENT
BEGIN:VEVENT
DTSTART;TZID=America/New_York:20260202T130000
DTEND;TZID=America/New_York:20260202T140000
DTSTAMP:20260423T185108
CREATED:20250819T150009Z
LAST-MODIFIED:20260202T180532Z
UID:36558-1770037200-1770040800@ctkrva.org
SUMMARY:AA
DESCRIPTION:
URL:https://ctkrva.org/event/aa-224/
LOCATION:Fellowship Hall
END:VEVENT
BEGIN:VEVENT
DTSTART;TZID=America/New_York:20260203T183000
DTEND;TZID=America/New_York:20260203T203000
DTSTAMP:20260423T185108
CREATED:20250820T010144Z
LAST-MODIFIED:20260204T012013Z
UID:36568-1770143400-1770150600@ctkrva.org
SUMMARY:Tai Chi - John Crouse
DESCRIPTION:
URL:https://ctkrva.org/event/tai-chi-john-crouse-225/
LOCATION:Fellowship Hall
END:VEVENT
BEGIN:VEVENT
DTSTART;TZID=America/New_York:20260205T120000
DTEND;TZID=America/New_York:20260205T130000
DTSTAMP:20260423T185108
CREATED:20250820T021218Z
LAST-MODIFIED:20260205T174033Z
UID:36571-1770292800-1770296400@ctkrva.org
SUMMARY:ALANON (12&12)
DESCRIPTION:
URL:https://ctkrva.org/event/alanon-1212-110/
LOCATION:Fellowship Hall
END:VEVENT
BEGIN:VEVENT
DTSTART;TZID=America/New_York:20260205T183000
DTEND;TZID=America/New_York:20260205T203000
DTSTAMP:20260423T185108
CREATED:20250820T144229Z
LAST-MODIFIED:20260206T010600Z
UID:36583-1770316200-1770323400@ctkrva.org
SUMMARY:Tai Chi - John Crouse
DESCRIPTION:
URL:https://ctkrva.org/event/tai-chi-john-crouse-226/
LOCATION:Fellowship Hall
END:VEVENT
BEGIN:VEVENT
DTSTART;TZID=America/New_York:20260206T130000
DTEND;TZID=America/New_York:20260206T140000
DTSTAMP:20260423T185108
CREATED:20250820T205754Z
LAST-MODIFIED:20260206T180554Z
UID:36590-1770382800-1770386400@ctkrva.org
SUMMARY:AA
DESCRIPTION:
URL:https://ctkrva.org/event/aa-225/
LOCATION:Fellowship Hall
END:VEVENT
BEGIN:VEVENT
DTSTART;TZID=America/New_York:20260206T190000
DTEND;TZID=America/New_York:20260206T200000
DTSTAMP:20260423T185108
CREATED:20250821T172745Z
LAST-MODIFIED:20260207T002138Z
UID:36610-1770404400-1770408000@ctkrva.org
SUMMARY:NarAnon
DESCRIPTION:
URL:https://ctkrva.org/event/naranon-73/
LOCATION:Gathering Space
END:VEVENT
BEGIN:VEVENT
DTSTART;TZID=America/New_York:20260207T140000
DTEND;TZID=America/New_York:20260207T150000
DTSTAMP:20260423T185108
CREATED:20260123T142122Z
LAST-MODIFIED:20260207T185107Z
UID:40422-1770472800-1770476400@ctkrva.org
SUMMARY:Nancy Tyler Funeral
DESCRIPTION:
URL:https://ctkrva.org/event/nancy-tyler-funeral/
END:VEVENT
BEGIN:VEVENT
DTSTART;TZID=America/New_York:20260208T090000
DTEND;TZID=America/New_York:20260208T100000
DTSTAMP:20260423T185108
CREATED:20251028T050959Z
LAST-MODIFIED:20260209T161500Z
UID:38275-1770541200-1770544800@ctkrva.org
SUMMARY:Worship
DESCRIPTION:
URL:https://ctkrva.org/event/worship-140/
END:VEVENT
BEGIN:VEVENT
DTSTART;TZID=America/New_York:20260208T100000
DTEND;TZID=America/New_York:20260208T110000
DTSTAMP:20260423T185109
CREATED:20250822T005731Z
LAST-MODIFIED:20260208T145115Z
UID:36618-1770544800-1770548400@ctkrva.org
SUMMARY:Worship
DESCRIPTION:
URL:https://ctkrva.org/event/worship-52/
END:VEVENT
BEGIN:VEVENT
DTSTART;TZID=America/New_York:20260208T101500
DTEND;TZID=America/New_York:20260208T104500
DTSTAMP:20260423T185109
CREATED:20251028T051017Z
LAST-MODIFIED:20260209T161459Z
UID:38276-1770545700-1770547500@ctkrva.org
SUMMARY:CTK Cafe
DESCRIPTION:
URL:https://ctkrva.org/event/ctk-cafe-102/
LOCATION:After Worship
END:VEVENT
END:VCALENDAR