BEGIN:VCALENDAR
VERSION:2.0
PRODID:-//Christ The King Lutheran Church - ECPv6.15.20//NONSGML v1.0//EN
CALSCALE:GREGORIAN
METHOD:PUBLISH
X-ORIGINAL-URL:https://ctkrva.org
X-WR-CALDESC:Events for Christ The King Lutheran Church
REFRESH-INTERVAL;VALUE=DURATION:PT1H
X-Robots-Tag:noindex
X-PUBLISHED-TTL:PT1H
BEGIN:VTIMEZONE
TZID:America/New_York
BEGIN:DAYLIGHT
TZOFFSETFROM:-0500
TZOFFSETTO:-0400
TZNAME:EDT
DTSTART:20250309T070000
END:DAYLIGHT
BEGIN:STANDARD
TZOFFSETFROM:-0400
TZOFFSETTO:-0500
TZNAME:EST
DTSTART:20251102T060000
END:STANDARD
BEGIN:DAYLIGHT
TZOFFSETFROM:-0500
TZOFFSETTO:-0400
TZNAME:EDT
DTSTART:20260308T070000
END:DAYLIGHT
BEGIN:STANDARD
TZOFFSETFROM:-0400
TZOFFSETTO:-0500
TZNAME:EST
DTSTART:20261101T060000
END:STANDARD
BEGIN:DAYLIGHT
TZOFFSETFROM:-0500
TZOFFSETTO:-0400
TZNAME:EDT
DTSTART:20270314T070000
END:DAYLIGHT
BEGIN:STANDARD
TZOFFSETFROM:-0400
TZOFFSETTO:-0500
TZNAME:EST
DTSTART:20271107T060000
END:STANDARD
END:VTIMEZONE
BEGIN:VEVENT
DTSTART;TZID=America/New_York:20260915T183000
DTEND;TZID=America/New_York:20260915T203000
DTSTAMP:20260423T194716
CREATED:20260302T005921Z
LAST-MODIFIED:20260423T234104Z
UID:41281-1789497000-1789504200@ctkrva.org
SUMMARY:Tai Chi - John Crouse
DESCRIPTION:
URL:https://ctkrva.org/event/tai-chi-john-crouse-320/
LOCATION:Fellowship Hall
END:VEVENT
BEGIN:VEVENT
DTSTART;TZID=America/New_York:20260915T190000
DTEND;TZID=America/New_York:20260915T210000
DTSTAMP:20260423T194716
CREATED:20260302T055921Z
LAST-MODIFIED:20260423T234104Z
UID:41287-1789498800-1789506000@ctkrva.org
SUMMARY:Church Council
DESCRIPTION:
URL:https://ctkrva.org/event/church-council-38/
END:VEVENT
BEGIN:VEVENT
DTSTART;TZID=America/New_York:20260917T120000
DTEND;TZID=America/New_York:20260917T130000
DTSTAMP:20260423T194716
CREATED:20260306T015817Z
LAST-MODIFIED:20260423T234105Z
UID:41482-1789646400-1789650000@ctkrva.org
SUMMARY:ALANON (12&12)
DESCRIPTION:
URL:https://ctkrva.org/event/alanon-1212-158/
LOCATION:Fellowship Hall
END:VEVENT
BEGIN:VEVENT
DTSTART;TZID=America/New_York:20260917T183000
DTEND;TZID=America/New_York:20260917T203000
DTSTAMP:20260423T194716
CREATED:20260306T015819Z
LAST-MODIFIED:20260423T234123Z
UID:41483-1789669800-1789677000@ctkrva.org
SUMMARY:Tai Chi - John Crouse
DESCRIPTION:
URL:https://ctkrva.org/event/tai-chi-john-crouse-321/
LOCATION:Fellowship Hall
END:VEVENT
BEGIN:VEVENT
DTSTART;TZID=America/New_York:20260918T130000
DTEND;TZID=America/New_York:20260918T140000
DTSTAMP:20260423T194716
CREATED:20260306T191353Z
LAST-MODIFIED:20260423T234123Z
UID:41500-1789736400-1789740000@ctkrva.org
SUMMARY:AA
DESCRIPTION:
URL:https://ctkrva.org/event/aa-321/
LOCATION:Fellowship Hall
END:VEVENT
BEGIN:VEVENT
DTSTART;TZID=America/New_York:20260918T190000
DTEND;TZID=America/New_York:20260918T200000
DTSTAMP:20260423T194716
CREATED:20260307T012824Z
LAST-MODIFIED:20260423T234123Z
UID:41507-1789758000-1789761600@ctkrva.org
SUMMARY:NarAnon
DESCRIPTION:
URL:https://ctkrva.org/event/naranon-121/
LOCATION:Gathering Space
END:VEVENT
BEGIN:VEVENT
DTSTART;TZID=America/New_York:20260920T100000
DTEND;TZID=America/New_York:20260920T110000
DTSTAMP:20260423T194716
CREATED:20260310T045916Z
LAST-MODIFIED:20260423T234123Z
UID:41573-1789898400-1789902000@ctkrva.org
SUMMARY:Worship
DESCRIPTION:
URL:https://ctkrva.org/event/worship-203/
END:VEVENT
BEGIN:VEVENT
DTSTART;TZID=America/New_York:20260920T111500
DTEND;TZID=America/New_York:20260920T114500
DTSTAMP:20260423T194716
CREATED:20260310T045917Z
LAST-MODIFIED:20260423T234123Z
UID:41574-1789902900-1789904700@ctkrva.org
SUMMARY:CTK Cafe
DESCRIPTION:
URL:https://ctkrva.org/event/ctk-cafe-170/
LOCATION:After Worship
END:VEVENT
BEGIN:VEVENT
DTSTART;TZID=America/New_York:20260921T130000
DTEND;TZID=America/New_York:20260921T140000
DTSTAMP:20260423T194716
CREATED:20260309T185913Z
LAST-MODIFIED:20260423T234123Z
UID:41563-1789995600-1789999200@ctkrva.org
SUMMARY:AA
DESCRIPTION:
URL:https://ctkrva.org/event/aa-322/
LOCATION:Fellowship Hall
END:VEVENT
BEGIN:VEVENT
DTSTART;TZID=America/New_York:20260922T100000
DTEND;TZID=America/New_York:20260922T120000
DTSTAMP:20260423T194716
CREATED:20260310T161357Z
LAST-MODIFIED:20260423T234123Z
UID:41586-1790071200-1790078400@ctkrva.org
SUMMARY:Circle of Faith
DESCRIPTION:
URL:https://ctkrva.org/event/circle-of-faith-65/
END:VEVENT
BEGIN:VEVENT
DTSTART;TZID=America/New_York:20260922T183000
DTEND;TZID=America/New_York:20260922T203000
DTSTAMP:20260423T194716
CREATED:20260310T161358Z
LAST-MODIFIED:20260423T234123Z
UID:41587-1790101800-1790109000@ctkrva.org
SUMMARY:Tai Chi - John Crouse
DESCRIPTION:
URL:https://ctkrva.org/event/tai-chi-john-crouse-322/
LOCATION:Fellowship Hall
END:VEVENT
BEGIN:VEVENT
DTSTART;TZID=America/New_York:20260924T120000
DTEND;TZID=America/New_York:20260924T130000
DTSTAMP:20260423T194716
CREATED:20260311T011418Z
LAST-MODIFIED:20260423T234124Z
UID:41597-1790251200-1790254800@ctkrva.org
SUMMARY:ALANON (12&12)
DESCRIPTION:
URL:https://ctkrva.org/event/alanon-1212-159/
LOCATION:Fellowship Hall
END:VEVENT
BEGIN:VEVENT
DTSTART;TZID=America/New_York:20260924T183000
DTEND;TZID=America/New_York:20260924T203000
DTSTAMP:20260423T194716
CREATED:20260312T005822Z
LAST-MODIFIED:20260423T234124Z
UID:41618-1790274600-1790281800@ctkrva.org
SUMMARY:Tai Chi - John Crouse
DESCRIPTION:
URL:https://ctkrva.org/event/tai-chi-john-crouse-323/
LOCATION:Fellowship Hall
END:VEVENT
BEGIN:VEVENT
DTSTART;TZID=America/New_York:20260925T130000
DTEND;TZID=America/New_York:20260925T140000
DTSTAMP:20260423T194716
CREATED:20260312T171332Z
LAST-MODIFIED:20260423T234142Z
UID:41633-1790341200-1790344800@ctkrva.org
SUMMARY:AA
DESCRIPTION:
URL:https://ctkrva.org/event/aa-323/
LOCATION:Fellowship Hall
END:VEVENT
BEGIN:VEVENT
DTSTART;TZID=America/New_York:20260925T190000
DTEND;TZID=America/New_York:20260925T200000
DTSTAMP:20260423T194716
CREATED:20260312T171334Z
LAST-MODIFIED:20260423T234142Z
UID:41634-1790362800-1790366400@ctkrva.org
SUMMARY:NarAnon
DESCRIPTION:
URL:https://ctkrva.org/event/naranon-122/
LOCATION:Gathering Space
END:VEVENT
BEGIN:VEVENT
DTSTART;TZID=America/New_York:20260927T100000
DTEND;TZID=America/New_York:20260927T110000
DTSTAMP:20260423T194716
CREATED:20260312T171335Z
LAST-MODIFIED:20260423T234142Z
UID:41635-1790503200-1790506800@ctkrva.org
SUMMARY:Worship
DESCRIPTION:
URL:https://ctkrva.org/event/worship-204/
END:VEVENT
BEGIN:VEVENT
DTSTART;TZID=America/New_York:20260927T111500
DTEND;TZID=America/New_York:20260927T114500
DTSTAMP:20260423T194716
CREATED:20260313T004326Z
LAST-MODIFIED:20260423T234142Z
UID:41645-1790507700-1790509500@ctkrva.org
SUMMARY:CTK Cafe
DESCRIPTION:
URL:https://ctkrva.org/event/ctk-cafe-171/
LOCATION:After Worship
END:VEVENT
BEGIN:VEVENT
DTSTART;TZID=America/New_York:20260928T130000
DTEND;TZID=America/New_York:20260928T140000
DTSTAMP:20260423T194716
CREATED:20260313T004327Z
LAST-MODIFIED:20260423T234142Z
UID:41646-1790600400-1790604000@ctkrva.org
SUMMARY:AA
DESCRIPTION:
URL:https://ctkrva.org/event/aa-324/
LOCATION:Fellowship Hall
END:VEVENT
BEGIN:VEVENT
DTSTART;TZID=America/New_York:20260929T183000
DTEND;TZID=America/New_York:20260929T203000
DTSTAMP:20260423T194716
CREATED:20260313T185843Z
LAST-MODIFIED:20260423T234142Z
UID:41663-1790706600-1790713800@ctkrva.org
SUMMARY:Tai Chi - John Crouse
DESCRIPTION:
URL:https://ctkrva.org/event/tai-chi-john-crouse-324/
LOCATION:Fellowship Hall
END:VEVENT
BEGIN:VEVENT
DTSTART;TZID=America/New_York:20260930T133000
DTEND;TZID=America/New_York:20260930T143000
DTSTAMP:20260423T194716
CREATED:20260314T011314Z
LAST-MODIFIED:20260423T234142Z
UID:41670-1790775000-1790778600@ctkrva.org
SUMMARY:Intercessory Prayer Service
DESCRIPTION:
URL:https://ctkrva.org/event/intercessory-prayer-service-36/
END:VEVENT
BEGIN:VEVENT
DTSTART;TZID=America/New_York:20261001T120000
DTEND;TZID=America/New_York:20261001T130000
DTSTAMP:20260423T194716
CREATED:20260315T161333Z
LAST-MODIFIED:20260423T234142Z
UID:41703-1790856000-1790859600@ctkrva.org
SUMMARY:ALANON (12&12)
DESCRIPTION:
URL:https://ctkrva.org/event/alanon-1212-160/
LOCATION:Fellowship Hall
END:VEVENT
BEGIN:VEVENT
DTSTART;TZID=America/New_York:20261001T183000
DTEND;TZID=America/New_York:20261001T203000
DTSTAMP:20260423T194716
CREATED:20260315T161334Z
LAST-MODIFIED:20260423T234142Z
UID:41704-1790879400-1790886600@ctkrva.org
SUMMARY:Tai Chi - John Crouse
DESCRIPTION:
URL:https://ctkrva.org/event/tai-chi-john-crouse-325/
LOCATION:Fellowship Hall
END:VEVENT
BEGIN:VEVENT
DTSTART;TZID=America/New_York:20261002T130000
DTEND;TZID=America/New_York:20261002T140000
DTSTAMP:20260423T194716
CREATED:20260316T182819Z
LAST-MODIFIED:20260423T234142Z
UID:41731-1790946000-1790949600@ctkrva.org
SUMMARY:AA
DESCRIPTION:
URL:https://ctkrva.org/event/aa-325/
LOCATION:Fellowship Hall
END:VEVENT
BEGIN:VEVENT
DTSTART;TZID=America/New_York:20261002T190000
DTEND;TZID=America/New_York:20261002T200000
DTSTAMP:20260423T194716
CREATED:20260318T011317Z
LAST-MODIFIED:20260423T234201Z
UID:41758-1790967600-1790971200@ctkrva.org
SUMMARY:NarAnon
DESCRIPTION:
URL:https://ctkrva.org/event/naranon-123/
LOCATION:Gathering Space
END:VEVENT
BEGIN:VEVENT
DTSTART;VALUE=DATE:20261004
DTEND;VALUE=DATE:20261005
DTSTAMP:20260423T194716
CREATED:20260318T011319Z
LAST-MODIFIED:20260423T234201Z
UID:41759-1791072000-1791158399@ctkrva.org
SUMMARY:Food Pantry Sunday
DESCRIPTION:
URL:https://ctkrva.org/event/food-pantry-sunday-43/
END:VEVENT
BEGIN:VEVENT
DTSTART;TZID=America/New_York:20261004T100000
DTEND;TZID=America/New_York:20261004T110000
DTSTAMP:20260423T194716
CREATED:20260319T005835Z
LAST-MODIFIED:20260423T234201Z
UID:41785-1791108000-1791111600@ctkrva.org
SUMMARY:Worship
DESCRIPTION:
URL:https://ctkrva.org/event/worship-205/
END:VEVENT
BEGIN:VEVENT
DTSTART;TZID=America/New_York:20261004T111500
DTEND;TZID=America/New_York:20261004T114500
DTSTAMP:20260423T194716
CREATED:20260319T192823Z
LAST-MODIFIED:20260423T234201Z
UID:41802-1791112500-1791114300@ctkrva.org
SUMMARY:CTK Cafe
DESCRIPTION:
URL:https://ctkrva.org/event/ctk-cafe-172/
LOCATION:After Worship
END:VEVENT
BEGIN:VEVENT
DTSTART;TZID=America/New_York:20261005T130000
DTEND;TZID=America/New_York:20261005T140000
DTSTAMP:20260423T194716
CREATED:20260320T002838Z
LAST-MODIFIED:20260423T234201Z
UID:41808-1791205200-1791208800@ctkrva.org
SUMMARY:AA
DESCRIPTION:
URL:https://ctkrva.org/event/aa-326/
LOCATION:Fellowship Hall
END:VEVENT
BEGIN:VEVENT
DTSTART;TZID=America/New_York:20261006T183000
DTEND;TZID=America/New_York:20261006T203000
DTSTAMP:20260423T194716
CREATED:20260320T024309Z
LAST-MODIFIED:20260423T234201Z
UID:41815-1791311400-1791318600@ctkrva.org
SUMMARY:Tai Chi - John Crouse
DESCRIPTION:
URL:https://ctkrva.org/event/tai-chi-john-crouse-326/
LOCATION:Fellowship Hall
END:VEVENT
BEGIN:VEVENT
DTSTART;TZID=America/New_York:20261008T120000
DTEND;TZID=America/New_York:20261008T130000
DTSTAMP:20260423T194716
CREATED:20260320T181336Z
LAST-MODIFIED:20260423T234201Z
UID:41830-1791460800-1791464400@ctkrva.org
SUMMARY:Bon Air Ministers Lunch
DESCRIPTION:
URL:https://ctkrva.org/event/bon-air-ministers-lunch-26/
END:VEVENT
END:VCALENDAR