BEGIN:VCALENDAR
VERSION:2.0
PRODID:-//Christ The King Lutheran Church - ECPv6.15.20//NONSGML v1.0//EN
CALSCALE:GREGORIAN
METHOD:PUBLISH
X-WR-CALNAME:Christ The King Lutheran Church
X-ORIGINAL-URL:https://ctkrva.org
X-WR-CALDESC:Events for Christ The King Lutheran Church
REFRESH-INTERVAL;VALUE=DURATION:PT1H
X-Robots-Tag:noindex
X-PUBLISHED-TTL:PT1H
BEGIN:VTIMEZONE
TZID:America/New_York
BEGIN:DAYLIGHT
TZOFFSETFROM:-0500
TZOFFSETTO:-0400
TZNAME:EDT
DTSTART:20240310T070000
END:DAYLIGHT
BEGIN:STANDARD
TZOFFSETFROM:-0400
TZOFFSETTO:-0500
TZNAME:EST
DTSTART:20241103T060000
END:STANDARD
BEGIN:DAYLIGHT
TZOFFSETFROM:-0500
TZOFFSETTO:-0400
TZNAME:EDT
DTSTART:20250309T070000
END:DAYLIGHT
BEGIN:STANDARD
TZOFFSETFROM:-0400
TZOFFSETTO:-0500
TZNAME:EST
DTSTART:20251102T060000
END:STANDARD
BEGIN:DAYLIGHT
TZOFFSETFROM:-0500
TZOFFSETTO:-0400
TZNAME:EDT
DTSTART:20260308T070000
END:DAYLIGHT
BEGIN:STANDARD
TZOFFSETFROM:-0400
TZOFFSETTO:-0500
TZNAME:EST
DTSTART:20261101T060000
END:STANDARD
END:VTIMEZONE
BEGIN:VEVENT
DTSTART;VALUE=DATE:20250427
DTEND;VALUE=DATE:20250428
DTSTAMP:20260425T075808
CREATED:20250415T180715Z
LAST-MODIFIED:20250427T233527Z
UID:24879-1745712000-1745798399@ctkrva.org
SUMMARY:Youth Sunday
DESCRIPTION:
URL:https://ctkrva.org/event/youth-sunday-3/
END:VEVENT
BEGIN:VEVENT
DTSTART;TZID=America/New_York:20250426T193000
DTEND;TZID=America/New_York:20250426T213000
DTSTAMP:20260425T075808
CREATED:20250416T152234Z
LAST-MODIFIED:20250427T010628Z
UID:24898-1745695800-1745703000@ctkrva.org
SUMMARY:Youth Service Rehearsal
DESCRIPTION:
URL:https://ctkrva.org/event/youth-service-rehearsal/
END:VEVENT
BEGIN:VEVENT
DTSTART;TZID=America/New_York:20250425T190000
DTEND;TZID=America/New_York:20250425T200000
DTSTAMP:20260425T075808
CREATED:20250423T135523Z
LAST-MODIFIED:20250425T225042Z
UID:25086-1745607600-1745611200@ctkrva.org
SUMMARY:NarAnon
DESCRIPTION:
URL:https://ctkrva.org/event/naranon-59/
LOCATION:Gathering Space
END:VEVENT
BEGIN:VEVENT
DTSTART;TZID=America/New_York:20250425T180000
DTEND;TZID=America/New_York:20250426T150000
DTSTAMP:20260425T075808
CREATED:20250423T135523Z
LAST-MODIFIED:20250426T185040Z
UID:25085-1745604000-1745679600@ctkrva.org
SUMMARY:Dave Delaney - Kairos Overnight Planning Session
DESCRIPTION:
URL:https://ctkrva.org/event/dave-delaney-kairos-overnight-planning-session/
END:VEVENT
BEGIN:VEVENT
DTSTART;TZID=America/New_York:20250425T130000
DTEND;TZID=America/New_York:20250425T140000
DTSTAMP:20260425T075808
CREATED:20250423T135522Z
LAST-MODIFIED:20250425T175050Z
UID:25084-1745586000-1745589600@ctkrva.org
SUMMARY:AA
DESCRIPTION:
URL:https://ctkrva.org/event/aa-77/
LOCATION:Fellowship Hall
END:VEVENT
BEGIN:VEVENT
DTSTART;TZID=America/New_York:20250424T190000
DTEND;TZID=America/New_York:20250424T200000
DTSTAMP:20260425T075808
CREATED:20250423T135522Z
LAST-MODIFIED:20250424T232109Z
UID:25083-1745521200-1745524800@ctkrva.org
SUMMARY:Choir
DESCRIPTION:
URL:https://ctkrva.org/event/choir-17/
END:VEVENT
BEGIN:VEVENT
DTSTART;TZID=America/New_York:20250424T183000
DTEND;TZID=America/New_York:20250424T203000
DTSTAMP:20260425T075808
CREATED:20250423T135521Z
LAST-MODIFIED:20250424T232109Z
UID:25081-1745519400-1745526600@ctkrva.org
SUMMARY:Tai Chi - John Crouse
DESCRIPTION:
URL:https://ctkrva.org/event/tai-chi-john-crouse-60/
LOCATION:Fellowship Hall
END:VEVENT
BEGIN:VEVENT
DTSTART;TZID=America/New_York:20250424T180000
DTEND;TZID=America/New_York:20250424T190000
DTSTAMP:20260425T075808
CREATED:20250423T135522Z
LAST-MODIFIED:20250424T220529Z
UID:25082-1745517600-1745521200@ctkrva.org
SUMMARY:Handbells
DESCRIPTION:
URL:https://ctkrva.org/event/handbells-17/
END:VEVENT
BEGIN:VEVENT
DTSTART;TZID=America/New_York:20250424T120000
DTEND;TZID=America/New_York:20250424T130000
DTSTAMP:20260425T075808
CREATED:20250423T135521Z
LAST-MODIFIED:20250424T155126Z
UID:25080-1745496000-1745499600@ctkrva.org
SUMMARY:ALANON (12&12)
DESCRIPTION:
URL:https://ctkrva.org/event/alanon-1212-33/
LOCATION:Fellowship Hall
END:VEVENT
BEGIN:VEVENT
DTSTART;TZID=America/New_York:20250423T100000
DTEND;TZID=America/New_York:20250423T160000
DTSTAMP:20260425T075808
CREATED:20250423T135520Z
LAST-MODIFIED:20250423T195017Z
UID:25078-1745402400-1745424000@ctkrva.org
SUMMARY:CTK Quilters
DESCRIPTION:
URL:https://ctkrva.org/event/ctk-quilters-15/
END:VEVENT
BEGIN:VEVENT
DTSTART;TZID=America/New_York:20250423T093000
DTEND;TZID=America/New_York:20250423T103000
DTSTAMP:20260425T075808
CREATED:20250423T135521Z
LAST-MODIFIED:20250423T135521Z
UID:25079-1745400600-1745404200@ctkrva.org
SUMMARY:Staff Meeting
DESCRIPTION:
URL:https://ctkrva.org/event/staff-meeting-37/
END:VEVENT
BEGIN:VEVENT
DTSTART;TZID=America/New_York:20250417T190000
DTEND;TZID=America/New_York:20250417T200000
DTSTAMP:20260425T075808
CREATED:20250416T190539Z
LAST-MODIFIED:20250417T235017Z
UID:24904-1744916400-1744920000@ctkrva.org
SUMMARY:Maundy Thursday Worship at CTK
DESCRIPTION:
URL:https://ctkrva.org/event/maundy-thursday-worship-at-ctk/
END:VEVENT
BEGIN:VEVENT
DTSTART;TZID=America/New_York:20250318T183000
DTEND;TZID=America/New_York:20250318T203000
DTSTAMP:20260425T075808
CREATED:20241127T212644Z
LAST-MODIFIED:20250318T235026Z
UID:20960-1742322600-1742329800@ctkrva.org
SUMMARY:Tai Chi - John Crouse
DESCRIPTION:
URL:https://ctkrva.org/event/tai-chi-john-crouse-194/
LOCATION:Fellowship Hall
END:VEVENT
BEGIN:VEVENT
DTSTART;TZID=America/New_York:20250317T130000
DTEND;TZID=America/New_York:20250317T140000
DTSTAMP:20260425T075808
CREATED:20241127T212643Z
LAST-MODIFIED:20250317T175035Z
UID:20959-1742216400-1742220000@ctkrva.org
SUMMARY:AA
DESCRIPTION:
URL:https://ctkrva.org/event/aa-194/
LOCATION:Fellowship Hall
END:VEVENT
BEGIN:VEVENT
DTSTART;TZID=America/New_York:20250316T160000
DTEND;TZID=America/New_York:20250316T180000
DTSTAMP:20260425T075808
CREATED:20250310T133549Z
LAST-MODIFIED:20250316T215012Z
UID:23909-1742140800-1742148000@ctkrva.org
SUMMARY:Confirmation Class
DESCRIPTION:
URL:https://ctkrva.org/event/confirmation-class-4/
LOCATION:LCOS
END:VEVENT
BEGIN:VEVENT
DTSTART;TZID=America/New_York:20250316T120000
DTEND;TZID=America/New_York:20250316T140000
DTSTAMP:20260425T075808
CREATED:20250311T193532Z
LAST-MODIFIED:20250316T165104Z
UID:23947-1742126400-1742133600@ctkrva.org
SUMMARY:Worship & Music Planning Session
DESCRIPTION:
URL:https://ctkrva.org/event/worship-music-planning-session/
END:VEVENT
BEGIN:VEVENT
DTSTART;TZID=America/New_York:20250316T113000
DTEND;TZID=America/New_York:20250316T120000
DTSTAMP:20260425T075808
CREATED:20250102T142403Z
LAST-MODIFIED:20250316T153515Z
UID:22246-1742124600-1742126400@ctkrva.org
SUMMARY:Sunday School
DESCRIPTION:
URL:https://ctkrva.org/event/sunday-school-26/
END:VEVENT
BEGIN:VEVENT
DTSTART;TZID=America/New_York:20250316T113000
DTEND;TZID=America/New_York:20250316T120000
DTSTAMP:20260425T075808
CREATED:20250102T142403Z
LAST-MODIFIED:20250316T153515Z
UID:22247-1742124600-1742126400@ctkrva.org
SUMMARY:Everyday Christians
DESCRIPTION:
URL:https://ctkrva.org/event/everyday-christians-21/
END:VEVENT
BEGIN:VEVENT
DTSTART;TZID=America/New_York:20250314T190000
DTEND;TZID=America/New_York:20250314T200000
DTSTAMP:20260425T075808
CREATED:20241127T212642Z
LAST-MODIFIED:20250314T233512Z
UID:20957-1741978800-1741982400@ctkrva.org
SUMMARY:NarAnon
DESCRIPTION:
URL:https://ctkrva.org/event/naranon-58/
LOCATION:Gathering Space
END:VEVENT
BEGIN:VEVENT
DTSTART;TZID=America/New_York:20250314T190000
DTEND;TZID=America/New_York:20250314T200000
DTSTAMP:20260425T075808
CREATED:20241127T212641Z
LAST-MODIFIED:20250314T233512Z
UID:20956-1741978800-1741982400@ctkrva.org
SUMMARY:NA
DESCRIPTION:
URL:https://ctkrva.org/event/na-56/
LOCATION:Fellowship Hall
END:VEVENT
BEGIN:VEVENT
DTSTART;TZID=America/New_York:20250314T130000
DTEND;TZID=America/New_York:20250314T140000
DTSTAMP:20260425T075808
CREATED:20241127T212641Z
LAST-MODIFIED:20250314T173516Z
UID:20955-1741957200-1741960800@ctkrva.org
SUMMARY:AA
DESCRIPTION:
URL:https://ctkrva.org/event/aa-193/
LOCATION:Fellowship Hall
END:VEVENT
BEGIN:VEVENT
DTSTART;TZID=America/New_York:20250313T190000
DTEND;TZID=America/New_York:20250313T200000
DTSTAMP:20260425T075808
CREATED:20241127T212640Z
LAST-MODIFIED:20250313T225102Z
UID:20954-1741892400-1741896000@ctkrva.org
SUMMARY:Choir
DESCRIPTION:
URL:https://ctkrva.org/event/choir-96/
END:VEVENT
BEGIN:VEVENT
DTSTART;TZID=America/New_York:20250313T183000
DTEND;TZID=America/New_York:20250313T203000
DTSTAMP:20260425T075808
CREATED:20241127T212639Z
LAST-MODIFIED:20250314T000517Z
UID:20953-1741890600-1741897800@ctkrva.org
SUMMARY:Tai Chi - John Crouse
DESCRIPTION:
URL:https://ctkrva.org/event/tai-chi-john-crouse-193/
LOCATION:Fellowship Hall
END:VEVENT
BEGIN:VEVENT
DTSTART;TZID=America/New_York:20250313T180000
DTEND;TZID=America/New_York:20250313T190000
DTSTAMP:20260425T075808
CREATED:20241127T212639Z
LAST-MODIFIED:20250313T225102Z
UID:20952-1741888800-1741892400@ctkrva.org
SUMMARY:Handbells
DESCRIPTION:
URL:https://ctkrva.org/event/handbells-96/
END:VEVENT
BEGIN:VEVENT
DTSTART;TZID=America/New_York:20250313T120000
DTEND;TZID=America/New_York:20250313T140000
DTSTAMP:20260425T075808
CREATED:20241127T212624Z
LAST-MODIFIED:20250313T175029Z
UID:20950-1741867200-1741874400@ctkrva.org
SUMMARY:Bon Air Ministers Lunch
DESCRIPTION:
URL:https://ctkrva.org/event/bon-air-ministers-lunch-14/
END:VEVENT
BEGIN:VEVENT
DTSTART;TZID=America/New_York:20250313T120000
DTEND;TZID=America/New_York:20250313T130000
DTSTAMP:20260425T075808
CREATED:20241127T212638Z
LAST-MODIFIED:20250313T163527Z
UID:20951-1741867200-1741870800@ctkrva.org
SUMMARY:ALANON (12&12)
DESCRIPTION:
URL:https://ctkrva.org/event/alanon-1212-98/
LOCATION:Fellowship Hall
END:VEVENT
BEGIN:VEVENT
DTSTART;TZID=America/New_York:20250312T194500
DTEND;TZID=America/New_York:20250312T204500
DTSTAMP:20260425T075808
CREATED:20250306T175343Z
LAST-MODIFIED:20250313T002022Z
UID:23813-1741808700-1741812300@ctkrva.org
SUMMARY:Cornerstone Band
DESCRIPTION:
URL:https://ctkrva.org/event/cornerstone-band-12/
END:VEVENT
BEGIN:VEVENT
DTSTART;TZID=America/New_York:20250312T190000
DTEND;TZID=America/New_York:20250312T193000
DTSTAMP:20260425T075808
CREATED:20250303T153556Z
LAST-MODIFIED:20250312T230514Z
UID:23701-1741806000-1741807800@ctkrva.org
SUMMARY:Midweek Lenten Service
DESCRIPTION:
URL:https://ctkrva.org/event/midweek-lenten-service-5/
END:VEVENT
BEGIN:VEVENT
DTSTART;TZID=America/New_York:20250312T100000
DTEND;TZID=America/New_York:20250312T160000
DTSTAMP:20260425T075808
CREATED:20250127T155350Z
LAST-MODIFIED:20250312T192017Z
UID:22867-1741773600-1741795200@ctkrva.org
SUMMARY:CTK Quilters
DESCRIPTION:
URL:https://ctkrva.org/event/ctk-quilters-14/
END:VEVENT
BEGIN:VEVENT
DTSTART;TZID=America/New_York:20250312T093000
DTEND;TZID=America/New_York:20250312T103000
DTSTAMP:20260425T075808
CREATED:20250102T142349Z
LAST-MODIFIED:20250312T142024Z
UID:22245-1741771800-1741775400@ctkrva.org
SUMMARY:Staff Meeting
DESCRIPTION:
URL:https://ctkrva.org/event/staff-meeting-95/
END:VEVENT
END:VCALENDAR