BEGIN:VCALENDAR
VERSION:2.0
PRODID:-//Christ The King Lutheran Church - ECPv6.15.20//NONSGML v1.0//EN
CALSCALE:GREGORIAN
METHOD:PUBLISH
X-WR-CALNAME:Christ The King Lutheran Church
X-ORIGINAL-URL:https://ctkrva.org
X-WR-CALDESC:Events for Christ The King Lutheran Church
REFRESH-INTERVAL;VALUE=DURATION:PT1H
X-Robots-Tag:noindex
X-PUBLISHED-TTL:PT1H
BEGIN:VTIMEZONE
TZID:America/New_York
BEGIN:DAYLIGHT
TZOFFSETFROM:-0500
TZOFFSETTO:-0400
TZNAME:EDT
DTSTART:20240310T070000
END:DAYLIGHT
BEGIN:STANDARD
TZOFFSETFROM:-0400
TZOFFSETTO:-0500
TZNAME:EST
DTSTART:20241103T060000
END:STANDARD
BEGIN:DAYLIGHT
TZOFFSETFROM:-0500
TZOFFSETTO:-0400
TZNAME:EDT
DTSTART:20250309T070000
END:DAYLIGHT
BEGIN:STANDARD
TZOFFSETFROM:-0400
TZOFFSETTO:-0500
TZNAME:EST
DTSTART:20251102T060000
END:STANDARD
BEGIN:DAYLIGHT
TZOFFSETFROM:-0500
TZOFFSETTO:-0400
TZNAME:EDT
DTSTART:20260308T070000
END:DAYLIGHT
BEGIN:STANDARD
TZOFFSETFROM:-0400
TZOFFSETTO:-0500
TZNAME:EST
DTSTART:20261101T060000
END:STANDARD
END:VTIMEZONE
BEGIN:VEVENT
DTSTART;TZID=America/New_York:20251214T111500
DTEND;TZID=America/New_York:20251214T114500
DTSTAMP:20260423T201122
CREATED:20250818T165721Z
LAST-MODIFIED:20251214T162048Z
UID:36067-1765710900-1765712700@ctkrva.org
SUMMARY:CTK Cafe
DESCRIPTION:
URL:https://ctkrva.org/event/ctk-cafe-57/
LOCATION:After Worship
END:VEVENT
BEGIN:VEVENT
DTSTART;TZID=America/New_York:20251215T130000
DTEND;TZID=America/New_York:20251215T140000
DTSTAMP:20260423T201122
CREATED:20250818T165722Z
LAST-MODIFIED:20251215T182036Z
UID:36068-1765803600-1765807200@ctkrva.org
SUMMARY:AA
DESCRIPTION:
URL:https://ctkrva.org/event/aa-244/
LOCATION:Fellowship Hall
END:VEVENT
BEGIN:VEVENT
DTSTART;TZID=America/New_York:20251216T183000
DTEND;TZID=America/New_York:20251216T203000
DTSTAMP:20260423T201122
CREATED:20250818T165724Z
LAST-MODIFIED:20251217T012027Z
UID:36070-1765909800-1765917000@ctkrva.org
SUMMARY:Tai Chi - John Crouse
DESCRIPTION:
URL:https://ctkrva.org/event/tai-chi-john-crouse-244/
LOCATION:Fellowship Hall
END:VEVENT
BEGIN:VEVENT
DTSTART;TZID=America/New_York:20251216T190000
DTEND;TZID=America/New_York:20251216T210000
DTSTAMP:20260423T201122
CREATED:20250818T165723Z
LAST-MODIFIED:20251217T012027Z
UID:36069-1765911600-1765918800@ctkrva.org
SUMMARY:Church Council
DESCRIPTION:
URL:https://ctkrva.org/event/church-council-29/
END:VEVENT
BEGIN:VEVENT
DTSTART;TZID=America/New_York:20251217T093000
DTEND;TZID=America/New_York:20251217T103000
DTSTAMP:20260423T201122
CREATED:20250818T165725Z
LAST-MODIFIED:20251222T153118Z
UID:36071-1765963800-1765967400@ctkrva.org
SUMMARY:Staff Meeting
DESCRIPTION:
URL:https://ctkrva.org/event/staff-meeting-121/
END:VEVENT
BEGIN:VEVENT
DTSTART;TZID=America/New_York:20251217T100000
DTEND;TZID=America/New_York:20251217T160000
DTSTAMP:20260423T201122
CREATED:20250818T165726Z
LAST-MODIFIED:20251217T203541Z
UID:36072-1765965600-1765987200@ctkrva.org
SUMMARY:CTK Quilters
DESCRIPTION:
URL:https://ctkrva.org/event/ctk-quilters-41/
END:VEVENT
BEGIN:VEVENT
DTSTART;TZID=America/New_York:20251218T120000
DTEND;TZID=America/New_York:20251218T130000
DTSTAMP:20260423T201122
CREATED:20250818T165726Z
LAST-MODIFIED:20251218T175044Z
UID:36073-1766059200-1766062800@ctkrva.org
SUMMARY:ALANON (12&12)
DESCRIPTION:
URL:https://ctkrva.org/event/alanon-1212-120/
LOCATION:Fellowship Hall
END:VEVENT
BEGIN:VEVENT
DTSTART;TZID=America/New_York:20251218T183000
DTEND;TZID=America/New_York:20251218T203000
DTSTAMP:20260423T201122
CREATED:20250818T165727Z
LAST-MODIFIED:20251219T012032Z
UID:36074-1766082600-1766089800@ctkrva.org
SUMMARY:Tai Chi - John Crouse
DESCRIPTION:
URL:https://ctkrva.org/event/tai-chi-john-crouse-245/
LOCATION:Fellowship Hall
END:VEVENT
BEGIN:VEVENT
DTSTART;TZID=America/New_York:20251219T130000
DTEND;TZID=America/New_York:20251219T140000
DTSTAMP:20260423T201122
CREATED:20250818T165728Z
LAST-MODIFIED:20251219T183723Z
UID:36075-1766149200-1766152800@ctkrva.org
SUMMARY:AA
DESCRIPTION:
URL:https://ctkrva.org/event/aa-245/
LOCATION:Fellowship Hall
END:VEVENT
BEGIN:VEVENT
DTSTART;TZID=America/New_York:20251219T190000
DTEND;TZID=America/New_York:20251219T200000
DTSTAMP:20260423T201122
CREATED:20250818T165729Z
LAST-MODIFIED:20251220T005111Z
UID:36076-1766170800-1766174400@ctkrva.org
SUMMARY:NarAnon
DESCRIPTION:
URL:https://ctkrva.org/event/naranon-83/
LOCATION:Gathering Space
END:VEVENT
BEGIN:VEVENT
DTSTART;TZID=America/New_York:20251221T090000
DTEND;TZID=America/New_York:20251221T100000
DTSTAMP:20260423T201122
CREATED:20251028T050746Z
LAST-MODIFIED:20251222T153117Z
UID:38261-1766307600-1766311200@ctkrva.org
SUMMARY:Worship
DESCRIPTION:
URL:https://ctkrva.org/event/worship-133/
END:VEVENT
BEGIN:VEVENT
DTSTART;TZID=America/New_York:20251221T100000
DTEND;TZID=America/New_York:20251221T110000
DTSTAMP:20260423T201122
CREATED:20250818T165743Z
LAST-MODIFIED:20251221T152056Z
UID:36077-1766311200-1766314800@ctkrva.org
SUMMARY:Worship
DESCRIPTION:
URL:https://ctkrva.org/event/worship-63/
END:VEVENT
BEGIN:VEVENT
DTSTART;TZID=America/New_York:20251221T101500
DTEND;TZID=America/New_York:20251221T104500
DTSTAMP:20260423T201122
CREATED:20251028T050747Z
LAST-MODIFIED:20251222T153116Z
UID:38262-1766312100-1766313900@ctkrva.org
SUMMARY:CTK Cafe
DESCRIPTION:
URL:https://ctkrva.org/event/ctk-cafe-95/
LOCATION:After Worship
END:VEVENT
BEGIN:VEVENT
DTSTART;TZID=America/New_York:20251221T111500
DTEND;TZID=America/New_York:20251221T114500
DTSTAMP:20260423T201122
CREATED:20250818T165744Z
LAST-MODIFIED:20251221T163627Z
UID:36078-1766315700-1766317500@ctkrva.org
SUMMARY:CTK Cafe
DESCRIPTION:
URL:https://ctkrva.org/event/ctk-cafe-58/
LOCATION:After Worship
END:VEVENT
BEGIN:VEVENT
DTSTART;TZID=America/New_York:20251222T120000
DTEND;TZID=America/New_York:20251222T130000
DTSTAMP:20260423T201122
CREATED:20250818T165745Z
LAST-MODIFIED:20251222T153115Z
UID:36079-1766404800-1766408400@ctkrva.org
SUMMARY:Executive Team
DESCRIPTION:
URL:https://ctkrva.org/event/executive-team-58/
END:VEVENT
BEGIN:VEVENT
DTSTART;TZID=America/New_York:20251222T130000
DTEND;TZID=America/New_York:20251222T140000
DTSTAMP:20260423T201122
CREATED:20250818T165746Z
LAST-MODIFIED:20251222T182109Z
UID:36080-1766408400-1766412000@ctkrva.org
SUMMARY:AA
DESCRIPTION:
URL:https://ctkrva.org/event/aa-246/
LOCATION:Fellowship Hall
END:VEVENT
BEGIN:VEVENT
DTSTART;TZID=America/New_York:20251223T100000
DTEND;TZID=America/New_York:20251223T120000
DTSTAMP:20260423T201122
CREATED:20250818T165747Z
LAST-MODIFIED:20251229T162839Z
UID:36081-1766484000-1766491200@ctkrva.org
SUMMARY:Circle of Faith
DESCRIPTION:
URL:https://ctkrva.org/event/circle-of-faith-47/
END:VEVENT
BEGIN:VEVENT
DTSTART;TZID=America/New_York:20251223T183000
DTEND;TZID=America/New_York:20251223T203000
DTSTAMP:20260423T201122
CREATED:20250818T165749Z
LAST-MODIFIED:20251224T012132Z
UID:36084-1766514600-1766521800@ctkrva.org
SUMMARY:Tai Chi - John Crouse
DESCRIPTION:
URL:https://ctkrva.org/event/tai-chi-john-crouse-246/
LOCATION:Fellowship Hall
END:VEVENT
BEGIN:VEVENT
DTSTART;VALUE=DATE:20251224
DTEND;VALUE=DATE:20251225
DTSTAMP:20260423T201122
CREATED:20250818T165749Z
LAST-MODIFIED:20251224T235151Z
UID:36083-1766534400-1766620799@ctkrva.org
SUMMARY:Christmas Eve
DESCRIPTION:
URL:https://ctkrva.org/event/christmas-eve-3/
END:VEVENT
BEGIN:VEVENT
DTSTART;VALUE=DATE:20251224
DTEND;VALUE=DATE:20251225
DTSTAMP:20260423T201122
CREATED:20250818T165751Z
LAST-MODIFIED:20251224T235151Z
UID:36086-1766534400-1766620799@ctkrva.org
SUMMARY:Office Closed - Holiday
DESCRIPTION:
URL:https://ctkrva.org/event/office-closed-holiday-3/
END:VEVENT
BEGIN:VEVENT
DTSTART;TZID=America/New_York:20251224T093000
DTEND;TZID=America/New_York:20251224T103000
DTSTAMP:20260423T201122
CREATED:20250818T165748Z
LAST-MODIFIED:20251229T162839Z
UID:36082-1766568600-1766572200@ctkrva.org
SUMMARY:Staff Meeting
DESCRIPTION:
URL:https://ctkrva.org/event/staff-meeting-123/
END:VEVENT
BEGIN:VEVENT
DTSTART;TZID=America/New_York:20251224T100000
DTEND;TZID=America/New_York:20251224T160000
DTSTAMP:20260423T201122
CREATED:20250818T165750Z
LAST-MODIFIED:20251229T162839Z
UID:36085-1766570400-1766592000@ctkrva.org
SUMMARY:CTK Quilters
DESCRIPTION:
URL:https://ctkrva.org/event/ctk-quilters-43/
END:VEVENT
BEGIN:VEVENT
DTSTART;TZID=America/New_York:20251224T190000
DTEND;TZID=America/New_York:20251224T200000
DTSTAMP:20260423T201122
CREATED:20251220T182047Z
LAST-MODIFIED:20251224T235151Z
UID:39641-1766602800-1766606400@ctkrva.org
SUMMARY:Christmas Eve Service
DESCRIPTION:
URL:https://ctkrva.org/event/christmas-eve-service-3/
END:VEVENT
BEGIN:VEVENT
DTSTART;VALUE=DATE:20251225
DTEND;VALUE=DATE:20251226
DTSTAMP:20260423T201122
CREATED:20250818T165806Z
LAST-MODIFIED:20251225T232014Z
UID:36088-1766620800-1766707199@ctkrva.org
SUMMARY:Christmas Day
DESCRIPTION:
URL:https://ctkrva.org/event/christmas-day-3/
END:VEVENT
BEGIN:VEVENT
DTSTART;VALUE=DATE:20251225
DTEND;VALUE=DATE:20251226
DTSTAMP:20260423T201122
CREATED:20250818T165807Z
LAST-MODIFIED:20251225T232014Z
UID:36089-1766620800-1766707199@ctkrva.org
SUMMARY:Office Closed - Holiday
DESCRIPTION:
URL:https://ctkrva.org/event/office-closed-holiday-4/
END:VEVENT
BEGIN:VEVENT
DTSTART;TZID=America/New_York:20251225T120000
DTEND;TZID=America/New_York:20251225T130000
DTSTAMP:20260423T201122
CREATED:20250818T165805Z
LAST-MODIFIED:20251229T162839Z
UID:36087-1766664000-1766667600@ctkrva.org
SUMMARY:ALANON (12&12)
DESCRIPTION:
URL:https://ctkrva.org/event/alanon-1212-121/
LOCATION:Fellowship Hall
END:VEVENT
BEGIN:VEVENT
DTSTART;TZID=America/New_York:20251225T183000
DTEND;TZID=America/New_York:20251225T203000
DTSTAMP:20260423T201122
CREATED:20250818T165807Z
LAST-MODIFIED:20251229T162839Z
UID:36090-1766687400-1766694600@ctkrva.org
SUMMARY:Tai Chi - John Crouse
DESCRIPTION:
URL:https://ctkrva.org/event/tai-chi-john-crouse-247/
LOCATION:Fellowship Hall
END:VEVENT
BEGIN:VEVENT
DTSTART;TZID=America/New_York:20251226T080000
DTEND;TZID=America/New_York:20251226T083000
DTSTAMP:20260423T201122
CREATED:20250818T165808Z
LAST-MODIFIED:20251226T130609Z
UID:36091-1766736000-1766737800@ctkrva.org
SUMMARY:Office Closed - Holiday
DESCRIPTION:
URL:https://ctkrva.org/event/office-closed-holiday-5/
END:VEVENT
BEGIN:VEVENT
DTSTART;TZID=America/New_York:20251226T130000
DTEND;TZID=America/New_York:20251226T140000
DTSTAMP:20260423T201122
CREATED:20250818T165809Z
LAST-MODIFIED:20251226T180541Z
UID:36092-1766754000-1766757600@ctkrva.org
SUMMARY:AA
DESCRIPTION:
URL:https://ctkrva.org/event/aa-247/
LOCATION:Fellowship Hall
END:VEVENT
BEGIN:VEVENT
DTSTART;TZID=America/New_York:20251226T190000
DTEND;TZID=America/New_York:20251226T200000
DTSTAMP:20260423T201122
CREATED:20250818T165810Z
LAST-MODIFIED:20251227T002104Z
UID:36093-1766775600-1766779200@ctkrva.org
SUMMARY:NarAnon
DESCRIPTION:
URL:https://ctkrva.org/event/naranon-84/
LOCATION:Gathering Space
END:VEVENT
END:VCALENDAR