BEGIN:VCALENDAR
VERSION:2.0
PRODID:-//Christ The King Lutheran Church - ECPv6.15.20//NONSGML v1.0//EN
CALSCALE:GREGORIAN
METHOD:PUBLISH
X-WR-CALNAME:Christ The King Lutheran Church
X-ORIGINAL-URL:https://ctkrva.org
X-WR-CALDESC:Events for Christ The King Lutheran Church
REFRESH-INTERVAL;VALUE=DURATION:PT1H
X-Robots-Tag:noindex
X-PUBLISHED-TTL:PT1H
BEGIN:VTIMEZONE
TZID:America/New_York
BEGIN:DAYLIGHT
TZOFFSETFROM:-0500
TZOFFSETTO:-0400
TZNAME:EDT
DTSTART:20240310T070000
END:DAYLIGHT
BEGIN:STANDARD
TZOFFSETFROM:-0400
TZOFFSETTO:-0500
TZNAME:EST
DTSTART:20241103T060000
END:STANDARD
BEGIN:DAYLIGHT
TZOFFSETFROM:-0500
TZOFFSETTO:-0400
TZNAME:EDT
DTSTART:20250309T070000
END:DAYLIGHT
BEGIN:STANDARD
TZOFFSETFROM:-0400
TZOFFSETTO:-0500
TZNAME:EST
DTSTART:20251102T060000
END:STANDARD
BEGIN:DAYLIGHT
TZOFFSETFROM:-0500
TZOFFSETTO:-0400
TZNAME:EDT
DTSTART:20260308T070000
END:DAYLIGHT
BEGIN:STANDARD
TZOFFSETFROM:-0400
TZOFFSETTO:-0500
TZNAME:EST
DTSTART:20261101T060000
END:STANDARD
END:VTIMEZONE
BEGIN:VEVENT
DTSTART;TZID=America/New_York:20250312T194500
DTEND;TZID=America/New_York:20250312T204500
DTSTAMP:20260425T092920
CREATED:20250306T175343Z
LAST-MODIFIED:20250313T002022Z
UID:23813-1741808700-1741812300@ctkrva.org
SUMMARY:Cornerstone Band
DESCRIPTION:
URL:https://ctkrva.org/event/cornerstone-band-12/
END:VEVENT
BEGIN:VEVENT
DTSTART;TZID=America/New_York:20250312T190000
DTEND;TZID=America/New_York:20250312T193000
DTSTAMP:20260425T092920
CREATED:20250303T153556Z
LAST-MODIFIED:20250312T230514Z
UID:23701-1741806000-1741807800@ctkrva.org
SUMMARY:Midweek Lenten Service
DESCRIPTION:
URL:https://ctkrva.org/event/midweek-lenten-service-5/
END:VEVENT
BEGIN:VEVENT
DTSTART;TZID=America/New_York:20250312T100000
DTEND;TZID=America/New_York:20250312T160000
DTSTAMP:20260425T092920
CREATED:20250127T155350Z
LAST-MODIFIED:20250312T192017Z
UID:22867-1741773600-1741795200@ctkrva.org
SUMMARY:CTK Quilters
DESCRIPTION:
URL:https://ctkrva.org/event/ctk-quilters-14/
END:VEVENT
BEGIN:VEVENT
DTSTART;TZID=America/New_York:20250312T093000
DTEND;TZID=America/New_York:20250312T103000
DTSTAMP:20260425T092920
CREATED:20250102T142349Z
LAST-MODIFIED:20250312T142024Z
UID:22245-1741771800-1741775400@ctkrva.org
SUMMARY:Staff Meeting
DESCRIPTION:
URL:https://ctkrva.org/event/staff-meeting-95/
END:VEVENT
BEGIN:VEVENT
DTSTART;TZID=America/New_York:20250311T183000
DTEND;TZID=America/New_York:20250311T203000
DTSTAMP:20260425T092920
CREATED:20241127T212624Z
LAST-MODIFIED:20250311T232043Z
UID:20949-1741717800-1741725000@ctkrva.org
SUMMARY:Tai Chi - John Crouse
DESCRIPTION:
URL:https://ctkrva.org/event/tai-chi-john-crouse-192/
LOCATION:Fellowship Hall
END:VEVENT
BEGIN:VEVENT
DTSTART;TZID=America/New_York:20250311T100000
DTEND;TZID=America/New_York:20250311T120000
DTSTAMP:20260425T092920
CREATED:20241127T212623Z
LAST-MODIFIED:20250311T155030Z
UID:20948-1741687200-1741694400@ctkrva.org
SUMMARY:Richmond Conference Meeting
DESCRIPTION:
URL:https://ctkrva.org/event/richmond-conference-meeting-20/
END:VEVENT
BEGIN:VEVENT
DTSTART;TZID=America/New_York:20250311T100000
DTEND;TZID=America/New_York:20250311T120000
DTSTAMP:20260425T092920
CREATED:20241127T212622Z
LAST-MODIFIED:20250311T155030Z
UID:20947-1741687200-1741694400@ctkrva.org
SUMMARY:Circle of Faith
DESCRIPTION:
URL:https://ctkrva.org/event/circle-of-faith-40/
END:VEVENT
BEGIN:VEVENT
DTSTART;TZID=America/New_York:20250310T190000
DTEND;TZID=America/New_York:20250310T210000
DTSTAMP:20260425T092920
CREATED:20241127T212622Z
LAST-MODIFIED:20250311T005040Z
UID:20946-1741633200-1741640400@ctkrva.org
SUMMARY:Church Council
DESCRIPTION:
URL:https://ctkrva.org/event/church-council-22/
END:VEVENT
BEGIN:VEVENT
DTSTART;TZID=America/New_York:20250310T130000
DTEND;TZID=America/New_York:20250310T140000
DTSTAMP:20260425T092920
CREATED:20241127T212620Z
LAST-MODIFIED:20250310T172019Z
UID:20944-1741611600-1741615200@ctkrva.org
SUMMARY:AA
DESCRIPTION:
URL:https://ctkrva.org/event/aa-192/
LOCATION:Fellowship Hall
END:VEVENT
BEGIN:VEVENT
DTSTART;TZID=America/New_York:20250310T120000
DTEND;TZID=America/New_York:20250310T130000
DTSTAMP:20260425T092920
CREATED:20241127T212621Z
LAST-MODIFIED:20250310T160514Z
UID:20945-1741608000-1741611600@ctkrva.org
SUMMARY:Executive Team
DESCRIPTION:
URL:https://ctkrva.org/event/executive-team-46/
END:VEVENT
BEGIN:VEVENT
DTSTART;TZID=America/New_York:20250309T120000
DTEND;TZID=America/New_York:20250309T130000
DTSTAMP:20260425T092920
CREATED:20241127T212620Z
LAST-MODIFIED:20250309T162013Z
UID:20943-1741521600-1741525200@ctkrva.org
SUMMARY:Community Inreach & Outreach
DESCRIPTION:
URL:https://ctkrva.org/event/community-inreach-outreach/
END:VEVENT
BEGIN:VEVENT
DTSTART;TZID=America/New_York:20250309T113000
DTEND;TZID=America/New_York:20250309T120000
DTSTAMP:20260425T092920
CREATED:20250102T142349Z
LAST-MODIFIED:20250309T150530Z
UID:22244-1741519800-1741521600@ctkrva.org
SUMMARY:Sunday School
DESCRIPTION:
URL:https://ctkrva.org/event/sunday-school-25/
END:VEVENT
BEGIN:VEVENT
DTSTART;TZID=America/New_York:20250309T113000
DTEND;TZID=America/New_York:20250309T120000
DTSTAMP:20260425T092920
CREATED:20250102T142349Z
LAST-MODIFIED:20250309T150530Z
UID:22243-1741519800-1741521600@ctkrva.org
SUMMARY:Everyday Christians
DESCRIPTION:
URL:https://ctkrva.org/event/everyday-christians-20/
END:VEVENT
BEGIN:VEVENT
DTSTART;TZID=America/New_York:20250309T110000
DTEND;TZID=America/New_York:20250309T120000
DTSTAMP:20260425T092920
CREATED:20250304T060644Z
LAST-MODIFIED:20250309T150530Z
UID:23721-1741518000-1741521600@ctkrva.org
SUMMARY:Worship
DESCRIPTION:
URL:https://ctkrva.org/event/worship-131/
END:VEVENT
BEGIN:VEVENT
DTSTART;TZID=America/New_York:20250307T190000
DTEND;TZID=America/New_York:20250307T200000
DTSTAMP:20260425T092920
CREATED:20241127T212619Z
LAST-MODIFIED:20250307T233515Z
UID:20941-1741374000-1741377600@ctkrva.org
SUMMARY:NarAnon
DESCRIPTION:
URL:https://ctkrva.org/event/naranon-57/
LOCATION:Gathering Space
END:VEVENT
BEGIN:VEVENT
DTSTART;TZID=America/New_York:20250307T190000
DTEND;TZID=America/New_York:20250307T200000
DTSTAMP:20260425T092920
CREATED:20241127T212605Z
LAST-MODIFIED:20250307T233515Z
UID:20940-1741374000-1741377600@ctkrva.org
SUMMARY:NA
DESCRIPTION:
URL:https://ctkrva.org/event/na-55/
LOCATION:Fellowship Hall
END:VEVENT
BEGIN:VEVENT
DTSTART;TZID=America/New_York:20250307T130000
DTEND;TZID=America/New_York:20250307T140000
DTSTAMP:20260425T092920
CREATED:20241127T212604Z
LAST-MODIFIED:20250307T183515Z
UID:20939-1741352400-1741356000@ctkrva.org
SUMMARY:AA
DESCRIPTION:
URL:https://ctkrva.org/event/aa-191/
LOCATION:Fellowship Hall
END:VEVENT
BEGIN:VEVENT
DTSTART;TZID=America/New_York:20250306T190000
DTEND;TZID=America/New_York:20250306T200000
DTSTAMP:20260425T092920
CREATED:20241127T212604Z
LAST-MODIFIED:20250307T000555Z
UID:20938-1741287600-1741291200@ctkrva.org
SUMMARY:Choir
DESCRIPTION:
URL:https://ctkrva.org/event/choir-95/
END:VEVENT
BEGIN:VEVENT
DTSTART;TZID=America/New_York:20250306T183000
DTEND;TZID=America/New_York:20250306T203000
DTSTAMP:20260425T092920
CREATED:20241127T212603Z
LAST-MODIFIED:20250307T012153Z
UID:20937-1741285800-1741293000@ctkrva.org
SUMMARY:Tai Chi - John Crouse
DESCRIPTION:
URL:https://ctkrva.org/event/tai-chi-john-crouse-191/
LOCATION:Fellowship Hall
END:VEVENT
BEGIN:VEVENT
DTSTART;TZID=America/New_York:20250306T180000
DTEND;TZID=America/New_York:20250306T190000
DTSTAMP:20260425T092920
CREATED:20241127T212603Z
LAST-MODIFIED:20250306T225159Z
UID:20936-1741284000-1741287600@ctkrva.org
SUMMARY:Handbells
DESCRIPTION:
URL:https://ctkrva.org/event/handbells-95/
END:VEVENT
BEGIN:VEVENT
DTSTART;TZID=America/New_York:20250306T120000
DTEND;TZID=America/New_York:20250306T130000
DTSTAMP:20260425T092920
CREATED:20241127T212602Z
LAST-MODIFIED:20250306T175312Z
UID:20935-1741262400-1741266000@ctkrva.org
SUMMARY:ALANON (12&12)
DESCRIPTION:
URL:https://ctkrva.org/event/alanon-1212-97/
LOCATION:Fellowship Hall
END:VEVENT
BEGIN:VEVENT
DTSTART;TZID=America/New_York:20250305T190000
DTEND;TZID=America/New_York:20250305T200000
DTSTAMP:20260425T092920
CREATED:20250224T150844Z
LAST-MODIFIED:20250306T002330Z
UID:23523-1741201200-1741204800@ctkrva.org
SUMMARY:Ash Wednesday Service (full service)
DESCRIPTION:
URL:https://ctkrva.org/event/ash-wednesday-service-3/
END:VEVENT
BEGIN:VEVENT
DTSTART;TZID=America/New_York:20250305T120000
DTEND;TZID=America/New_York:20250305T130000
DTSTAMP:20260425T092920
CREATED:20250224T150844Z
LAST-MODIFIED:20250305T165036Z
UID:23522-1741176000-1741179600@ctkrva.org
SUMMARY:Ash Wednesday Service (brief service)
DESCRIPTION:
URL:https://ctkrva.org/event/ash-wednesday-service-2/
END:VEVENT
BEGIN:VEVENT
DTSTART;TZID=America/New_York:20250305T110000
DTEND;TZID=America/New_York:20250305T120000
DTSTAMP:20260425T092920
CREATED:20250122T192320Z
LAST-MODIFIED:20250305T165036Z
UID:22754-1741172400-1741176000@ctkrva.org
SUMMARY:Midweek Bible Study
DESCRIPTION:
URL:https://ctkrva.org/event/midweek-bible-study-19/
END:VEVENT
BEGIN:VEVENT
DTSTART;TZID=America/New_York:20250305T100000
DTEND;TZID=America/New_York:20250305T160000
DTSTAMP:20260425T092920
CREATED:20250127T155312Z
LAST-MODIFIED:20250305T203828Z
UID:22866-1741168800-1741190400@ctkrva.org
SUMMARY:CTK Quilters
DESCRIPTION:
URL:https://ctkrva.org/event/ctk-quilters-13/
END:VEVENT
BEGIN:VEVENT
DTSTART;TZID=America/New_York:20250305T093000
DTEND;TZID=America/New_York:20250305T103000
DTSTAMP:20260425T092920
CREATED:20250102T142337Z
LAST-MODIFIED:20250305T142124Z
UID:22242-1741167000-1741170600@ctkrva.org
SUMMARY:Staff Meeting
DESCRIPTION:
URL:https://ctkrva.org/event/staff-meeting-94/
END:VEVENT
BEGIN:VEVENT
DTSTART;VALUE=DATE:20250305
DTEND;VALUE=DATE:20250306
DTSTAMP:20260425T092920
CREATED:20250204T153655Z
LAST-MODIFIED:20250305T230827Z
UID:23063-1741132800-1741219199@ctkrva.org
SUMMARY:Ash Wednesday
DESCRIPTION:
URL:https://ctkrva.org/event/ash-wednesday-2/
END:VEVENT
BEGIN:VEVENT
DTSTART;TZID=America/New_York:20250304T183000
DTEND;TZID=America/New_York:20250304T203000
DTSTAMP:20260425T092920
CREATED:20241127T212601Z
LAST-MODIFIED:20250305T005335Z
UID:20934-1741113000-1741120200@ctkrva.org
SUMMARY:Tai Chi - John Crouse
DESCRIPTION:
URL:https://ctkrva.org/event/tai-chi-john-crouse-190/
LOCATION:Fellowship Hall
END:VEVENT
BEGIN:VEVENT
DTSTART;TZID=America/New_York:20250303T130000
DTEND;TZID=America/New_York:20250303T140000
DTSTAMP:20260425T092920
CREATED:20241127T212600Z
LAST-MODIFIED:20250303T180755Z
UID:20933-1741006800-1741010400@ctkrva.org
SUMMARY:AA
DESCRIPTION:
URL:https://ctkrva.org/event/aa-190/
LOCATION:Fellowship Hall
END:VEVENT
BEGIN:VEVENT
DTSTART;TZID=America/New_York:20250302T113000
DTEND;TZID=America/New_York:20250302T120000
DTSTAMP:20260425T092920
CREATED:20250102T142325Z
LAST-MODIFIED:20250302T160604Z
UID:22240-1740915000-1740916800@ctkrva.org
SUMMARY:Everyday Christians
DESCRIPTION:
URL:https://ctkrva.org/event/everyday-christians-19/
END:VEVENT
END:VCALENDAR