BEGIN:VCALENDAR
VERSION:2.0
PRODID:-//Christ The King Lutheran Church - ECPv6.15.20//NONSGML v1.0//EN
CALSCALE:GREGORIAN
METHOD:PUBLISH
X-WR-CALNAME:Christ The King Lutheran Church
X-ORIGINAL-URL:https://ctkrva.org
X-WR-CALDESC:Events for Christ The King Lutheran Church
REFRESH-INTERVAL;VALUE=DURATION:PT1H
X-Robots-Tag:noindex
X-PUBLISHED-TTL:PT1H
BEGIN:VTIMEZONE
TZID:America/New_York
BEGIN:DAYLIGHT
TZOFFSETFROM:-0500
TZOFFSETTO:-0400
TZNAME:EDT
DTSTART:20240310T070000
END:DAYLIGHT
BEGIN:STANDARD
TZOFFSETFROM:-0400
TZOFFSETTO:-0500
TZNAME:EST
DTSTART:20241103T060000
END:STANDARD
BEGIN:DAYLIGHT
TZOFFSETFROM:-0500
TZOFFSETTO:-0400
TZNAME:EDT
DTSTART:20250309T070000
END:DAYLIGHT
BEGIN:STANDARD
TZOFFSETFROM:-0400
TZOFFSETTO:-0500
TZNAME:EST
DTSTART:20251102T060000
END:STANDARD
BEGIN:DAYLIGHT
TZOFFSETFROM:-0500
TZOFFSETTO:-0400
TZNAME:EDT
DTSTART:20260308T070000
END:DAYLIGHT
BEGIN:STANDARD
TZOFFSETFROM:-0400
TZOFFSETTO:-0500
TZNAME:EST
DTSTART:20261101T060000
END:STANDARD
END:VTIMEZONE
BEGIN:VEVENT
DTSTART;TZID=America/New_York:20250205T100000
DTEND;TZID=America/New_York:20250205T160000
DTSTAMP:20260425T093047
CREATED:20250127T155154Z
LAST-MODIFIED:20250205T202058Z
UID:22862-1738749600-1738771200@ctkrva.org
SUMMARY:CTK Quilters
DESCRIPTION:
URL:https://ctkrva.org/event/ctk-quilters-9/
END:VEVENT
BEGIN:VEVENT
DTSTART;TZID=America/New_York:20250205T093000
DTEND;TZID=America/New_York:20250205T103000
DTSTAMP:20260425T093047
CREATED:20250102T142206Z
LAST-MODIFIED:20250205T152106Z
UID:22230-1738747800-1738751400@ctkrva.org
SUMMARY:Staff Meeting
DESCRIPTION:
URL:https://ctkrva.org/event/staff-meeting-90/
END:VEVENT
BEGIN:VEVENT
DTSTART;TZID=America/New_York:20250204T183000
DTEND;TZID=America/New_York:20250204T203000
DTSTAMP:20260425T093047
CREATED:20241127T212422Z
LAST-MODIFIED:20250205T002358Z
UID:20883-1738693800-1738701000@ctkrva.org
SUMMARY:Tai Chi - John Crouse
DESCRIPTION:
URL:https://ctkrva.org/event/tai-chi-john-crouse-182/
LOCATION:Fellowship Hall
END:VEVENT
BEGIN:VEVENT
DTSTART;TZID=America/New_York:20250203T130000
DTEND;TZID=America/New_York:20250203T140000
DTSTAMP:20260425T093047
CREATED:20241127T212421Z
LAST-MODIFIED:20250203T183551Z
UID:20882-1738587600-1738591200@ctkrva.org
SUMMARY:AA
DESCRIPTION:
URL:https://ctkrva.org/event/aa-182/
LOCATION:Fellowship Hall
END:VEVENT
BEGIN:VEVENT
DTSTART;TZID=America/New_York:20250202T113000
DTEND;TZID=America/New_York:20250202T120000
DTSTAMP:20260425T093047
CREATED:20250102T142206Z
LAST-MODIFIED:20250202T163517Z
UID:22228-1738495800-1738497600@ctkrva.org
SUMMARY:Everyday Christians
DESCRIPTION:
URL:https://ctkrva.org/event/everyday-christians-15/
END:VEVENT
BEGIN:VEVENT
DTSTART;TZID=America/New_York:20250202T113000
DTEND;TZID=America/New_York:20250202T120000
DTSTAMP:20260425T093047
CREATED:20250102T142206Z
LAST-MODIFIED:20250202T163517Z
UID:22229-1738495800-1738497600@ctkrva.org
SUMMARY:Sunday School
DESCRIPTION:
URL:https://ctkrva.org/event/sunday-school-20/
END:VEVENT
BEGIN:VEVENT
DTSTART;TZID=America/New_York:20250202T100000
DTEND;TZID=America/New_York:20250202T110000
DTSTAMP:20260425T093047
CREATED:20241127T212405Z
LAST-MODIFIED:20250202T152018Z
UID:20880-1738490400-1738494000@ctkrva.org
SUMMARY:Worship
DESCRIPTION:
URL:https://ctkrva.org/event/worship-106/
END:VEVENT
BEGIN:VEVENT
DTSTART;VALUE=DATE:20250202
DTEND;VALUE=DATE:20250203
DTSTAMP:20260425T093047
CREATED:20241127T212421Z
LAST-MODIFIED:20250202T225021Z
UID:20881-1738454400-1738540799@ctkrva.org
SUMMARY:Food Pantry Sunday
DESCRIPTION:
URL:https://ctkrva.org/event/food-pantry-sunday-26/
END:VEVENT
BEGIN:VEVENT
DTSTART;TZID=America/New_York:20250131T190000
DTEND;TZID=America/New_York:20250131T200000
DTSTAMP:20260425T093047
CREATED:20241127T212404Z
LAST-MODIFIED:20250201T005144Z
UID:20878-1738350000-1738353600@ctkrva.org
SUMMARY:NA
DESCRIPTION:
URL:https://ctkrva.org/event/na-50/
LOCATION:Fellowship Hall
END:VEVENT
BEGIN:VEVENT
DTSTART;TZID=America/New_York:20250131T190000
DTEND;TZID=America/New_York:20250131T200000
DTSTAMP:20260425T093047
CREATED:20241127T212404Z
LAST-MODIFIED:20250201T005144Z
UID:20879-1738350000-1738353600@ctkrva.org
SUMMARY:NarAnon
DESCRIPTION:
URL:https://ctkrva.org/event/naranon-52/
LOCATION:Gathering Space
END:VEVENT
BEGIN:VEVENT
DTSTART;TZID=America/New_York:20250131T130000
DTEND;TZID=America/New_York:20250131T140000
DTSTAMP:20260425T093047
CREATED:20241127T212403Z
LAST-MODIFIED:20250131T183640Z
UID:20877-1738328400-1738332000@ctkrva.org
SUMMARY:AA
DESCRIPTION:
URL:https://ctkrva.org/event/aa-181/
LOCATION:Fellowship Hall
END:VEVENT
BEGIN:VEVENT
DTSTART;TZID=America/New_York:20250130T190000
DTEND;TZID=America/New_York:20250130T200000
DTSTAMP:20260425T093047
CREATED:20241127T212401Z
LAST-MODIFIED:20250130T235101Z
UID:20875-1738263600-1738267200@ctkrva.org
SUMMARY:Choir
DESCRIPTION:
URL:https://ctkrva.org/event/choir-90/
END:VEVENT
BEGIN:VEVENT
DTSTART;TZID=America/New_York:20250130T183000
DTEND;TZID=America/New_York:20250130T203000
DTSTAMP:20260425T093047
CREATED:20241127T212401Z
LAST-MODIFIED:20250131T010724Z
UID:20874-1738261800-1738269000@ctkrva.org
SUMMARY:Tai Chi - John Crouse
DESCRIPTION:
URL:https://ctkrva.org/event/tai-chi-john-crouse-181/
LOCATION:Fellowship Hall
END:VEVENT
BEGIN:VEVENT
DTSTART;TZID=America/New_York:20250130T180000
DTEND;TZID=America/New_York:20250130T190000
DTSTAMP:20260425T093047
CREATED:20241204T150924Z
LAST-MODIFIED:20250130T235101Z
UID:21469-1738260000-1738263600@ctkrva.org
SUMMARY:Handbells
DESCRIPTION:
URL:https://ctkrva.org/event/handbells-103/
END:VEVENT
BEGIN:VEVENT
DTSTART;TZID=America/New_York:20250130T110000
DTEND;TZID=America/New_York:20250130T130000
DTSTAMP:20260425T093047
CREATED:20241127T212400Z
LAST-MODIFIED:20250130T173514Z
UID:20873-1738234800-1738242000@ctkrva.org
SUMMARY:ALANON (12&12) with speaker
DESCRIPTION:
URL:https://ctkrva.org/event/alanon-1212-92/
LOCATION:Fellowship Hall
END:VEVENT
BEGIN:VEVENT
DTSTART;TZID=America/New_York:20250129T133000
DTEND;TZID=America/New_York:20250129T143000
DTSTAMP:20260425T093047
CREATED:20241127T212359Z
LAST-MODIFIED:20250129T190523Z
UID:20871-1738157400-1738161000@ctkrva.org
SUMMARY:Intercessory Prayer Service
DESCRIPTION:
URL:https://ctkrva.org/event/intercessory-prayer-service-20/
END:VEVENT
BEGIN:VEVENT
DTSTART;TZID=America/New_York:20250129T110000
DTEND;TZID=America/New_York:20250129T120000
DTSTAMP:20260425T093047
CREATED:20250122T192137Z
LAST-MODIFIED:20250129T163533Z
UID:22751-1738148400-1738152000@ctkrva.org
SUMMARY:Midweek Bible Study
DESCRIPTION:
URL:https://ctkrva.org/event/midweek-bible-study-16/
END:VEVENT
BEGIN:VEVENT
DTSTART;TZID=America/New_York:20250129T100000
DTEND;TZID=America/New_York:20250129T160000
DTSTAMP:20260425T093047
CREATED:20241127T212359Z
LAST-MODIFIED:20250129T202026Z
UID:20872-1738144800-1738166400@ctkrva.org
SUMMARY:CTK Quilters
DESCRIPTION:
URL:https://ctkrva.org/event/ctk-quilters-8/
END:VEVENT
BEGIN:VEVENT
DTSTART;TZID=America/New_York:20250129T093000
DTEND;TZID=America/New_York:20250129T103000
DTSTAMP:20260425T093047
CREATED:20250102T142153Z
LAST-MODIFIED:20250129T152022Z
UID:22227-1738143000-1738146600@ctkrva.org
SUMMARY:Staff Meeting
DESCRIPTION:
URL:https://ctkrva.org/event/staff-meeting-89/
END:VEVENT
BEGIN:VEVENT
DTSTART;TZID=America/New_York:20250128T183000
DTEND;TZID=America/New_York:20250128T203000
DTSTAMP:20260425T093047
CREATED:20241127T212345Z
LAST-MODIFIED:20250129T002318Z
UID:20870-1738089000-1738096200@ctkrva.org
SUMMARY:Tai Chi - John Crouse
DESCRIPTION:
URL:https://ctkrva.org/event/tai-chi-john-crouse-180/
LOCATION:Fellowship Hall
END:VEVENT
BEGIN:VEVENT
DTSTART;TZID=America/New_York:20250128T100000
DTEND;TZID=America/New_York:20250128T120000
DTSTAMP:20260425T093047
CREATED:20241127T212345Z
LAST-MODIFIED:20250128T165104Z
UID:20869-1738058400-1738065600@ctkrva.org
SUMMARY:Circle of Faith
DESCRIPTION:
URL:https://ctkrva.org/event/circle-of-faith-37/
END:VEVENT
BEGIN:VEVENT
DTSTART;TZID=America/New_York:20250127T130000
DTEND;TZID=America/New_York:20250127T140000
DTSTAMP:20260425T093047
CREATED:20241127T212343Z
LAST-MODIFIED:20250127T182101Z
UID:20867-1737982800-1737986400@ctkrva.org
SUMMARY:AA
DESCRIPTION:
URL:https://ctkrva.org/event/aa-180/
LOCATION:Fellowship Hall
END:VEVENT
BEGIN:VEVENT
DTSTART;TZID=America/New_York:20250127T120000
DTEND;TZID=America/New_York:20250127T130000
DTSTAMP:20260425T093047
CREATED:20241127T212344Z
LAST-MODIFIED:20250127T170516Z
UID:20868-1737979200-1737982800@ctkrva.org
SUMMARY:Executive Team
DESCRIPTION:
URL:https://ctkrva.org/event/executive-team-43/
END:VEVENT
BEGIN:VEVENT
DTSTART;TZID=America/New_York:20250126T113000
DTEND;TZID=America/New_York:20250126T120000
DTSTAMP:20260425T093048
CREATED:20250102T142140Z
LAST-MODIFIED:20250126T162411Z
UID:22225-1737891000-1737892800@ctkrva.org
SUMMARY:Sunday School
DESCRIPTION:
URL:https://ctkrva.org/event/sunday-school-19/
END:VEVENT
BEGIN:VEVENT
DTSTART;TZID=America/New_York:20250126T113000
DTEND;TZID=America/New_York:20250126T120000
DTSTAMP:20260425T093048
CREATED:20250102T142140Z
LAST-MODIFIED:20250126T162411Z
UID:22226-1737891000-1737892800@ctkrva.org
SUMMARY:Everyday Christians
DESCRIPTION:
URL:https://ctkrva.org/event/everyday-christians-14/
END:VEVENT
BEGIN:VEVENT
DTSTART;TZID=America/New_York:20250126T100000
DTEND;TZID=America/New_York:20250126T110000
DTSTAMP:20260425T093048
CREATED:20241127T212343Z
LAST-MODIFIED:20250126T150908Z
UID:20866-1737885600-1737889200@ctkrva.org
SUMMARY:Worship
DESCRIPTION:
URL:https://ctkrva.org/event/worship-105/
END:VEVENT
BEGIN:VEVENT
DTSTART;TZID=America/New_York:20250124T190000
DTEND;TZID=America/New_York:20250124T200000
DTSTAMP:20260425T093048
CREATED:20241127T212342Z
LAST-MODIFIED:20250125T003709Z
UID:20864-1737745200-1737748800@ctkrva.org
SUMMARY:NarAnon
DESCRIPTION:
URL:https://ctkrva.org/event/naranon-51/
LOCATION:Gathering Space
END:VEVENT
BEGIN:VEVENT
DTSTART;TZID=America/New_York:20250124T190000
DTEND;TZID=America/New_York:20250124T200000
DTSTAMP:20260425T093048
CREATED:20241127T212342Z
LAST-MODIFIED:20250125T003709Z
UID:20865-1737745200-1737748800@ctkrva.org
SUMMARY:NA
DESCRIPTION:
URL:https://ctkrva.org/event/na-49/
LOCATION:Fellowship Hall
END:VEVENT
BEGIN:VEVENT
DTSTART;TZID=America/New_York:20250124T130000
DTEND;TZID=America/New_York:20250124T140000
DTSTAMP:20260425T093048
CREATED:20241127T212341Z
LAST-MODIFIED:20250124T183518Z
UID:20863-1737723600-1737727200@ctkrva.org
SUMMARY:AA
DESCRIPTION:
URL:https://ctkrva.org/event/aa-179/
LOCATION:Fellowship Hall
END:VEVENT
BEGIN:VEVENT
DTSTART;TZID=America/New_York:20250123T190000
DTEND;TZID=America/New_York:20250123T200000
DTSTAMP:20260425T093048
CREATED:20241127T212340Z
LAST-MODIFIED:20250124T000516Z
UID:20862-1737658800-1737662400@ctkrva.org
SUMMARY:Choir
DESCRIPTION:
URL:https://ctkrva.org/event/choir-89/
END:VEVENT
END:VCALENDAR