BEGIN:VCALENDAR
VERSION:2.0
PRODID:-//Christ The King Lutheran Church - ECPv6.15.20//NONSGML v1.0//EN
CALSCALE:GREGORIAN
METHOD:PUBLISH
X-WR-CALNAME:Christ The King Lutheran Church
X-ORIGINAL-URL:https://ctkrva.org
X-WR-CALDESC:Events for Christ The King Lutheran Church
REFRESH-INTERVAL;VALUE=DURATION:PT1H
X-Robots-Tag:noindex
X-PUBLISHED-TTL:PT1H
BEGIN:VTIMEZONE
TZID:America/New_York
BEGIN:DAYLIGHT
TZOFFSETFROM:-0500
TZOFFSETTO:-0400
TZNAME:EDT
DTSTART:20240310T070000
END:DAYLIGHT
BEGIN:STANDARD
TZOFFSETFROM:-0400
TZOFFSETTO:-0500
TZNAME:EST
DTSTART:20241103T060000
END:STANDARD
BEGIN:DAYLIGHT
TZOFFSETFROM:-0500
TZOFFSETTO:-0400
TZNAME:EDT
DTSTART:20250309T070000
END:DAYLIGHT
BEGIN:STANDARD
TZOFFSETFROM:-0400
TZOFFSETTO:-0500
TZNAME:EST
DTSTART:20251102T060000
END:STANDARD
BEGIN:DAYLIGHT
TZOFFSETFROM:-0500
TZOFFSETTO:-0400
TZNAME:EDT
DTSTART:20260308T070000
END:DAYLIGHT
BEGIN:STANDARD
TZOFFSETFROM:-0400
TZOFFSETTO:-0500
TZNAME:EST
DTSTART:20261101T060000
END:STANDARD
END:VTIMEZONE
BEGIN:VEVENT
DTSTART;TZID=America/New_York:20250305T190000
DTEND;TZID=America/New_York:20250305T200000
DTSTAMP:20260425T105347
CREATED:20250224T150844Z
LAST-MODIFIED:20250306T002330Z
UID:23523-1741201200-1741204800@ctkrva.org
SUMMARY:Ash Wednesday Service (full service)
DESCRIPTION:
URL:https://ctkrva.org/event/ash-wednesday-service-3/
END:VEVENT
BEGIN:VEVENT
DTSTART;TZID=America/New_York:20250305T120000
DTEND;TZID=America/New_York:20250305T130000
DTSTAMP:20260425T105347
CREATED:20250224T150844Z
LAST-MODIFIED:20250305T165036Z
UID:23522-1741176000-1741179600@ctkrva.org
SUMMARY:Ash Wednesday Service (brief service)
DESCRIPTION:
URL:https://ctkrva.org/event/ash-wednesday-service-2/
END:VEVENT
BEGIN:VEVENT
DTSTART;TZID=America/New_York:20250305T110000
DTEND;TZID=America/New_York:20250305T120000
DTSTAMP:20260425T105347
CREATED:20250122T192320Z
LAST-MODIFIED:20250305T165036Z
UID:22754-1741172400-1741176000@ctkrva.org
SUMMARY:Midweek Bible Study
DESCRIPTION:
URL:https://ctkrva.org/event/midweek-bible-study-19/
END:VEVENT
BEGIN:VEVENT
DTSTART;TZID=America/New_York:20250305T100000
DTEND;TZID=America/New_York:20250305T160000
DTSTAMP:20260425T105347
CREATED:20250127T155312Z
LAST-MODIFIED:20250305T203828Z
UID:22866-1741168800-1741190400@ctkrva.org
SUMMARY:CTK Quilters
DESCRIPTION:
URL:https://ctkrva.org/event/ctk-quilters-13/
END:VEVENT
BEGIN:VEVENT
DTSTART;TZID=America/New_York:20250305T093000
DTEND;TZID=America/New_York:20250305T103000
DTSTAMP:20260425T105347
CREATED:20250102T142337Z
LAST-MODIFIED:20250305T142124Z
UID:22242-1741167000-1741170600@ctkrva.org
SUMMARY:Staff Meeting
DESCRIPTION:
URL:https://ctkrva.org/event/staff-meeting-94/
END:VEVENT
BEGIN:VEVENT
DTSTART;VALUE=DATE:20250305
DTEND;VALUE=DATE:20250306
DTSTAMP:20260425T105347
CREATED:20250204T153655Z
LAST-MODIFIED:20250305T230827Z
UID:23063-1741132800-1741219199@ctkrva.org
SUMMARY:Ash Wednesday
DESCRIPTION:
URL:https://ctkrva.org/event/ash-wednesday-2/
END:VEVENT
BEGIN:VEVENT
DTSTART;TZID=America/New_York:20250304T183000
DTEND;TZID=America/New_York:20250304T203000
DTSTAMP:20260425T105347
CREATED:20241127T212601Z
LAST-MODIFIED:20250305T005335Z
UID:20934-1741113000-1741120200@ctkrva.org
SUMMARY:Tai Chi - John Crouse
DESCRIPTION:
URL:https://ctkrva.org/event/tai-chi-john-crouse-190/
LOCATION:Fellowship Hall
END:VEVENT
BEGIN:VEVENT
DTSTART;TZID=America/New_York:20250303T130000
DTEND;TZID=America/New_York:20250303T140000
DTSTAMP:20260425T105347
CREATED:20241127T212600Z
LAST-MODIFIED:20250303T180755Z
UID:20933-1741006800-1741010400@ctkrva.org
SUMMARY:AA
DESCRIPTION:
URL:https://ctkrva.org/event/aa-190/
LOCATION:Fellowship Hall
END:VEVENT
BEGIN:VEVENT
DTSTART;TZID=America/New_York:20250302T113000
DTEND;TZID=America/New_York:20250302T120000
DTSTAMP:20260425T105347
CREATED:20250102T142325Z
LAST-MODIFIED:20250302T160604Z
UID:22240-1740915000-1740916800@ctkrva.org
SUMMARY:Everyday Christians
DESCRIPTION:
URL:https://ctkrva.org/event/everyday-christians-19/
END:VEVENT
BEGIN:VEVENT
DTSTART;TZID=America/New_York:20250302T113000
DTEND;TZID=America/New_York:20250302T120000
DTSTAMP:20260425T105347
CREATED:20250102T142325Z
LAST-MODIFIED:20250302T160604Z
UID:22241-1740915000-1740916800@ctkrva.org
SUMMARY:Sunday School
DESCRIPTION:
URL:https://ctkrva.org/event/sunday-school-24/
END:VEVENT
BEGIN:VEVENT
DTSTART;TZID=America/New_York:20250302T100000
DTEND;TZID=America/New_York:20250302T110000
DTSTAMP:20260425T105347
CREATED:20241127T212559Z
LAST-MODIFIED:20250302T145102Z
UID:20931-1740909600-1740913200@ctkrva.org
SUMMARY:Worship
DESCRIPTION:
URL:https://ctkrva.org/event/worship-110/
END:VEVENT
BEGIN:VEVENT
DTSTART;VALUE=DATE:20250302
DTEND;VALUE=DATE:20250303
DTSTAMP:20260425T105347
CREATED:20241127T212600Z
LAST-MODIFIED:20250302T233523Z
UID:20932-1740873600-1740959999@ctkrva.org
SUMMARY:Food Pantry Sunday
DESCRIPTION:
URL:https://ctkrva.org/event/food-pantry-sunday-27/
END:VEVENT
BEGIN:VEVENT
DTSTART;TZID=America/New_York:20250228T190000
DTEND;TZID=America/New_York:20250228T200000
DTSTAMP:20260425T105347
CREATED:20241127T212547Z
LAST-MODIFIED:20250301T000530Z
UID:20930-1740769200-1740772800@ctkrva.org
SUMMARY:NA
DESCRIPTION:
URL:https://ctkrva.org/event/na-54/
LOCATION:Fellowship Hall
END:VEVENT
BEGIN:VEVENT
DTSTART;TZID=America/New_York:20250228T190000
DTEND;TZID=America/New_York:20250228T200000
DTSTAMP:20260425T105347
CREATED:20241127T212546Z
LAST-MODIFIED:20250301T000530Z
UID:20929-1740769200-1740772800@ctkrva.org
SUMMARY:NarAnon
DESCRIPTION:
URL:https://ctkrva.org/event/naranon-56/
LOCATION:Gathering Space
END:VEVENT
BEGIN:VEVENT
DTSTART;TZID=America/New_York:20250228T130000
DTEND;TZID=America/New_York:20250228T140000
DTSTAMP:20260425T105347
CREATED:20241127T212545Z
LAST-MODIFIED:20250228T175017Z
UID:20928-1740747600-1740751200@ctkrva.org
SUMMARY:AA
DESCRIPTION:
URL:https://ctkrva.org/event/aa-189/
LOCATION:Fellowship Hall
END:VEVENT
BEGIN:VEVENT
DTSTART;TZID=America/New_York:20250227T183000
DTEND;TZID=America/New_York:20250227T203000
DTSTAMP:20260425T105347
CREATED:20241127T212543Z
LAST-MODIFIED:20250228T002058Z
UID:20925-1740681000-1740688200@ctkrva.org
SUMMARY:Tai Chi - John Crouse
DESCRIPTION:
URL:https://ctkrva.org/event/tai-chi-john-crouse-189/
LOCATION:Fellowship Hall
END:VEVENT
BEGIN:VEVENT
DTSTART;TZID=America/New_York:20250227T120000
DTEND;TZID=America/New_York:20250227T130000
DTSTAMP:20260425T105347
CREATED:20241127T212543Z
LAST-MODIFIED:20250227T165101Z
UID:20924-1740657600-1740661200@ctkrva.org
SUMMARY:ALANON (12&12)
DESCRIPTION:
URL:https://ctkrva.org/event/alanon-1212-96/
LOCATION:Fellowship Hall
END:VEVENT
BEGIN:VEVENT
DTSTART;TZID=America/New_York:20250226T190000
DTEND;TZID=America/New_York:20250226T200000
DTSTAMP:20260425T105347
CREATED:20241127T212544Z
LAST-MODIFIED:20250227T003742Z
UID:20926-1740596400-1740600000@ctkrva.org
SUMMARY:Choir
DESCRIPTION:
URL:https://ctkrva.org/event/choir-94/
END:VEVENT
BEGIN:VEVENT
DTSTART;TZID=America/New_York:20250226T180000
DTEND;TZID=America/New_York:20250226T190000
DTSTAMP:20260425T105347
CREATED:20241127T212545Z
LAST-MODIFIED:20250226T232243Z
UID:20927-1740592800-1740596400@ctkrva.org
SUMMARY:Handbells
DESCRIPTION:
URL:https://ctkrva.org/event/handbells-94/
END:VEVENT
BEGIN:VEVENT
DTSTART;TZID=America/New_York:20250226T133000
DTEND;TZID=America/New_York:20250226T143000
DTSTAMP:20260425T105347
CREATED:20241127T212542Z
LAST-MODIFIED:20250226T183617Z
UID:20923-1740576600-1740580200@ctkrva.org
SUMMARY:Intercessory Prayer Service
DESCRIPTION:
URL:https://ctkrva.org/event/intercessory-prayer-service-21/
END:VEVENT
BEGIN:VEVENT
DTSTART;TZID=America/New_York:20250226T100000
DTEND;TZID=America/New_York:20250226T160000
DTSTAMP:20260425T105347
CREATED:20250127T155259Z
LAST-MODIFIED:20250226T205101Z
UID:22865-1740564000-1740585600@ctkrva.org
SUMMARY:CTK Quilters
DESCRIPTION:
URL:https://ctkrva.org/event/ctk-quilters-12/
END:VEVENT
BEGIN:VEVENT
DTSTART;TZID=America/New_York:20250226T093000
DTEND;TZID=America/New_York:20250226T103000
DTSTAMP:20260425T105347
CREATED:20250102T142312Z
LAST-MODIFIED:20250226T145140Z
UID:22239-1740562200-1740565800@ctkrva.org
SUMMARY:Staff Meeting
DESCRIPTION:
URL:https://ctkrva.org/event/staff-meeting-93/
END:VEVENT
BEGIN:VEVENT
DTSTART;TZID=America/New_York:20250225T183000
DTEND;TZID=America/New_York:20250225T203000
DTSTAMP:20260425T105347
CREATED:20241127T212542Z
LAST-MODIFIED:20250226T012123Z
UID:20922-1740508200-1740515400@ctkrva.org
SUMMARY:Tai Chi - John Crouse
DESCRIPTION:
URL:https://ctkrva.org/event/tai-chi-john-crouse-188/
LOCATION:Fellowship Hall
END:VEVENT
BEGIN:VEVENT
DTSTART;TZID=America/New_York:20250225T100000
DTEND;TZID=America/New_York:20250225T120000
DTSTAMP:20260425T105347
CREATED:20241127T212541Z
LAST-MODIFIED:20250225T165225Z
UID:20921-1740477600-1740484800@ctkrva.org
SUMMARY:Circle of Faith
DESCRIPTION:
URL:https://ctkrva.org/event/circle-of-faith-39/
END:VEVENT
BEGIN:VEVENT
DTSTART;TZID=America/New_York:20250224T130000
DTEND;TZID=America/New_York:20250224T140000
DTSTAMP:20260425T105347
CREATED:20241127T212527Z
LAST-MODIFIED:20250224T185106Z
UID:20920-1740402000-1740405600@ctkrva.org
SUMMARY:AA
DESCRIPTION:
URL:https://ctkrva.org/event/aa-188/
LOCATION:Fellowship Hall
END:VEVENT
BEGIN:VEVENT
DTSTART;TZID=America/New_York:20250224T120000
DTEND;TZID=America/New_York:20250224T130000
DTSTAMP:20260425T105347
CREATED:20241127T212526Z
LAST-MODIFIED:20250224T173814Z
UID:20919-1740398400-1740402000@ctkrva.org
SUMMARY:Executive Team
DESCRIPTION:
URL:https://ctkrva.org/event/executive-team-45/
END:VEVENT
BEGIN:VEVENT
DTSTART;TZID=America/New_York:20250223T113000
DTEND;TZID=America/New_York:20250223T120000
DTSTAMP:20260425T105347
CREATED:20250102T142311Z
LAST-MODIFIED:20250223T165105Z
UID:22238-1740310200-1740312000@ctkrva.org
SUMMARY:Everyday Christians
DESCRIPTION:
URL:https://ctkrva.org/event/everyday-christians-18/
END:VEVENT
BEGIN:VEVENT
DTSTART;TZID=America/New_York:20250223T113000
DTEND;TZID=America/New_York:20250223T120000
DTSTAMP:20260425T105347
CREATED:20250102T142259Z
LAST-MODIFIED:20250223T165105Z
UID:22237-1740310200-1740312000@ctkrva.org
SUMMARY:Sunday School
DESCRIPTION:
URL:https://ctkrva.org/event/sunday-school-23/
END:VEVENT
BEGIN:VEVENT
DTSTART;TZID=America/New_York:20250223T100000
DTEND;TZID=America/New_York:20250223T110000
DTSTAMP:20260425T105347
CREATED:20241127T212526Z
LAST-MODIFIED:20250223T153541Z
UID:20918-1740304800-1740308400@ctkrva.org
SUMMARY:Worship
DESCRIPTION:
URL:https://ctkrva.org/event/worship-109/
END:VEVENT
BEGIN:VEVENT
DTSTART;VALUE=DATE:20250223
DTEND;VALUE=DATE:20250224
DTSTAMP:20260425T105347
CREATED:20241127T212525Z
LAST-MODIFIED:20250223T230601Z
UID:20917-1740268800-1740355199@ctkrva.org
SUMMARY:Ovation Chorus in Worship
DESCRIPTION:
URL:https://ctkrva.org/event/ovation-chorus-in-worship/
END:VEVENT
END:VCALENDAR