BEGIN:VCALENDAR
VERSION:2.0
PRODID:-//Christ The King Lutheran Church - ECPv6.15.20//NONSGML v1.0//EN
CALSCALE:GREGORIAN
METHOD:PUBLISH
X-WR-CALNAME:Christ The King Lutheran Church
X-ORIGINAL-URL:https://ctkrva.org
X-WR-CALDESC:Events for Christ The King Lutheran Church
REFRESH-INTERVAL;VALUE=DURATION:PT1H
X-Robots-Tag:noindex
X-PUBLISHED-TTL:PT1H
BEGIN:VTIMEZONE
TZID:America/New_York
BEGIN:DAYLIGHT
TZOFFSETFROM:-0500
TZOFFSETTO:-0400
TZNAME:EDT
DTSTART:20240310T070000
END:DAYLIGHT
BEGIN:STANDARD
TZOFFSETFROM:-0400
TZOFFSETTO:-0500
TZNAME:EST
DTSTART:20241103T060000
END:STANDARD
BEGIN:DAYLIGHT
TZOFFSETFROM:-0500
TZOFFSETTO:-0400
TZNAME:EDT
DTSTART:20250309T070000
END:DAYLIGHT
BEGIN:STANDARD
TZOFFSETFROM:-0400
TZOFFSETTO:-0500
TZNAME:EST
DTSTART:20251102T060000
END:STANDARD
BEGIN:DAYLIGHT
TZOFFSETFROM:-0500
TZOFFSETTO:-0400
TZNAME:EDT
DTSTART:20260308T070000
END:DAYLIGHT
BEGIN:STANDARD
TZOFFSETFROM:-0400
TZOFFSETTO:-0500
TZNAME:EST
DTSTART:20261101T060000
END:STANDARD
END:VTIMEZONE
BEGIN:VEVENT
DTSTART;TZID=America/New_York:20250519T130000
DTEND;TZID=America/New_York:20250519T140000
DTSTAMP:20260425T092930
CREATED:20250423T135705Z
LAST-MODIFIED:20250519T175051Z
UID:25143-1747659600-1747663200@ctkrva.org
SUMMARY:AA
DESCRIPTION:
URL:https://ctkrva.org/event/aa-199/
LOCATION:Fellowship Hall
END:VEVENT
BEGIN:VEVENT
DTSTART;TZID=America/New_York:20250518T160000
DTEND;TZID=America/New_York:20250518T180000
DTSTAMP:20260425T092930
CREATED:20250506T193551Z
LAST-MODIFIED:20250518T210523Z
UID:25985-1747584000-1747591200@ctkrva.org
SUMMARY:Confirmation Class at LCOS
DESCRIPTION:
URL:https://ctkrva.org/event/confirmation-class-at-lcos/
LOCATION:Lutheran Church of Our Saviour
END:VEVENT
BEGIN:VEVENT
DTSTART;TZID=America/New_York:20250518T120000
DTEND;TZID=America/New_York:20250518T140000
DTSTAMP:20260425T092930
CREATED:20250506T193551Z
LAST-MODIFIED:20250518T172020Z
UID:25984-1747569600-1747576800@ctkrva.org
SUMMARY:Youth Group Family Picnic
DESCRIPTION:
URL:https://ctkrva.org/event/youth-group-family-picnic/
END:VEVENT
BEGIN:VEVENT
DTSTART;TZID=America/New_York:20250518T113000
DTEND;TZID=America/New_York:20250518T120000
DTSTAMP:20260425T092930
CREATED:20250423T135705Z
LAST-MODIFIED:20250518T145011Z
UID:25141-1747567800-1747569600@ctkrva.org
SUMMARY:Sunday School
DESCRIPTION:
URL:https://ctkrva.org/event/sunday-school-30/
END:VEVENT
BEGIN:VEVENT
DTSTART;TZID=America/New_York:20250518T113000
DTEND;TZID=America/New_York:20250518T120000
DTSTAMP:20260425T092930
CREATED:20250423T135705Z
LAST-MODIFIED:20250518T145011Z
UID:25142-1747567800-1747569600@ctkrva.org
SUMMARY:Everyday Christians
DESCRIPTION:
URL:https://ctkrva.org/event/everyday-christians-25/
END:VEVENT
BEGIN:VEVENT
DTSTART;TZID=America/New_York:20250518T100000
DTEND;TZID=America/New_York:20250518T110000
DTSTAMP:20260425T092930
CREATED:20250423T135705Z
LAST-MODIFIED:20250518T145011Z
UID:25140-1747562400-1747566000@ctkrva.org
SUMMARY:Worship
DESCRIPTION:
URL:https://ctkrva.org/event/worship-38/
END:VEVENT
BEGIN:VEVENT
DTSTART;TZID=America/New_York:20250518T080000
DTEND;TZID=America/New_York:20250518T094500
DTSTAMP:20260425T092930
CREATED:20250423T135631Z
LAST-MODIFIED:20250518T133519Z
UID:25124-1747555200-1747561500@ctkrva.org
SUMMARY:Leadership Planning Session
DESCRIPTION:
URL:https://ctkrva.org/event/leadership-team-3/
END:VEVENT
BEGIN:VEVENT
DTSTART;TZID=America/New_York:20250516T190000
DTEND;TZID=America/New_York:20250516T200000
DTSTAMP:20260425T092930
CREATED:20250423T135704Z
LAST-MODIFIED:20250516T225027Z
UID:25139-1747422000-1747425600@ctkrva.org
SUMMARY:NarAnon
DESCRIPTION:
URL:https://ctkrva.org/event/naranon-62/
LOCATION:Gathering Space
END:VEVENT
BEGIN:VEVENT
DTSTART;TZID=America/New_York:20250516T130000
DTEND;TZID=America/New_York:20250516T140000
DTSTAMP:20260425T092930
CREATED:20250423T135704Z
LAST-MODIFIED:20250516T175042Z
UID:25138-1747400400-1747404000@ctkrva.org
SUMMARY:AA
DESCRIPTION:
URL:https://ctkrva.org/event/aa-198/
LOCATION:Fellowship Hall
END:VEVENT
BEGIN:VEVENT
DTSTART;TZID=America/New_York:20250515T190000
DTEND;TZID=America/New_York:20250515T200000
DTSTAMP:20260425T092930
CREATED:20250423T135648Z
LAST-MODIFIED:20250515T230702Z
UID:25135-1747335600-1747339200@ctkrva.org
SUMMARY:Choir
DESCRIPTION:
URL:https://ctkrva.org/event/choir-20/
END:VEVENT
BEGIN:VEVENT
DTSTART;TZID=America/New_York:20250515T183000
DTEND;TZID=America/New_York:20250515T203000
DTSTAMP:20260425T092930
CREATED:20250423T135703Z
LAST-MODIFIED:20250516T002111Z
UID:25136-1747333800-1747341000@ctkrva.org
SUMMARY:Tai Chi - John Crouse
DESCRIPTION:
URL:https://ctkrva.org/event/tai-chi-john-crouse-197/
LOCATION:Fellowship Hall
END:VEVENT
BEGIN:VEVENT
DTSTART;TZID=America/New_York:20250515T120000
DTEND;TZID=America/New_York:20250515T130000
DTSTAMP:20260425T092930
CREATED:20250423T135648Z
LAST-MODIFIED:20250515T165110Z
UID:25134-1747310400-1747314000@ctkrva.org
SUMMARY:ALANON (12&12)
DESCRIPTION:
URL:https://ctkrva.org/event/alanon-1212-87/
LOCATION:Fellowship Hall
END:VEVENT
BEGIN:VEVENT
DTSTART;TZID=America/New_York:20250514T190000
DTEND;TZID=America/New_York:20250514T200000
DTSTAMP:20260425T092930
CREATED:20250506T193537Z
LAST-MODIFIED:20250514T232048Z
UID:25983-1747249200-1747252800@ctkrva.org
SUMMARY:Cornerstone Band
DESCRIPTION:
URL:https://ctkrva.org/event/cornerstone-band-11/
END:VEVENT
BEGIN:VEVENT
DTSTART;TZID=America/New_York:20250514T100000
DTEND;TZID=America/New_York:20250514T160000
DTSTAMP:20260425T092930
CREATED:20250423T135648Z
LAST-MODIFIED:20250514T193539Z
UID:25133-1747216800-1747238400@ctkrva.org
SUMMARY:CTK Quilters
DESCRIPTION:
URL:https://ctkrva.org/event/ctk-quilters-18/
END:VEVENT
BEGIN:VEVENT
DTSTART;TZID=America/New_York:20250514T093000
DTEND;TZID=America/New_York:20250514T103000
DTSTAMP:20260425T092930
CREATED:20250423T135647Z
LAST-MODIFIED:20250514T132119Z
UID:25132-1747215000-1747218600@ctkrva.org
SUMMARY:Staff Meeting
DESCRIPTION:
URL:https://ctkrva.org/event/staff-meeting-98/
END:VEVENT
BEGIN:VEVENT
DTSTART;TZID=America/New_York:20250513T183000
DTEND;TZID=America/New_York:20250513T203000
DTSTAMP:20260425T092930
CREATED:20250423T135647Z
LAST-MODIFIED:20250513T233603Z
UID:25131-1747161000-1747168200@ctkrva.org
SUMMARY:Tai Chi - John Crouse
DESCRIPTION:
URL:https://ctkrva.org/event/tai-chi-john-crouse-196/
LOCATION:Fellowship Hall
END:VEVENT
BEGIN:VEVENT
DTSTART;TZID=America/New_York:20250513T100000
DTEND;TZID=America/New_York:20250513T120000
DTSTAMP:20260425T092930
CREATED:20250423T135647Z
LAST-MODIFIED:20250513T135018Z
UID:25129-1747130400-1747137600@ctkrva.org
SUMMARY:Circle of Faith
DESCRIPTION:
URL:https://ctkrva.org/event/circle-of-faith-6/
LOCATION:Canceled
END:VEVENT
BEGIN:VEVENT
DTSTART;TZID=America/New_York:20250513T100000
DTEND;TZID=America/New_York:20250513T120000
DTSTAMP:20260425T092930
CREATED:20250423T135647Z
LAST-MODIFIED:20250513T135018Z
UID:25130-1747130400-1747137600@ctkrva.org
SUMMARY:Richmond Conference Meeting
DESCRIPTION:
URL:https://ctkrva.org/event/richmond-conference-meeting-21/
END:VEVENT
BEGIN:VEVENT
DTSTART;TZID=America/New_York:20250512T190000
DTEND;TZID=America/New_York:20250512T210000
DTSTAMP:20260425T092930
CREATED:20250423T135646Z
LAST-MODIFIED:20250513T000542Z
UID:25128-1747076400-1747083600@ctkrva.org
SUMMARY:Church Council
DESCRIPTION:
URL:https://ctkrva.org/event/church-council-23/
END:VEVENT
BEGIN:VEVENT
DTSTART;TZID=America/New_York:20250512T130000
DTEND;TZID=America/New_York:20250512T140000
DTSTAMP:20260425T092930
CREATED:20250423T135645Z
LAST-MODIFIED:20250512T165030Z
UID:25126-1747054800-1747058400@ctkrva.org
SUMMARY:AA
DESCRIPTION:
URL:https://ctkrva.org/event/aa-197/
LOCATION:Fellowship Hall
END:VEVENT
BEGIN:VEVENT
DTSTART;TZID=America/New_York:20250512T120000
DTEND;TZID=America/New_York:20250512T130000
DTSTAMP:20260425T092930
CREATED:20250423T135646Z
LAST-MODIFIED:20250512T165030Z
UID:25127-1747051200-1747054800@ctkrva.org
SUMMARY:Executive Team
DESCRIPTION:
URL:https://ctkrva.org/event/executive-team-18/
END:VEVENT
BEGIN:VEVENT
DTSTART;TZID=America/New_York:20250511T113000
DTEND;TZID=America/New_York:20250511T120000
DTSTAMP:20260425T092930
CREATED:20250423T135632Z
LAST-MODIFIED:20250511T155108Z
UID:25125-1746963000-1746964800@ctkrva.org
SUMMARY:Everyday Christians
DESCRIPTION:
URL:https://ctkrva.org/event/everyday-christians-24/
END:VEVENT
BEGIN:VEVENT
DTSTART;TZID=America/New_York:20250511T113000
DTEND;TZID=America/New_York:20250511T120000
DTSTAMP:20260425T092930
CREATED:20250423T135631Z
LAST-MODIFIED:20250511T155108Z
UID:25123-1746963000-1746964800@ctkrva.org
SUMMARY:Sunday School
DESCRIPTION:
URL:https://ctkrva.org/event/sunday-school-29/
END:VEVENT
BEGIN:VEVENT
DTSTART;TZID=America/New_York:20250511T100000
DTEND;TZID=America/New_York:20250511T110000
DTSTAMP:20260425T092930
CREATED:20250423T135631Z
LAST-MODIFIED:20250511T143625Z
UID:25122-1746957600-1746961200@ctkrva.org
SUMMARY:Worship
DESCRIPTION:
URL:https://ctkrva.org/event/worship-33/
END:VEVENT
BEGIN:VEVENT
DTSTART;TZID=America/New_York:20250510T103000
DTEND;TZID=America/New_York:20250510T113000
DTSTAMP:20260425T092930
CREATED:20250423T135631Z
LAST-MODIFIED:20250510T145053Z
UID:25121-1746873000-1746876600@ctkrva.org
SUMMARY:Funeral for June Powers
DESCRIPTION:
URL:https://ctkrva.org/event/funeral-for-june-powers/
END:VEVENT
BEGIN:VEVENT
DTSTART;TZID=America/New_York:20250509T190000
DTEND;TZID=America/New_York:20250509T200000
DTSTAMP:20260425T092930
CREATED:20250423T135630Z
LAST-MODIFIED:20250509T235038Z
UID:25120-1746817200-1746820800@ctkrva.org
SUMMARY:NarAnon
DESCRIPTION:
URL:https://ctkrva.org/event/naranon-61/
LOCATION:Gathering Space
END:VEVENT
BEGIN:VEVENT
DTSTART;TZID=America/New_York:20250509T143000
DTEND;TZID=America/New_York:20250509T173000
DTSTAMP:20260425T092930
CREATED:20250428T200715Z
LAST-MODIFIED:20250509T212113Z
UID:25785-1746801000-1746811800@ctkrva.org
SUMMARY:Set Up for Funeral Reception
DESCRIPTION:
URL:https://ctkrva.org/event/set-up-for-funeral-reception/
LOCATION:Fellowship Hall
END:VEVENT
BEGIN:VEVENT
DTSTART;TZID=America/New_York:20250509T130000
DTEND;TZID=America/New_York:20250509T140000
DTSTAMP:20260425T092930
CREATED:20250423T135630Z
LAST-MODIFIED:20250509T173608Z
UID:25119-1746795600-1746799200@ctkrva.org
SUMMARY:AA
DESCRIPTION:
URL:https://ctkrva.org/event/aa-196/
LOCATION:Fellowship Hall
END:VEVENT
BEGIN:VEVENT
DTSTART;TZID=America/New_York:20250508T183000
DTEND;TZID=America/New_York:20250508T203000
DTSTAMP:20260425T092930
CREATED:20250423T135629Z
LAST-MODIFIED:20250509T000543Z
UID:25118-1746729000-1746736200@ctkrva.org
SUMMARY:Tai Chi - John Crouse
DESCRIPTION:
URL:https://ctkrva.org/event/tai-chi-john-crouse-195/
LOCATION:Fellowship Hall
END:VEVENT
BEGIN:VEVENT
DTSTART;TZID=America/New_York:20250508T120000
DTEND;TZID=America/New_York:20250508T140000
DTSTAMP:20260425T092930
CREATED:20250423T135615Z
LAST-MODIFIED:20250508T175038Z
UID:25114-1746705600-1746712800@ctkrva.org
SUMMARY:Bon Air Ministers Lunch
DESCRIPTION:
URL:https://ctkrva.org/event/bon-air-ministers-lunch-4/
END:VEVENT
END:VCALENDAR