BEGIN:VCALENDAR
VERSION:2.0
PRODID:-//Christ The King Lutheran Church - ECPv6.15.20//NONSGML v1.0//EN
CALSCALE:GREGORIAN
METHOD:PUBLISH
X-WR-CALNAME:Christ The King Lutheran Church
X-ORIGINAL-URL:https://ctkrva.org
X-WR-CALDESC:Events for Christ The King Lutheran Church
REFRESH-INTERVAL;VALUE=DURATION:PT1H
X-Robots-Tag:noindex
X-PUBLISHED-TTL:PT1H
BEGIN:VTIMEZONE
TZID:America/New_York
BEGIN:DAYLIGHT
TZOFFSETFROM:-0500
TZOFFSETTO:-0400
TZNAME:EDT
DTSTART:20230312T070000
END:DAYLIGHT
BEGIN:STANDARD
TZOFFSETFROM:-0400
TZOFFSETTO:-0500
TZNAME:EST
DTSTART:20231105T060000
END:STANDARD
BEGIN:DAYLIGHT
TZOFFSETFROM:-0500
TZOFFSETTO:-0400
TZNAME:EDT
DTSTART:20240310T070000
END:DAYLIGHT
BEGIN:STANDARD
TZOFFSETFROM:-0400
TZOFFSETTO:-0500
TZNAME:EST
DTSTART:20241103T060000
END:STANDARD
BEGIN:DAYLIGHT
TZOFFSETFROM:-0500
TZOFFSETTO:-0400
TZNAME:EDT
DTSTART:20250309T070000
END:DAYLIGHT
BEGIN:STANDARD
TZOFFSETFROM:-0400
TZOFFSETTO:-0500
TZNAME:EST
DTSTART:20251102T060000
END:STANDARD
BEGIN:DAYLIGHT
TZOFFSETFROM:-0500
TZOFFSETTO:-0400
TZNAME:EDT
DTSTART:20260308T070000
END:DAYLIGHT
BEGIN:STANDARD
TZOFFSETFROM:-0400
TZOFFSETTO:-0500
TZNAME:EST
DTSTART:20261101T060000
END:STANDARD
END:VTIMEZONE
BEGIN:VEVENT
DTSTART;TZID=America/New_York:20250110T190000
DTEND;TZID=America/New_York:20250110T200000
DTSTAMP:20260426T000254
CREATED:20241127T212244Z
LAST-MODIFIED:20250111T000802Z
UID:20835-1736535600-1736539200@ctkrva.org
SUMMARY:NarAnon
DESCRIPTION:
URL:https://ctkrva.org/event/naranon-49/
LOCATION:Gathering Space
END:VEVENT
BEGIN:VEVENT
DTSTART;TZID=America/New_York:20250110T130000
DTEND;TZID=America/New_York:20250110T140000
DTSTAMP:20260426T000254
CREATED:20241127T212243Z
LAST-MODIFIED:20250110T175313Z
UID:20834-1736514000-1736517600@ctkrva.org
SUMMARY:AA
DESCRIPTION:
URL:https://ctkrva.org/event/aa-175/
LOCATION:Fellowship Hall
END:VEVENT
BEGIN:VEVENT
DTSTART;TZID=America/New_York:20250109T190000
DTEND;TZID=America/New_York:20250109T200000
DTSTAMP:20260426T000254
CREATED:20241127T212241Z
LAST-MODIFIED:20250110T005049Z
UID:20831-1736449200-1736452800@ctkrva.org
SUMMARY:Choir
DESCRIPTION:
URL:https://ctkrva.org/event/choir-87/
END:VEVENT
BEGIN:VEVENT
DTSTART;TZID=America/New_York:20250109T183000
DTEND;TZID=America/New_York:20250109T203000
DTSTAMP:20260426T000254
CREATED:20241127T212243Z
LAST-MODIFIED:20250110T005050Z
UID:20833-1736447400-1736454600@ctkrva.org
SUMMARY:Tai Chi - John Crouse
DESCRIPTION:
URL:https://ctkrva.org/event/tai-chi-john-crouse-175/
LOCATION:Fellowship Hall
END:VEVENT
BEGIN:VEVENT
DTSTART;TZID=America/New_York:20250109T180000
DTEND;TZID=America/New_York:20250109T190000
DTSTAMP:20260426T000254
CREATED:20241127T212242Z
LAST-MODIFIED:20250109T234002Z
UID:20832-1736445600-1736449200@ctkrva.org
SUMMARY:Handbells
DESCRIPTION:
URL:https://ctkrva.org/event/handbells-87/
END:VEVENT
BEGIN:VEVENT
DTSTART;TZID=America/New_York:20250109T120000
DTEND;TZID=America/New_York:20250109T140000
DTSTAMP:20260426T000254
CREATED:20241127T212228Z
LAST-MODIFIED:20250109T185031Z
UID:20829-1736424000-1736431200@ctkrva.org
SUMMARY:Bon Air Ministers Lunch
DESCRIPTION:
URL:https://ctkrva.org/event/bon-air-ministers-lunch-12/
END:VEVENT
BEGIN:VEVENT
DTSTART;TZID=America/New_York:20250109T120000
DTEND;TZID=America/New_York:20250109T130000
DTSTAMP:20260426T000254
CREATED:20241127T212229Z
LAST-MODIFIED:20250109T173619Z
UID:20830-1736424000-1736427600@ctkrva.org
SUMMARY:ALANON (12&12)
DESCRIPTION:
URL:https://ctkrva.org/event/alanon-1212-89/
LOCATION:Fellowship Hall
END:VEVENT
BEGIN:VEVENT
DTSTART;TZID=America/New_York:20250108T190000
DTEND;TZID=America/New_York:20250108T200000
DTSTAMP:20260426T000254
CREATED:20250102T215039Z
LAST-MODIFIED:20250109T002014Z
UID:22338-1736362800-1736366400@ctkrva.org
SUMMARY:Cornerstone Band
DESCRIPTION:
URL:https://ctkrva.org/event/cornerstone-band-10/
END:VEVENT
BEGIN:VEVENT
DTSTART;TZID=America/New_York:20250108T100000
DTEND;TZID=America/New_York:20250108T160000
DTSTAMP:20260426T000254
CREATED:20241127T212227Z
LAST-MODIFIED:20250108T203524Z
UID:20828-1736330400-1736352000@ctkrva.org
SUMMARY:CTK Quilters
DESCRIPTION:
URL:https://ctkrva.org/event/ctk-quilters-5/
END:VEVENT
BEGIN:VEVENT
DTSTART;TZID=America/New_York:20250108T093000
DTEND;TZID=America/New_York:20250108T103000
DTSTAMP:20260426T000254
CREATED:20250102T142047Z
LAST-MODIFIED:20250108T142017Z
UID:22218-1736328600-1736332200@ctkrva.org
SUMMARY:Staff Meeting
DESCRIPTION:
URL:https://ctkrva.org/event/staff-meeting-85/
END:VEVENT
BEGIN:VEVENT
DTSTART;TZID=America/New_York:20250107T183000
DTEND;TZID=America/New_York:20250107T203000
DTSTAMP:20260426T000254
CREATED:20241127T212227Z
LAST-MODIFIED:20250108T003951Z
UID:20827-1736274600-1736281800@ctkrva.org
SUMMARY:Tai Chi - John Crouse
DESCRIPTION:
URL:https://ctkrva.org/event/tai-chi-john-crouse-174/
LOCATION:Fellowship Hall
END:VEVENT
BEGIN:VEVENT
DTSTART;TZID=America/New_York:20250106T130000
DTEND;TZID=America/New_York:20250106T140000
DTSTAMP:20260426T000254
CREATED:20241127T212226Z
LAST-MODIFIED:20250106T175230Z
UID:20826-1736168400-1736172000@ctkrva.org
SUMMARY:AA
DESCRIPTION:
URL:https://ctkrva.org/event/aa-174/
LOCATION:Fellowship Hall
END:VEVENT
BEGIN:VEVENT
DTSTART;TZID=America/New_York:20250105T113000
DTEND;TZID=America/New_York:20250105T120000
DTSTAMP:20260426T000254
CREATED:20250102T142035Z
LAST-MODIFIED:20250105T155113Z
UID:22217-1736076600-1736078400@ctkrva.org
SUMMARY:Sunday School
DESCRIPTION:
URL:https://ctkrva.org/event/sunday-school-16/
END:VEVENT
BEGIN:VEVENT
DTSTART;TZID=America/New_York:20250105T113000
DTEND;TZID=America/New_York:20250105T120000
DTSTAMP:20260426T000254
CREATED:20250102T142035Z
LAST-MODIFIED:20250105T155113Z
UID:22216-1736076600-1736078400@ctkrva.org
SUMMARY:Everyday Christians
DESCRIPTION:
URL:https://ctkrva.org/event/everyday-christians-11/
END:VEVENT
BEGIN:VEVENT
DTSTART;TZID=America/New_York:20250105T100000
DTEND;TZID=America/New_York:20250105T110000
DTSTAMP:20260426T000254
CREATED:20241127T212225Z
LAST-MODIFIED:20250105T155113Z
UID:20825-1736071200-1736074800@ctkrva.org
SUMMARY:Worship
DESCRIPTION:
URL:https://ctkrva.org/event/worship-102/
END:VEVENT
BEGIN:VEVENT
DTSTART;VALUE=DATE:20250105
DTEND;VALUE=DATE:20250106
DTSTAMP:20260426T000254
CREATED:20241127T212225Z
LAST-MODIFIED:20250105T232050Z
UID:20824-1736035200-1736121599@ctkrva.org
SUMMARY:Food Pantry Sunday
DESCRIPTION:
URL:https://ctkrva.org/event/food-pantry-sunday-25/
END:VEVENT
BEGIN:VEVENT
DTSTART;TZID=America/New_York:20250103T190000
DTEND;TZID=America/New_York:20250103T200000
DTSTAMP:20260426T000254
CREATED:20241127T212224Z
LAST-MODIFIED:20250104T000622Z
UID:20823-1735930800-1735934400@ctkrva.org
SUMMARY:NarAnon
DESCRIPTION:
URL:https://ctkrva.org/event/naranon-48/
LOCATION:Gathering Space
END:VEVENT
BEGIN:VEVENT
DTSTART;TZID=America/New_York:20250103T190000
DTEND;TZID=America/New_York:20250103T200000
DTSTAMP:20260426T000254
CREATED:20241127T212223Z
LAST-MODIFIED:20250104T000622Z
UID:20822-1735930800-1735934400@ctkrva.org
SUMMARY:NA
DESCRIPTION:
URL:https://ctkrva.org/event/na-46/
LOCATION:Fellowship Hall
END:VEVENT
BEGIN:VEVENT
DTSTART;TZID=America/New_York:20250103T130000
DTEND;TZID=America/New_York:20250103T140000
DTSTAMP:20260426T000254
CREATED:20241127T212223Z
LAST-MODIFIED:20250103T175130Z
UID:20821-1735909200-1735912800@ctkrva.org
SUMMARY:AA
DESCRIPTION:
URL:https://ctkrva.org/event/aa-173/
LOCATION:Fellowship Hall
END:VEVENT
BEGIN:VEVENT
DTSTART;TZID=America/New_York:20250102T183000
DTEND;TZID=America/New_York:20250102T203000
DTSTAMP:20260426T000255
CREATED:20241127T212209Z
LAST-MODIFIED:20250103T002024Z
UID:20820-1735842600-1735849800@ctkrva.org
SUMMARY:Tai Chi - John Crouse
DESCRIPTION:
URL:https://ctkrva.org/event/tai-chi-john-crouse-173/
LOCATION:Fellowship Hall
END:VEVENT
BEGIN:VEVENT
DTSTART;TZID=America/New_York:20250102T120000
DTEND;TZID=America/New_York:20250102T130000
DTSTAMP:20260426T000255
CREATED:20241127T212207Z
LAST-MODIFIED:20250102T165026Z
UID:20817-1735819200-1735822800@ctkrva.org
SUMMARY:ALANON (12&12)
DESCRIPTION:
URL:https://ctkrva.org/event/alanon-1212-88/
LOCATION:Fellowship Hall
END:VEVENT
BEGIN:VEVENT
DTSTART;VALUE=DATE:20250101
DTEND;VALUE=DATE:20250102
DTSTAMP:20260426T000255
CREATED:20241127T212206Z
LAST-MODIFIED:20250101T232506Z
UID:20815-1735689600-1735775999@ctkrva.org
SUMMARY:New Years Day
DESCRIPTION:
URL:https://ctkrva.org/event/new-years-day-2/
END:VEVENT
BEGIN:VEVENT
DTSTART;VALUE=DATE:20250101
DTEND;VALUE=DATE:20250102
DTSTAMP:20260426T000255
CREATED:20241127T212206Z
LAST-MODIFIED:20250101T232506Z
UID:20816-1735689600-1735775999@ctkrva.org
SUMMARY:Office Closed for Holiday
DESCRIPTION:
URL:https://ctkrva.org/event/office-closed-for-holiday-12/
END:VEVENT
BEGIN:VEVENT
DTSTART;TZID=America/New_York:20241231T183000
DTEND;TZID=America/New_York:20241231T203000
DTSTAMP:20260426T000255
CREATED:20241127T212205Z
LAST-MODIFIED:20250101T010643Z
UID:20814-1735669800-1735677000@ctkrva.org
SUMMARY:Tai Chi - John Crouse
DESCRIPTION:
URL:https://ctkrva.org/event/tai-chi-john-crouse-172/
LOCATION:Fellowship Hall
END:VEVENT
BEGIN:VEVENT
DTSTART;VALUE=DATE:20241231
DTEND;VALUE=DATE:20250101
DTSTAMP:20260426T000255
CREATED:20241127T212203Z
LAST-MODIFIED:20241231T235156Z
UID:20811-1735603200-1735689599@ctkrva.org
SUMMARY:Office Closed - Vacation Day
DESCRIPTION:
URL:https://ctkrva.org/event/office-closed-vacation-day-2/
END:VEVENT
BEGIN:VEVENT
DTSTART;TZID=America/New_York:20241230T130000
DTEND;TZID=America/New_York:20241230T140000
DTSTAMP:20260426T000255
CREATED:20241127T212204Z
LAST-MODIFIED:20241230T182335Z
UID:20813-1735563600-1735567200@ctkrva.org
SUMMARY:AA
DESCRIPTION:
URL:https://ctkrva.org/event/aa-172/
LOCATION:Fellowship Hall
END:VEVENT
BEGIN:VEVENT
DTSTART;VALUE=DATE:20241230
DTEND;VALUE=DATE:20241231
DTSTAMP:20260426T000255
CREATED:20241127T212204Z
LAST-MODIFIED:20241230T232034Z
UID:20812-1735516800-1735603199@ctkrva.org
SUMMARY:Office Closed - Vacation Day
DESCRIPTION:
URL:https://ctkrva.org/event/office-closed-vacation-day-3/
END:VEVENT
BEGIN:VEVENT
DTSTART;TZID=America/New_York:20241229T100000
DTEND;TZID=America/New_York:20241229T110000
DTSTAMP:20260426T000255
CREATED:20241127T212149Z
LAST-MODIFIED:20241229T150637Z
UID:20810-1735466400-1735470000@ctkrva.org
SUMMARY:Worship
DESCRIPTION:
URL:https://ctkrva.org/event/worship-101/
END:VEVENT
BEGIN:VEVENT
DTSTART;TZID=America/New_York:20241227T190000
DTEND;TZID=America/New_York:20241227T200000
DTSTAMP:20260426T000255
CREATED:20241127T212148Z
LAST-MODIFIED:20241228T003714Z
UID:20809-1735326000-1735329600@ctkrva.org
SUMMARY:NarAnon
DESCRIPTION:
URL:https://ctkrva.org/event/naranon-47/
LOCATION:Gathering Space
END:VEVENT
BEGIN:VEVENT
DTSTART;TZID=America/New_York:20241227T190000
DTEND;TZID=America/New_York:20241227T200000
DTSTAMP:20260426T000255
CREATED:20241127T212148Z
LAST-MODIFIED:20241228T003714Z
UID:20808-1735326000-1735329600@ctkrva.org
SUMMARY:NA
DESCRIPTION:
URL:https://ctkrva.org/event/na-45/
LOCATION:Fellowship Hall
END:VEVENT
END:VCALENDAR