BEGIN:VCALENDAR
VERSION:2.0
PRODID:-//Christ The King Lutheran Church - ECPv6.15.20//NONSGML v1.0//EN
CALSCALE:GREGORIAN
METHOD:PUBLISH
X-WR-CALNAME:Christ The King Lutheran Church
X-ORIGINAL-URL:https://ctkrva.org
X-WR-CALDESC:Events for Christ The King Lutheran Church
REFRESH-INTERVAL;VALUE=DURATION:PT1H
X-Robots-Tag:noindex
X-PUBLISHED-TTL:PT1H
BEGIN:VTIMEZONE
TZID:America/New_York
BEGIN:DAYLIGHT
TZOFFSETFROM:-0500
TZOFFSETTO:-0400
TZNAME:EDT
DTSTART:20250309T070000
END:DAYLIGHT
BEGIN:STANDARD
TZOFFSETFROM:-0400
TZOFFSETTO:-0500
TZNAME:EST
DTSTART:20251102T060000
END:STANDARD
BEGIN:DAYLIGHT
TZOFFSETFROM:-0500
TZOFFSETTO:-0400
TZNAME:EDT
DTSTART:20260308T070000
END:DAYLIGHT
BEGIN:STANDARD
TZOFFSETFROM:-0400
TZOFFSETTO:-0500
TZNAME:EST
DTSTART:20261101T060000
END:STANDARD
BEGIN:DAYLIGHT
TZOFFSETFROM:-0500
TZOFFSETTO:-0400
TZNAME:EDT
DTSTART:20270314T070000
END:DAYLIGHT
BEGIN:STANDARD
TZOFFSETFROM:-0400
TZOFFSETTO:-0500
TZNAME:EST
DTSTART:20271107T060000
END:STANDARD
END:VTIMEZONE
BEGIN:VEVENT
DTSTART;TZID=America/New_York:20260215T090000
DTEND;TZID=America/New_York:20260215T100000
DTSTAMP:20260423T170205
CREATED:20251028T051037Z
LAST-MODIFIED:20260216T173100Z
UID:38277-1771146000-1771149600@ctkrva.org
SUMMARY:Worship
DESCRIPTION:
URL:https://ctkrva.org/event/worship-141/
END:VEVENT
BEGIN:VEVENT
DTSTART;TZID=America/New_York:20260213T190000
DTEND;TZID=America/New_York:20260213T200000
DTSTAMP:20260423T170205
CREATED:20250828T181223Z
LAST-MODIFIED:20260214T002245Z
UID:36773-1771009200-1771012800@ctkrva.org
SUMMARY:NarAnon
DESCRIPTION:
URL:https://ctkrva.org/event/naranon-90/
LOCATION:Gathering Space
END:VEVENT
BEGIN:VEVENT
DTSTART;TZID=America/New_York:20260213T130000
DTEND;TZID=America/New_York:20260213T140000
DTSTAMP:20260423T170205
CREATED:20250828T004417Z
LAST-MODIFIED:20260213T182037Z
UID:36757-1770987600-1770991200@ctkrva.org
SUMMARY:AA
DESCRIPTION:
URL:https://ctkrva.org/event/aa-259/
LOCATION:Fellowship Hall
END:VEVENT
BEGIN:VEVENT
DTSTART;TZID=America/New_York:20260212T183000
DTEND;TZID=America/New_York:20260212T203000
DTSTAMP:20260423T170205
CREATED:20250827T205815Z
LAST-MODIFIED:20260213T010607Z
UID:36752-1770921000-1770928200@ctkrva.org
SUMMARY:Tai Chi - John Crouse
DESCRIPTION:
URL:https://ctkrva.org/event/tai-chi-john-crouse-259/
LOCATION:Fellowship Hall
END:VEVENT
BEGIN:VEVENT
DTSTART;TZID=America/New_York:20260212T120000
DTEND;TZID=America/New_York:20260212T130000
DTSTAMP:20260423T170205
CREATED:20260203T163542Z
LAST-MODIFIED:20260212T173518Z
UID:40676-1770897600-1770901200@ctkrva.org
SUMMARY:CTK Luncheon
DESCRIPTION:
URL:https://ctkrva.org/event/ctk-luncheon/
END:VEVENT
BEGIN:VEVENT
DTSTART;TZID=America/New_York:20260212T120000
DTEND;TZID=America/New_York:20260212T130000
DTSTAMP:20260423T170205
CREATED:20250911T205627Z
LAST-MODIFIED:20260212T173518Z
UID:37142-1770897600-1770901200@ctkrva.org
SUMMARY:Bon Air Ministers Lunch
DESCRIPTION:
URL:https://ctkrva.org/event/bon-air-ministers-lunch-18/
END:VEVENT
BEGIN:VEVENT
DTSTART;TZID=America/New_York:20260212T120000
DTEND;TZID=America/New_York:20260212T130000
DTSTAMP:20260423T170205
CREATED:20250825T191154Z
LAST-MODIFIED:20260212T173518Z
UID:36706-1770897600-1770901200@ctkrva.org
SUMMARY:ALANON (12&12)
DESCRIPTION:
URL:https://ctkrva.org/event/alanon-1212-127/
LOCATION:Fellowship Hall
END:VEVENT
BEGIN:VEVENT
DTSTART;TZID=America/New_York:20260211T133000
DTEND;TZID=America/New_York:20260211T143000
DTSTAMP:20260423T170205
CREATED:20260203T190525Z
LAST-MODIFIED:20260211T192345Z
UID:40692-1770816600-1770820200@ctkrva.org
SUMMARY:Intercessory Prayer Service for Jan & Feb
DESCRIPTION:
URL:https://ctkrva.org/event/intercessory-prayer-service-for-jan-feb/
END:VEVENT
BEGIN:VEVENT
DTSTART;TZID=America/New_York:20260210T183000
DTEND;TZID=America/New_York:20260210T203000
DTSTAMP:20260423T170205
CREATED:20250825T144253Z
LAST-MODIFIED:20260211T005558Z
UID:36700-1770748200-1770755400@ctkrva.org
SUMMARY:Tai Chi - John Crouse
DESCRIPTION:
URL:https://ctkrva.org/event/tai-chi-john-crouse-258/
LOCATION:Fellowship Hall
END:VEVENT
BEGIN:VEVENT
DTSTART;TZID=America/New_York:20260210T100000
DTEND;TZID=America/New_York:20260210T120000
DTSTAMP:20260423T170205
CREATED:20250825T005736Z
LAST-MODIFIED:20260210T160514Z
UID:36687-1770717600-1770724800@ctkrva.org
SUMMARY:Richmond Conference Meeting
DESCRIPTION:
URL:https://ctkrva.org/event/richmond-conference-meeting-29/
END:VEVENT
BEGIN:VEVENT
DTSTART;TZID=America/New_York:20260210T100000
DTEND;TZID=America/New_York:20260210T120000
DTSTAMP:20260423T170205
CREATED:20250824T161134Z
LAST-MODIFIED:20260210T160514Z
UID:36677-1770717600-1770724800@ctkrva.org
SUMMARY:Circle of Faith
DESCRIPTION:
URL:https://ctkrva.org/event/circle-of-faith-50/
END:VEVENT
BEGIN:VEVENT
DTSTART;TZID=America/New_York:20260209T130000
DTEND;TZID=America/New_York:20260209T140000
DTSTAMP:20260423T170205
CREATED:20250823T005725Z
LAST-MODIFIED:20260209T185143Z
UID:36642-1770642000-1770645600@ctkrva.org
SUMMARY:AA
DESCRIPTION:
URL:https://ctkrva.org/event/aa-258/
LOCATION:Fellowship Hall
END:VEVENT
BEGIN:VEVENT
DTSTART;TZID=America/New_York:20260209T120000
DTEND;TZID=America/New_York:20260209T130000
DTSTAMP:20260423T170205
CREATED:20250824T161132Z
LAST-MODIFIED:20260209T161458Z
UID:36676-1770638400-1770642000@ctkrva.org
SUMMARY:Executive Team
DESCRIPTION:
URL:https://ctkrva.org/event/executive-team-61/
END:VEVENT
BEGIN:VEVENT
DTSTART;TZID=America/New_York:20260208T150000
DTEND;TZID=America/New_York:20260208T170000
DTSTAMP:20260423T170205
CREATED:20260203T152104Z
LAST-MODIFIED:20260208T210540Z
UID:40672-1770562800-1770570000@ctkrva.org
SUMMARY:Facilities Use: Dave Delaney Winter Celebration Planning Session
DESCRIPTION:
URL:https://ctkrva.org/event/facilities-use-dave-delaney-winter-celebration-planning-session/
END:VEVENT
BEGIN:VEVENT
DTSTART;TZID=America/New_York:20260208T111500
DTEND;TZID=America/New_York:20260208T131500
DTSTAMP:20260423T170205
CREATED:20260203T152103Z
LAST-MODIFIED:20260208T172011Z
UID:40671-1770549300-1770556500@ctkrva.org
SUMMARY:Call Process Meeting with Bishop & Assistant
DESCRIPTION:
URL:https://ctkrva.org/event/call-process-meeting-with-bishop-assistant/
LOCATION:Sanctuary
END:VEVENT
BEGIN:VEVENT
DTSTART;TZID=America/New_York:20260208T111500
DTEND;TZID=America/New_York:20260208T114500
DTSTAMP:20260423T170205
CREATED:20250822T181203Z
LAST-MODIFIED:20260208T160824Z
UID:36634-1770549300-1770551100@ctkrva.org
SUMMARY:CTK Cafe
DESCRIPTION:
URL:https://ctkrva.org/event/ctk-cafe-64/
LOCATION:After Worship
END:VEVENT
BEGIN:VEVENT
DTSTART;TZID=America/New_York:20260208T101500
DTEND;TZID=America/New_York:20260208T104500
DTSTAMP:20260423T170205
CREATED:20251028T051017Z
LAST-MODIFIED:20260209T161459Z
UID:38276-1770545700-1770547500@ctkrva.org
SUMMARY:CTK Cafe
DESCRIPTION:
URL:https://ctkrva.org/event/ctk-cafe-102/
LOCATION:After Worship
END:VEVENT
BEGIN:VEVENT
DTSTART;TZID=America/New_York:20260208T100000
DTEND;TZID=America/New_York:20260208T110000
DTSTAMP:20260423T170205
CREATED:20250822T005731Z
LAST-MODIFIED:20260208T145115Z
UID:36618-1770544800-1770548400@ctkrva.org
SUMMARY:Worship
DESCRIPTION:
URL:https://ctkrva.org/event/worship-52/
END:VEVENT
BEGIN:VEVENT
DTSTART;TZID=America/New_York:20260208T090000
DTEND;TZID=America/New_York:20260208T100000
DTSTAMP:20260423T170205
CREATED:20251028T050959Z
LAST-MODIFIED:20260209T161500Z
UID:38275-1770541200-1770544800@ctkrva.org
SUMMARY:Worship
DESCRIPTION:
URL:https://ctkrva.org/event/worship-140/
END:VEVENT
BEGIN:VEVENT
DTSTART;TZID=America/New_York:20260207T140000
DTEND;TZID=America/New_York:20260207T150000
DTSTAMP:20260423T170205
CREATED:20260123T142122Z
LAST-MODIFIED:20260207T185107Z
UID:40422-1770472800-1770476400@ctkrva.org
SUMMARY:Nancy Tyler Funeral
DESCRIPTION:
URL:https://ctkrva.org/event/nancy-tyler-funeral/
END:VEVENT
BEGIN:VEVENT
DTSTART;TZID=America/New_York:20260206T190000
DTEND;TZID=America/New_York:20260206T200000
DTSTAMP:20260423T170205
CREATED:20250821T172745Z
LAST-MODIFIED:20260207T002138Z
UID:36610-1770404400-1770408000@ctkrva.org
SUMMARY:NarAnon
DESCRIPTION:
URL:https://ctkrva.org/event/naranon-73/
LOCATION:Gathering Space
END:VEVENT
BEGIN:VEVENT
DTSTART;TZID=America/New_York:20260206T130000
DTEND;TZID=America/New_York:20260206T140000
DTSTAMP:20260423T170205
CREATED:20250820T205754Z
LAST-MODIFIED:20260206T180554Z
UID:36590-1770382800-1770386400@ctkrva.org
SUMMARY:AA
DESCRIPTION:
URL:https://ctkrva.org/event/aa-225/
LOCATION:Fellowship Hall
END:VEVENT
BEGIN:VEVENT
DTSTART;TZID=America/New_York:20260205T183000
DTEND;TZID=America/New_York:20260205T203000
DTSTAMP:20260423T170205
CREATED:20250820T144229Z
LAST-MODIFIED:20260206T010600Z
UID:36583-1770316200-1770323400@ctkrva.org
SUMMARY:Tai Chi - John Crouse
DESCRIPTION:
URL:https://ctkrva.org/event/tai-chi-john-crouse-226/
LOCATION:Fellowship Hall
END:VEVENT
BEGIN:VEVENT
DTSTART;TZID=America/New_York:20260205T120000
DTEND;TZID=America/New_York:20260205T130000
DTSTAMP:20260423T170205
CREATED:20250820T021218Z
LAST-MODIFIED:20260205T174033Z
UID:36571-1770292800-1770296400@ctkrva.org
SUMMARY:ALANON (12&12)
DESCRIPTION:
URL:https://ctkrva.org/event/alanon-1212-110/
LOCATION:Fellowship Hall
END:VEVENT
BEGIN:VEVENT
DTSTART;TZID=America/New_York:20260203T183000
DTEND;TZID=America/New_York:20260203T203000
DTSTAMP:20260423T170205
CREATED:20250820T010144Z
LAST-MODIFIED:20260204T012013Z
UID:36568-1770143400-1770150600@ctkrva.org
SUMMARY:Tai Chi - John Crouse
DESCRIPTION:
URL:https://ctkrva.org/event/tai-chi-john-crouse-225/
LOCATION:Fellowship Hall
END:VEVENT
BEGIN:VEVENT
DTSTART;TZID=America/New_York:20260202T130000
DTEND;TZID=America/New_York:20260202T140000
DTSTAMP:20260423T170205
CREATED:20250819T150009Z
LAST-MODIFIED:20260202T180532Z
UID:36558-1770037200-1770040800@ctkrva.org
SUMMARY:AA
DESCRIPTION:
URL:https://ctkrva.org/event/aa-224/
LOCATION:Fellowship Hall
END:VEVENT
BEGIN:VEVENT
DTSTART;TZID=America/New_York:20260201T111500
DTEND;TZID=America/New_York:20260201T114500
DTSTAMP:20260423T170205
CREATED:20250819T051139Z
LAST-MODIFIED:20260201T160754Z
UID:36548-1769944500-1769946300@ctkrva.org
SUMMARY:CTK Cafe
DESCRIPTION:
URL:https://ctkrva.org/event/ctk-cafe-38/
LOCATION:After Worship
END:VEVENT
BEGIN:VEVENT
DTSTART;TZID=America/New_York:20260201T101500
DTEND;TZID=America/New_York:20260201T104500
DTSTAMP:20260423T170205
CREATED:20251028T050957Z
LAST-MODIFIED:20260202T155609Z
UID:38274-1769940900-1769942700@ctkrva.org
SUMMARY:CTK Cafe
DESCRIPTION:
URL:https://ctkrva.org/event/ctk-cafe-101/
LOCATION:After Worship
END:VEVENT
BEGIN:VEVENT
DTSTART;TZID=America/New_York:20260201T100000
DTEND;TZID=America/New_York:20260201T110000
DTSTAMP:20260423T170205
CREATED:20250818T170004Z
LAST-MODIFIED:20260201T145225Z
UID:36146-1769940000-1769943600@ctkrva.org
SUMMARY:Worship
DESCRIPTION:
URL:https://ctkrva.org/event/worship-69/
END:VEVENT
BEGIN:VEVENT
DTSTART;TZID=America/New_York:20260201T090000
DTEND;TZID=America/New_York:20260201T100000
DTSTAMP:20260423T170205
CREATED:20251028T050956Z
LAST-MODIFIED:20260202T155701Z
UID:38273-1769936400-1769940000@ctkrva.org
SUMMARY:Worship
DESCRIPTION:
URL:https://ctkrva.org/event/worship-139/
END:VEVENT
END:VCALENDAR