BEGIN:VCALENDAR
VERSION:2.0
PRODID:-//Christ The King Lutheran Church - ECPv6.15.20//NONSGML v1.0//EN
CALSCALE:GREGORIAN
METHOD:PUBLISH
X-WR-CALNAME:Christ The King Lutheran Church
X-ORIGINAL-URL:https://ctkrva.org
X-WR-CALDESC:Events for Christ The King Lutheran Church
REFRESH-INTERVAL;VALUE=DURATION:PT1H
X-Robots-Tag:noindex
X-PUBLISHED-TTL:PT1H
BEGIN:VTIMEZONE
TZID:America/New_York
BEGIN:DAYLIGHT
TZOFFSETFROM:-0500
TZOFFSETTO:-0400
TZNAME:EDT
DTSTART:20250309T070000
END:DAYLIGHT
BEGIN:STANDARD
TZOFFSETFROM:-0400
TZOFFSETTO:-0500
TZNAME:EST
DTSTART:20251102T060000
END:STANDARD
BEGIN:DAYLIGHT
TZOFFSETFROM:-0500
TZOFFSETTO:-0400
TZNAME:EDT
DTSTART:20260308T070000
END:DAYLIGHT
BEGIN:STANDARD
TZOFFSETFROM:-0400
TZOFFSETTO:-0500
TZNAME:EST
DTSTART:20261101T060000
END:STANDARD
BEGIN:DAYLIGHT
TZOFFSETFROM:-0500
TZOFFSETTO:-0400
TZNAME:EDT
DTSTART:20270314T070000
END:DAYLIGHT
BEGIN:STANDARD
TZOFFSETFROM:-0400
TZOFFSETTO:-0500
TZNAME:EST
DTSTART:20271107T060000
END:STANDARD
END:VTIMEZONE
BEGIN:VEVENT
DTSTART;TZID=America/New_York:20260717T130000
DTEND;TZID=America/New_York:20260717T140000
DTSTAMP:20260423T182228
CREATED:20251222T194335Z
LAST-MODIFIED:20260423T210838Z
UID:39687-1784293200-1784296800@ctkrva.org
SUMMARY:AA
DESCRIPTION:
URL:https://ctkrva.org/event/aa-303/
LOCATION:Fellowship Hall
END:VEVENT
BEGIN:VEVENT
DTSTART;TZID=America/New_York:20260717T190000
DTEND;TZID=America/New_York:20260717T200000
DTSTAMP:20260423T182228
CREATED:20251224T024316Z
LAST-MODIFIED:20260423T210838Z
UID:39714-1784314800-1784318400@ctkrva.org
SUMMARY:NarAnon
DESCRIPTION:
URL:https://ctkrva.org/event/naranon-112/
LOCATION:Gathering Space
END:VEVENT
BEGIN:VEVENT
DTSTART;TZID=America/New_York:20260719T100000
DTEND;TZID=America/New_York:20260719T110000
DTSTAMP:20260423T182228
CREATED:20251225T011523Z
LAST-MODIFIED:20260423T210838Z
UID:39734-1784455200-1784458800@ctkrva.org
SUMMARY:Worship
DESCRIPTION:
URL:https://ctkrva.org/event/worship-165/
END:VEVENT
BEGIN:VEVENT
DTSTART;TZID=America/New_York:20260719T111500
DTEND;TZID=America/New_York:20260719T114500
DTSTAMP:20260423T182228
CREATED:20251225T011524Z
LAST-MODIFIED:20260423T210839Z
UID:39735-1784459700-1784461500@ctkrva.org
SUMMARY:CTK Cafe
DESCRIPTION:
URL:https://ctkrva.org/event/ctk-cafe-132/
LOCATION:After Worship
END:VEVENT
BEGIN:VEVENT
DTSTART;TZID=America/New_York:20260720T130000
DTEND;TZID=America/New_York:20260720T140000
DTSTAMP:20260423T182228
CREATED:20251225T011525Z
LAST-MODIFIED:20260423T210839Z
UID:39736-1784552400-1784556000@ctkrva.org
SUMMARY:AA
DESCRIPTION:
URL:https://ctkrva.org/event/aa-304/
LOCATION:Fellowship Hall
END:VEVENT
BEGIN:VEVENT
DTSTART;TZID=America/New_York:20260721T183000
DTEND;TZID=America/New_York:20260721T203000
DTSTAMP:20260423T182228
CREATED:20251226T004319Z
LAST-MODIFIED:20260423T210839Z
UID:39760-1784658600-1784665800@ctkrva.org
SUMMARY:Tai Chi - John Crouse
DESCRIPTION:
URL:https://ctkrva.org/event/tai-chi-john-crouse-304/
LOCATION:Fellowship Hall
END:VEVENT
BEGIN:VEVENT
DTSTART;TZID=America/New_York:20260721T190000
DTEND;TZID=America/New_York:20260721T210000
DTSTAMP:20260423T182228
CREATED:20251226T004318Z
LAST-MODIFIED:20260423T210839Z
UID:39759-1784660400-1784667600@ctkrva.org
SUMMARY:Church Council
DESCRIPTION:
URL:https://ctkrva.org/event/church-council-36/
END:VEVENT
BEGIN:VEVENT
DTSTART;TZID=America/New_York:20260723T120000
DTEND;TZID=America/New_York:20260723T130000
DTSTAMP:20260423T182228
CREATED:20251226T142837Z
LAST-MODIFIED:20260423T210839Z
UID:39774-1784808000-1784811600@ctkrva.org
SUMMARY:ALANON (12&12)
DESCRIPTION:
URL:https://ctkrva.org/event/alanon-1212-150/
LOCATION:Fellowship Hall
END:VEVENT
BEGIN:VEVENT
DTSTART;TZID=America/New_York:20260723T183000
DTEND;TZID=America/New_York:20260723T203000
DTSTAMP:20260423T182228
CREATED:20251226T192850Z
LAST-MODIFIED:20260423T210839Z
UID:39780-1784831400-1784838600@ctkrva.org
SUMMARY:Tai Chi - John Crouse
DESCRIPTION:
URL:https://ctkrva.org/event/tai-chi-john-crouse-305/
LOCATION:Fellowship Hall
END:VEVENT
BEGIN:VEVENT
DTSTART;TZID=America/New_York:20260724T130000
DTEND;TZID=America/New_York:20260724T140000
DTSTAMP:20260423T182228
CREATED:20251227T014551Z
LAST-MODIFIED:20260423T210839Z
UID:39787-1784898000-1784901600@ctkrva.org
SUMMARY:AA
DESCRIPTION:
URL:https://ctkrva.org/event/aa-305/
LOCATION:Fellowship Hall
END:VEVENT
BEGIN:VEVENT
DTSTART;TZID=America/New_York:20260724T190000
DTEND;TZID=America/New_York:20260724T200000
DTSTAMP:20260423T182228
CREATED:20251228T162845Z
LAST-MODIFIED:20260423T210857Z
UID:39820-1784919600-1784923200@ctkrva.org
SUMMARY:NarAnon
DESCRIPTION:
URL:https://ctkrva.org/event/naranon-113/
LOCATION:Gathering Space
END:VEVENT
BEGIN:VEVENT
DTSTART;TZID=America/New_York:20260726T100000
DTEND;TZID=America/New_York:20260726T110000
DTSTAMP:20260423T182228
CREATED:20251228T174257Z
LAST-MODIFIED:20260423T210857Z
UID:39823-1785060000-1785063600@ctkrva.org
SUMMARY:Worship
DESCRIPTION:
URL:https://ctkrva.org/event/worship-166/
END:VEVENT
BEGIN:VEVENT
DTSTART;TZID=America/New_York:20260726T111500
DTEND;TZID=America/New_York:20260726T114500
DTSTAMP:20260423T182228
CREATED:20251229T191354Z
LAST-MODIFIED:20260423T210857Z
UID:39847-1785064500-1785066300@ctkrva.org
SUMMARY:CTK Cafe
DESCRIPTION:
URL:https://ctkrva.org/event/ctk-cafe-133/
LOCATION:After Worship
END:VEVENT
BEGIN:VEVENT
DTSTART;TZID=America/New_York:20260727T130000
DTEND;TZID=America/New_York:20260727T140000
DTSTAMP:20260423T182228
CREATED:20251231T061303Z
LAST-MODIFIED:20260423T210857Z
UID:39879-1785157200-1785160800@ctkrva.org
SUMMARY:AA
DESCRIPTION:
URL:https://ctkrva.org/event/aa-306/
LOCATION:Fellowship Hall
END:VEVENT
BEGIN:VEVENT
DTSTART;TZID=America/New_York:20260728T100000
DTEND;TZID=America/New_York:20260728T120000
DTSTAMP:20260423T182228
CREATED:20260101T182956Z
LAST-MODIFIED:20260423T210857Z
UID:39910-1785232800-1785240000@ctkrva.org
SUMMARY:Circle of Faith
DESCRIPTION:
URL:https://ctkrva.org/event/circle-of-faith-61/
END:VEVENT
BEGIN:VEVENT
DTSTART;TZID=America/New_York:20260728T183000
DTEND;TZID=America/New_York:20260728T203000
DTSTAMP:20260423T182228
CREATED:20260102T015758Z
LAST-MODIFIED:20260423T210857Z
UID:39918-1785263400-1785270600@ctkrva.org
SUMMARY:Tai Chi - John Crouse
DESCRIPTION:
URL:https://ctkrva.org/event/tai-chi-john-crouse-306/
LOCATION:Fellowship Hall
END:VEVENT
BEGIN:VEVENT
DTSTART;TZID=America/New_York:20260729T133000
DTEND;TZID=America/New_York:20260729T143000
DTSTAMP:20260423T182228
CREATED:20260102T192819Z
LAST-MODIFIED:20260423T210857Z
UID:39934-1785331800-1785335400@ctkrva.org
SUMMARY:Intercessory Prayer Service
DESCRIPTION:
URL:https://ctkrva.org/event/intercessory-prayer-service-34/
END:VEVENT
BEGIN:VEVENT
DTSTART;TZID=America/New_York:20260730T120000
DTEND;TZID=America/New_York:20260730T130000
DTSTAMP:20260423T182228
CREATED:20260103T014326Z
LAST-MODIFIED:20260423T210857Z
UID:39941-1785412800-1785416400@ctkrva.org
SUMMARY:ALANON (12&12)
DESCRIPTION:
URL:https://ctkrva.org/event/alanon-1212-151/
LOCATION:Fellowship Hall
END:VEVENT
BEGIN:VEVENT
DTSTART;TZID=America/New_York:20260730T183000
DTEND;TZID=America/New_York:20260730T203000
DTSTAMP:20260423T182228
CREATED:20260104T161309Z
LAST-MODIFIED:20260423T210857Z
UID:39974-1785436200-1785443400@ctkrva.org
SUMMARY:Tai Chi - John Crouse
DESCRIPTION:
URL:https://ctkrva.org/event/tai-chi-john-crouse-307/
LOCATION:Fellowship Hall
END:VEVENT
BEGIN:VEVENT
DTSTART;TZID=America/New_York:20260731T130000
DTEND;TZID=America/New_York:20260731T140000
DTSTAMP:20260423T182228
CREATED:20260104T172804Z
LAST-MODIFIED:20260423T210857Z
UID:39977-1785502800-1785506400@ctkrva.org
SUMMARY:AA
DESCRIPTION:
URL:https://ctkrva.org/event/aa-307/
LOCATION:Fellowship Hall
END:VEVENT
BEGIN:VEVENT
DTSTART;TZID=America/New_York:20260731T190000
DTEND;TZID=America/New_York:20260731T200000
DTSTAMP:20260423T182228
CREATED:20260105T005755Z
LAST-MODIFIED:20260423T210915Z
UID:39985-1785524400-1785528000@ctkrva.org
SUMMARY:NarAnon
DESCRIPTION:
URL:https://ctkrva.org/event/naranon-114/
LOCATION:Gathering Space
END:VEVENT
BEGIN:VEVENT
DTSTART;VALUE=DATE:20260802
DTEND;VALUE=DATE:20260803
DTSTAMP:20260423T182228
CREATED:20260106T062803Z
LAST-MODIFIED:20260423T210915Z
UID:40013-1785628800-1785715199@ctkrva.org
SUMMARY:Food Pantry Sunday
DESCRIPTION:
URL:https://ctkrva.org/event/food-pantry-sunday-41/
END:VEVENT
BEGIN:VEVENT
DTSTART;TZID=America/New_York:20260802T100000
DTEND;TZID=America/New_York:20260802T110000
DTSTAMP:20260423T182228
CREATED:20260105T191353Z
LAST-MODIFIED:20260423T210915Z
UID:40002-1785664800-1785668400@ctkrva.org
SUMMARY:Worship
DESCRIPTION:
URL:https://ctkrva.org/event/worship-167/
END:VEVENT
BEGIN:VEVENT
DTSTART;TZID=America/New_York:20260802T111500
DTEND;TZID=America/New_York:20260802T114500
DTSTAMP:20260423T182228
CREATED:20260108T182838Z
LAST-MODIFIED:20260423T210915Z
UID:40067-1785669300-1785671100@ctkrva.org
SUMMARY:CTK Cafe
DESCRIPTION:
URL:https://ctkrva.org/event/ctk-cafe-134/
LOCATION:After Worship
END:VEVENT
BEGIN:VEVENT
DTSTART;TZID=America/New_York:20260803T130000
DTEND;TZID=America/New_York:20260803T140000
DTSTAMP:20260423T182228
CREATED:20260109T193035Z
LAST-MODIFIED:20260423T210915Z
UID:40089-1785762000-1785765600@ctkrva.org
SUMMARY:AA
DESCRIPTION:
URL:https://ctkrva.org/event/aa-308/
LOCATION:Fellowship Hall
END:VEVENT
BEGIN:VEVENT
DTSTART;TZID=America/New_York:20260804T183000
DTEND;TZID=America/New_York:20260804T203000
DTSTAMP:20260423T182228
CREATED:20260110T012843Z
LAST-MODIFIED:20260423T210915Z
UID:40096-1785868200-1785875400@ctkrva.org
SUMMARY:Tai Chi - John Crouse
DESCRIPTION:
URL:https://ctkrva.org/event/tai-chi-john-crouse-308/
LOCATION:Fellowship Hall
END:VEVENT
BEGIN:VEVENT
DTSTART;TZID=America/New_York:20260806T120000
DTEND;TZID=America/New_York:20260806T130000
DTSTAMP:20260423T182228
CREATED:20260111T171631Z
LAST-MODIFIED:20260423T210915Z
UID:40130-1786017600-1786021200@ctkrva.org
SUMMARY:ALANON (12&12)
DESCRIPTION:
URL:https://ctkrva.org/event/alanon-1212-152/
LOCATION:Fellowship Hall
END:VEVENT
BEGIN:VEVENT
DTSTART;TZID=America/New_York:20260806T183000
DTEND;TZID=America/New_York:20260806T203000
DTSTAMP:20260423T182228
CREATED:20260111T171632Z
LAST-MODIFIED:20260423T210915Z
UID:40131-1786041000-1786048200@ctkrva.org
SUMMARY:Tai Chi - John Crouse
DESCRIPTION:
URL:https://ctkrva.org/event/tai-chi-john-crouse-309/
LOCATION:Fellowship Hall
END:VEVENT
BEGIN:VEVENT
DTSTART;TZID=America/New_York:20260807T130000
DTEND;TZID=America/New_York:20260807T140000
DTSTAMP:20260423T182228
CREATED:20260111T194625Z
LAST-MODIFIED:20260423T210915Z
UID:40136-1786107600-1786111200@ctkrva.org
SUMMARY:AA
DESCRIPTION:
URL:https://ctkrva.org/event/aa-309/
LOCATION:Fellowship Hall
END:VEVENT
BEGIN:VEVENT
DTSTART;TZID=America/New_York:20260807T190000
DTEND;TZID=America/New_York:20260807T200000
DTSTAMP:20260423T182228
CREATED:20260111T231320Z
LAST-MODIFIED:20260423T210915Z
UID:40141-1786129200-1786132800@ctkrva.org
SUMMARY:NarAnon
DESCRIPTION:
URL:https://ctkrva.org/event/naranon-115/
LOCATION:Gathering Space
END:VEVENT
END:VCALENDAR