BEGIN:VCALENDAR
VERSION:2.0
PRODID:-//Christ The King Lutheran Church - ECPv6.15.20//NONSGML v1.0//EN
CALSCALE:GREGORIAN
METHOD:PUBLISH
X-ORIGINAL-URL:https://ctkrva.org
X-WR-CALDESC:Events for Christ The King Lutheran Church
REFRESH-INTERVAL;VALUE=DURATION:PT1H
X-Robots-Tag:noindex
X-PUBLISHED-TTL:PT1H
BEGIN:VTIMEZONE
TZID:America/New_York
BEGIN:DAYLIGHT
TZOFFSETFROM:-0500
TZOFFSETTO:-0400
TZNAME:EDT
DTSTART:20250309T070000
END:DAYLIGHT
BEGIN:STANDARD
TZOFFSETFROM:-0400
TZOFFSETTO:-0500
TZNAME:EST
DTSTART:20251102T060000
END:STANDARD
BEGIN:DAYLIGHT
TZOFFSETFROM:-0500
TZOFFSETTO:-0400
TZNAME:EDT
DTSTART:20260308T070000
END:DAYLIGHT
BEGIN:STANDARD
TZOFFSETFROM:-0400
TZOFFSETTO:-0500
TZNAME:EST
DTSTART:20261101T060000
END:STANDARD
BEGIN:DAYLIGHT
TZOFFSETFROM:-0500
TZOFFSETTO:-0400
TZNAME:EDT
DTSTART:20270314T070000
END:DAYLIGHT
BEGIN:STANDARD
TZOFFSETFROM:-0400
TZOFFSETTO:-0500
TZNAME:EST
DTSTART:20271107T060000
END:STANDARD
END:VTIMEZONE
BEGIN:VEVENT
DTSTART;TZID=America/New_York:20260315T121500
DTEND;TZID=America/New_York:20260315T124500
DTSTAMP:20260423T170200
CREATED:20260303T050548Z
LAST-MODIFIED:20260316T154943Z
UID:41318-1773576900-1773578700@ctkrva.org
SUMMARY:CTK Cafe
DESCRIPTION:
URL:https://ctkrva.org/event/ctk-cafe-142/
LOCATION:After Worship
END:VEVENT
BEGIN:VEVENT
DTSTART;TZID=America/New_York:20260316T130000
DTEND;TZID=America/New_York:20260316T140000
DTSTAMP:20260423T170200
CREATED:20250916T171154Z
LAST-MODIFIED:20260316T170635Z
UID:37253-1773666000-1773669600@ctkrva.org
SUMMARY:AA
DESCRIPTION:
URL:https://ctkrva.org/event/aa-268/
LOCATION:Fellowship Hall
END:VEVENT
BEGIN:VEVENT
DTSTART;TZID=America/New_York:20260317T183000
DTEND;TZID=America/New_York:20260317T203000
DTSTAMP:20260423T170200
CREATED:20250917T004215Z
LAST-MODIFIED:20260317T235012Z
UID:37261-1773772200-1773779400@ctkrva.org
SUMMARY:Tai Chi - John Crouse
DESCRIPTION:
URL:https://ctkrva.org/event/tai-chi-john-crouse-268/
LOCATION:Fellowship Hall
END:VEVENT
BEGIN:VEVENT
DTSTART;TZID=America/New_York:20260317T190000
DTEND;TZID=America/New_York:20260317T210000
DTSTAMP:20260423T170200
CREATED:20250917T015819Z
LAST-MODIFIED:20260317T235012Z
UID:37264-1773774000-1773781200@ctkrva.org
SUMMARY:Church Council
DESCRIPTION:
URL:https://ctkrva.org/event/church-council-32/
END:VEVENT
BEGIN:VEVENT
DTSTART;TZID=America/New_York:20260318T190000
DTEND;TZID=America/New_York:20260318T200000
DTSTAMP:20260423T170200
CREATED:20260302T203538Z
LAST-MODIFIED:20260318T233522Z
UID:41303-1773860400-1773864000@ctkrva.org
SUMMARY:Midweek Lenten Service
DESCRIPTION:
URL:https://ctkrva.org/event/midweek-lenten-service-7/
END:VEVENT
BEGIN:VEVENT
DTSTART;TZID=America/New_York:20260319T120000
DTEND;TZID=America/New_York:20260319T130000
DTSTAMP:20260423T170200
CREATED:20250917T205641Z
LAST-MODIFIED:20260319T165109Z
UID:37281-1773921600-1773925200@ctkrva.org
SUMMARY:ALANON (12&12)
DESCRIPTION:
URL:https://ctkrva.org/event/alanon-1212-132/
LOCATION:Fellowship Hall
END:VEVENT
BEGIN:VEVENT
DTSTART;TZID=America/New_York:20260319T183000
DTEND;TZID=America/New_York:20260319T203000
DTSTAMP:20260423T170200
CREATED:20250918T004140Z
LAST-MODIFIED:20260320T002030Z
UID:37286-1773945000-1773952200@ctkrva.org
SUMMARY:Tai Chi - John Crouse
DESCRIPTION:
URL:https://ctkrva.org/event/tai-chi-john-crouse-269/
LOCATION:Fellowship Hall
END:VEVENT
BEGIN:VEVENT
DTSTART;TZID=America/New_York:20260319T190000
DTEND;TZID=America/New_York:20260319T200000
DTSTAMP:20260423T170200
CREATED:20260219T142135Z
LAST-MODIFIED:20260319T230515Z
UID:41043-1773946800-1773950400@ctkrva.org
SUMMARY:Choir
DESCRIPTION:
URL:https://ctkrva.org/event/choir-26/
END:VEVENT
BEGIN:VEVENT
DTSTART;TZID=America/New_York:20260320T130000
DTEND;TZID=America/New_York:20260320T140000
DTSTAMP:20260423T170200
CREATED:20250918T175923Z
LAST-MODIFIED:20260320T165013Z
UID:37302-1774011600-1774015200@ctkrva.org
SUMMARY:AA
DESCRIPTION:
URL:https://ctkrva.org/event/aa-269/
LOCATION:Fellowship Hall
END:VEVENT
BEGIN:VEVENT
DTSTART;TZID=America/New_York:20260320T190000
DTEND;TZID=America/New_York:20260320T200000
DTSTAMP:20260423T170200
CREATED:20250919T012855Z
LAST-MODIFIED:20260320T213719Z
UID:37310-1774033200-1774036800@ctkrva.org
SUMMARY:NarAnon
DESCRIPTION:
URL:https://ctkrva.org/event/naranon-95/
LOCATION:Gathering Space
END:VEVENT
BEGIN:VEVENT
DTSTART;TZID=America/New_York:20260322T090000
DTEND;TZID=America/New_York:20260322T100000
DTSTAMP:20260423T170200
CREATED:20251028T051216Z
LAST-MODIFIED:20260323T160609Z
UID:38287-1774170000-1774173600@ctkrva.org
SUMMARY:Worship
DESCRIPTION:
URL:https://ctkrva.org/event/worship-146/
END:VEVENT
BEGIN:VEVENT
DTSTART;TZID=America/New_York:20260322T100000
DTEND;TZID=America/New_York:20260322T110000
DTSTAMP:20260423T170200
CREATED:20250921T155907Z
LAST-MODIFIED:20260322T145123Z
UID:37370-1774173600-1774177200@ctkrva.org
SUMMARY:Worship
DESCRIPTION:
URL:https://ctkrva.org/event/worship-117/
END:VEVENT
BEGIN:VEVENT
DTSTART;TZID=America/New_York:20260322T101500
DTEND;TZID=America/New_York:20260322T104500
DTSTAMP:20260423T170200
CREATED:20251028T051217Z
LAST-MODIFIED:20260323T160608Z
UID:38288-1774174500-1774176300@ctkrva.org
SUMMARY:CTK Cafe
DESCRIPTION:
URL:https://ctkrva.org/event/ctk-cafe-109/
LOCATION:After Worship
END:VEVENT
BEGIN:VEVENT
DTSTART;TZID=America/New_York:20260322T110000
DTEND;TZID=America/New_York:20260322T120000
DTSTAMP:20260423T170200
CREATED:20260303T050603Z
LAST-MODIFIED:20260323T160608Z
UID:41319-1774177200-1774180800@ctkrva.org
SUMMARY:Worship
DESCRIPTION:
URL:https://ctkrva.org/event/worship-176/
END:VEVENT
BEGIN:VEVENT
DTSTART;TZID=America/New_York:20260322T111500
DTEND;TZID=America/New_York:20260322T114500
DTSTAMP:20260423T170200
CREATED:20250921T155909Z
LAST-MODIFIED:20260322T145123Z
UID:37371-1774178100-1774179900@ctkrva.org
SUMMARY:CTK Cafe
DESCRIPTION:
URL:https://ctkrva.org/event/ctk-cafe-70/
LOCATION:After Worship
END:VEVENT
BEGIN:VEVENT
DTSTART;TZID=America/New_York:20260322T121500
DTEND;TZID=America/New_York:20260322T124500
DTSTAMP:20260423T170200
CREATED:20260303T050604Z
LAST-MODIFIED:20260323T160607Z
UID:41320-1774181700-1774183500@ctkrva.org
SUMMARY:CTK Cafe
DESCRIPTION:
URL:https://ctkrva.org/event/ctk-cafe-143/
LOCATION:After Worship
END:VEVENT
BEGIN:VEVENT
DTSTART;TZID=America/New_York:20260323T120000
DTEND;TZID=America/New_York:20260323T130000
DTSTAMP:20260423T170200
CREATED:20250922T174256Z
LAST-MODIFIED:20260323T160606Z
UID:37399-1774267200-1774270800@ctkrva.org
SUMMARY:Executive Team
DESCRIPTION:
URL:https://ctkrva.org/event/executive-team-65/
END:VEVENT
BEGIN:VEVENT
DTSTART;TZID=America/New_York:20260323T130000
DTEND;TZID=America/New_York:20260323T140000
DTSTAMP:20260423T170200
CREATED:20250922T185805Z
LAST-MODIFIED:20260323T172143Z
UID:37402-1774270800-1774274400@ctkrva.org
SUMMARY:AA
DESCRIPTION:
URL:https://ctkrva.org/event/aa-270/
LOCATION:Fellowship Hall
END:VEVENT
BEGIN:VEVENT
DTSTART;TZID=America/New_York:20260324T100000
DTEND;TZID=America/New_York:20260324T120000
DTSTAMP:20260423T170200
CREATED:20250923T161434Z
LAST-MODIFIED:20260324T150606Z
UID:37422-1774346400-1774353600@ctkrva.org
SUMMARY:Circle of Faith
DESCRIPTION:
URL:https://ctkrva.org/event/circle-of-faith-53/
END:VEVENT
BEGIN:VEVENT
DTSTART;TZID=America/New_York:20260324T183000
DTEND;TZID=America/New_York:20260324T203000
DTSTAMP:20260423T170200
CREATED:20250924T005933Z
LAST-MODIFIED:20260324T235329Z
UID:37431-1774377000-1774384200@ctkrva.org
SUMMARY:Tai Chi - John Crouse
DESCRIPTION:
URL:https://ctkrva.org/event/tai-chi-john-crouse-270/
LOCATION:Fellowship Hall
END:VEVENT
BEGIN:VEVENT
DTSTART;TZID=America/New_York:20260325T133000
DTEND;TZID=America/New_York:20260325T143000
DTSTAMP:20260423T170200
CREATED:20250924T191353Z
LAST-MODIFIED:20260325T175115Z
UID:37448-1774445400-1774449000@ctkrva.org
SUMMARY:Intercessory Prayer Service
DESCRIPTION:
URL:https://ctkrva.org/event/intercessory-prayer-service-30/
END:VEVENT
BEGIN:VEVENT
DTSTART;TZID=America/New_York:20260325T190000
DTEND;TZID=America/New_York:20260325T200000
DTSTAMP:20260423T170200
CREATED:20260302T203552Z
LAST-MODIFIED:20260325T225218Z
UID:41304-1774465200-1774468800@ctkrva.org
SUMMARY:Midweek Lenten Service
DESCRIPTION:
URL:https://ctkrva.org/event/midweek-lenten-service-8/
END:VEVENT
BEGIN:VEVENT
DTSTART;TZID=America/New_York:20260326T120000
DTEND;TZID=America/New_York:20260326T130000
DTSTAMP:20260423T170200
CREATED:20250924T202851Z
LAST-MODIFIED:20260326T153643Z
UID:37451-1774526400-1774530000@ctkrva.org
SUMMARY:ALANON (12&12)
DESCRIPTION:
URL:https://ctkrva.org/event/alanon-1212-133/
LOCATION:Fellowship Hall
END:VEVENT
BEGIN:VEVENT
DTSTART;TZID=America/New_York:20260326T183000
DTEND;TZID=America/New_York:20260326T203000
DTSTAMP:20260423T170200
CREATED:20250925T173107Z
LAST-MODIFIED:20260327T000615Z
UID:37470-1774549800-1774557000@ctkrva.org
SUMMARY:Tai Chi - John Crouse
DESCRIPTION:
URL:https://ctkrva.org/event/tai-chi-john-crouse-271/
LOCATION:Fellowship Hall
END:VEVENT
BEGIN:VEVENT
DTSTART;TZID=America/New_York:20260326T190000
DTEND;TZID=America/New_York:20260326T200000
DTSTAMP:20260423T170200
CREATED:20260219T142149Z
LAST-MODIFIED:20260326T225053Z
UID:41044-1774551600-1774555200@ctkrva.org
SUMMARY:Choir
DESCRIPTION:
URL:https://ctkrva.org/event/choir-27/
END:VEVENT
BEGIN:VEVENT
DTSTART;TZID=America/New_York:20260327T130000
DTEND;TZID=America/New_York:20260327T140000
DTSTAMP:20260423T170200
CREATED:20250926T005818Z
LAST-MODIFIED:20260327T172553Z
UID:37479-1774616400-1774620000@ctkrva.org
SUMMARY:AA
DESCRIPTION:
URL:https://ctkrva.org/event/aa-271/
LOCATION:Fellowship Hall
END:VEVENT
BEGIN:VEVENT
DTSTART;TZID=America/New_York:20260327T190000
DTEND;TZID=America/New_York:20260327T200000
DTSTAMP:20260423T170201
CREATED:20250926T184346Z
LAST-MODIFIED:20260327T232028Z
UID:37496-1774638000-1774641600@ctkrva.org
SUMMARY:NarAnon
DESCRIPTION:
URL:https://ctkrva.org/event/naranon-96/
LOCATION:Gathering Space
END:VEVENT
BEGIN:VEVENT
DTSTART;TZID=America/New_York:20260329T090000
DTEND;TZID=America/New_York:20260329T100000
DTSTAMP:20260423T170201
CREATED:20251028T051236Z
LAST-MODIFIED:20260330T151859Z
UID:38289-1774774800-1774778400@ctkrva.org
SUMMARY:Worship
DESCRIPTION:
URL:https://ctkrva.org/event/worship-147/
END:VEVENT
BEGIN:VEVENT
DTSTART;TZID=America/New_York:20260329T100000
DTEND;TZID=America/New_York:20260329T110000
DTSTAMP:20260423T170201
CREATED:20250927T005858Z
LAST-MODIFIED:20260329T135224Z
UID:37503-1774778400-1774782000@ctkrva.org
SUMMARY:Worship
DESCRIPTION:
URL:https://ctkrva.org/event/worship-119/
END:VEVENT
BEGIN:VEVENT
DTSTART;TZID=America/New_York:20260329T101500
DTEND;TZID=America/New_York:20260329T104500
DTSTAMP:20260423T170201
CREATED:20251028T051237Z
LAST-MODIFIED:20260330T151858Z
UID:38290-1774779300-1774781100@ctkrva.org
SUMMARY:CTK Cafe
DESCRIPTION:
URL:https://ctkrva.org/event/ctk-cafe-110/
LOCATION:After Worship
END:VEVENT
END:VCALENDAR