BEGIN:VCALENDAR
VERSION:2.0
PRODID:-//Christ The King Lutheran Church - ECPv6.15.20//NONSGML v1.0//EN
CALSCALE:GREGORIAN
METHOD:PUBLISH
X-WR-CALNAME:Christ The King Lutheran Church
X-ORIGINAL-URL:https://ctkrva.org
X-WR-CALDESC:Events for Christ The King Lutheran Church
REFRESH-INTERVAL;VALUE=DURATION:PT1H
X-Robots-Tag:noindex
X-PUBLISHED-TTL:PT1H
BEGIN:VTIMEZONE
TZID:America/New_York
BEGIN:DAYLIGHT
TZOFFSETFROM:-0500
TZOFFSETTO:-0400
TZNAME:EDT
DTSTART:20240310T070000
END:DAYLIGHT
BEGIN:STANDARD
TZOFFSETFROM:-0400
TZOFFSETTO:-0500
TZNAME:EST
DTSTART:20241103T060000
END:STANDARD
BEGIN:DAYLIGHT
TZOFFSETFROM:-0500
TZOFFSETTO:-0400
TZNAME:EDT
DTSTART:20250309T070000
END:DAYLIGHT
BEGIN:STANDARD
TZOFFSETFROM:-0400
TZOFFSETTO:-0500
TZNAME:EST
DTSTART:20251102T060000
END:STANDARD
BEGIN:DAYLIGHT
TZOFFSETFROM:-0500
TZOFFSETTO:-0400
TZNAME:EDT
DTSTART:20260308T070000
END:DAYLIGHT
BEGIN:STANDARD
TZOFFSETFROM:-0400
TZOFFSETTO:-0500
TZNAME:EST
DTSTART:20261101T060000
END:STANDARD
END:VTIMEZONE
BEGIN:VEVENT
DTSTART;TZID=America/New_York:20250120T130000
DTEND;TZID=America/New_York:20250120T140000
DTSTAMP:20260425T192746
CREATED:20241127T212324Z
LAST-MODIFIED:20250120T180954Z
UID:20856-1737378000-1737381600@ctkrva.org
SUMMARY:AA
DESCRIPTION:
URL:https://ctkrva.org/event/aa-178/
LOCATION:Fellowship Hall
END:VEVENT
BEGIN:VEVENT
DTSTART;VALUE=DATE:20250120
DTEND;VALUE=DATE:20250121
DTSTAMP:20260425T192746
CREATED:20250113T162533Z
LAST-MODIFIED:20250120T225023Z
UID:22560-1737331200-1737417599@ctkrva.org
SUMMARY:Martin Luther King\, Jr. Day
DESCRIPTION:
URL:https://ctkrva.org/event/martin-luther-king-jr-day-2/
END:VEVENT
BEGIN:VEVENT
DTSTART;VALUE=DATE:20250120
DTEND;VALUE=DATE:20250121
DTSTAMP:20260425T192746
CREATED:20250113T162532Z
LAST-MODIFIED:20250120T225023Z
UID:22559-1737331200-1737417599@ctkrva.org
SUMMARY:Office Closed for Holiday
DESCRIPTION:
URL:https://ctkrva.org/event/office-closed-for-holiday-13/
END:VEVENT
BEGIN:VEVENT
DTSTART;TZID=America/New_York:20250119T113000
DTEND;TZID=America/New_York:20250119T120000
DTSTAMP:20260425T192746
CREATED:20250102T142127Z
LAST-MODIFIED:20250119T155040Z
UID:22223-1737286200-1737288000@ctkrva.org
SUMMARY:Everyday Christians
DESCRIPTION:
URL:https://ctkrva.org/event/everyday-christians-13/
END:VEVENT
BEGIN:VEVENT
DTSTART;TZID=America/New_York:20250119T113000
DTEND;TZID=America/New_York:20250119T120000
DTSTAMP:20260425T192746
CREATED:20250102T142126Z
LAST-MODIFIED:20250119T155040Z
UID:22222-1737286200-1737288000@ctkrva.org
SUMMARY:Sunday School
DESCRIPTION:
URL:https://ctkrva.org/event/sunday-school-18/
END:VEVENT
BEGIN:VEVENT
DTSTART;TZID=America/New_York:20250119T100000
DTEND;TZID=America/New_York:20250119T110000
DTSTAMP:20260425T192746
CREATED:20241127T212323Z
LAST-MODIFIED:20250119T155039Z
UID:20855-1737280800-1737284400@ctkrva.org
SUMMARY:Worship
DESCRIPTION:
URL:https://ctkrva.org/event/worship-104/
END:VEVENT
BEGIN:VEVENT
DTSTART;TZID=America/New_York:20250118T110000
DTEND;TZID=America/New_York:20250118T150000
DTSTAMP:20260425T192746
CREATED:20241127T212322Z
LAST-MODIFIED:20250118T195306Z
UID:20854-1737198000-1737212400@ctkrva.org
SUMMARY:Robert Alexander Music Recital
DESCRIPTION:
URL:https://ctkrva.org/event/robert-alexander-music-recital/
LOCATION:Fellowship Hall\, Commons & Kitchen
END:VEVENT
BEGIN:VEVENT
DTSTART;TZID=America/New_York:20250117T190000
DTEND;TZID=America/New_York:20250117T200000
DTSTAMP:20260425T192746
CREATED:20241127T212322Z
LAST-MODIFIED:20250118T000914Z
UID:20853-1737140400-1737144000@ctkrva.org
SUMMARY:NarAnon
DESCRIPTION:
URL:https://ctkrva.org/event/naranon-50/
LOCATION:Gathering Space
END:VEVENT
BEGIN:VEVENT
DTSTART;TZID=America/New_York:20250117T190000
DTEND;TZID=America/New_York:20250117T200000
DTSTAMP:20260425T192746
CREATED:20241127T212321Z
LAST-MODIFIED:20250118T000914Z
UID:20852-1737140400-1737144000@ctkrva.org
SUMMARY:NA
DESCRIPTION:
URL:https://ctkrva.org/event/na-48/
LOCATION:Fellowship Hall
END:VEVENT
BEGIN:VEVENT
DTSTART;TZID=America/New_York:20250117T130000
DTEND;TZID=America/New_York:20250117T140000
DTSTAMP:20260425T192746
CREATED:20241127T212320Z
LAST-MODIFIED:20250117T175220Z
UID:20851-1737118800-1737122400@ctkrva.org
SUMMARY:AA
DESCRIPTION:
URL:https://ctkrva.org/event/aa-177/
LOCATION:Fellowship Hall
END:VEVENT
BEGIN:VEVENT
DTSTART;TZID=America/New_York:20250116T190000
DTEND;TZID=America/New_York:20250116T200000
DTSTAMP:20260425T192746
CREATED:20241127T212307Z
LAST-MODIFIED:20250117T002257Z
UID:20850-1737054000-1737057600@ctkrva.org
SUMMARY:Choir
DESCRIPTION:
URL:https://ctkrva.org/event/choir-88/
END:VEVENT
BEGIN:VEVENT
DTSTART;TZID=America/New_York:20250116T183000
DTEND;TZID=America/New_York:20250116T203000
DTSTAMP:20260425T192746
CREATED:20241127T212307Z
LAST-MODIFIED:20250117T002257Z
UID:20849-1737052200-1737059400@ctkrva.org
SUMMARY:Tai Chi - John Crouse
DESCRIPTION:
URL:https://ctkrva.org/event/tai-chi-john-crouse-177/
LOCATION:Fellowship Hall
END:VEVENT
BEGIN:VEVENT
DTSTART;TZID=America/New_York:20250116T180000
DTEND;TZID=America/New_York:20250116T190000
DTSTAMP:20260425T192746
CREATED:20241127T212306Z
LAST-MODIFIED:20250116T230547Z
UID:20848-1737050400-1737054000@ctkrva.org
SUMMARY:Handbells
DESCRIPTION:
URL:https://ctkrva.org/event/handbells-88/
END:VEVENT
BEGIN:VEVENT
DTSTART;TZID=America/New_York:20250116T120000
DTEND;TZID=America/New_York:20250116T130000
DTSTAMP:20260425T192746
CREATED:20241127T212305Z
LAST-MODIFIED:20250116T165039Z
UID:20847-1737028800-1737032400@ctkrva.org
SUMMARY:ALANON (12&12)
DESCRIPTION:
URL:https://ctkrva.org/event/alanon-1212-90/
LOCATION:Fellowship Hall
END:VEVENT
BEGIN:VEVENT
DTSTART;TZID=America/New_York:20250115T100000
DTEND;TZID=America/New_York:20250115T160000
DTSTAMP:20260425T192746
CREATED:20241127T212305Z
LAST-MODIFIED:20250115T205204Z
UID:20846-1736935200-1736956800@ctkrva.org
SUMMARY:CTK Quilters
DESCRIPTION:
URL:https://ctkrva.org/event/ctk-quilters-6/
END:VEVENT
BEGIN:VEVENT
DTSTART;TZID=America/New_York:20250115T093000
DTEND;TZID=America/New_York:20250115T103000
DTSTAMP:20260425T192746
CREATED:20250102T142113Z
LAST-MODIFIED:20250115T143723Z
UID:22221-1736933400-1736937000@ctkrva.org
SUMMARY:Staff Meeting
DESCRIPTION:
URL:https://ctkrva.org/event/staff-meeting-86/
END:VEVENT
BEGIN:VEVENT
DTSTART;TZID=America/New_York:20250114T183000
DTEND;TZID=America/New_York:20250114T203000
DTSTAMP:20260425T192746
CREATED:20241127T212304Z
LAST-MODIFIED:20250115T005126Z
UID:20845-1736879400-1736886600@ctkrva.org
SUMMARY:Tai Chi - John Crouse
DESCRIPTION:
URL:https://ctkrva.org/event/tai-chi-john-crouse-176/
LOCATION:Fellowship Hall
END:VEVENT
BEGIN:VEVENT
DTSTART;TZID=America/New_York:20250114T100000
DTEND;TZID=America/New_York:20250114T120000
DTSTAMP:20260425T192746
CREATED:20241127T212304Z
LAST-MODIFIED:20250114T160629Z
UID:20844-1736848800-1736856000@ctkrva.org
SUMMARY:Richmond Conference Meeting
DESCRIPTION:
URL:https://ctkrva.org/event/richmond-conference-meeting-18/
END:VEVENT
BEGIN:VEVENT
DTSTART;TZID=America/New_York:20250114T100000
DTEND;TZID=America/New_York:20250114T120000
DTSTAMP:20260425T192746
CREATED:20241127T212303Z
LAST-MODIFIED:20250114T160629Z
UID:20843-1736848800-1736856000@ctkrva.org
SUMMARY:Circle of Faith
DESCRIPTION:
URL:https://ctkrva.org/event/circle-of-faith-36/
END:VEVENT
BEGIN:VEVENT
DTSTART;TZID=America/New_York:20250113T190000
DTEND;TZID=America/New_York:20250113T210000
DTSTAMP:20260425T192746
CREATED:20241127T212302Z
LAST-MODIFIED:20250114T010621Z
UID:20842-1736794800-1736802000@ctkrva.org
SUMMARY:Church Council
DESCRIPTION:
URL:https://ctkrva.org/event/church-council-20/
END:VEVENT
BEGIN:VEVENT
DTSTART;TZID=America/New_York:20250113T130000
DTEND;TZID=America/New_York:20250113T140000
DTSTAMP:20260425T192746
CREATED:20241127T212302Z
LAST-MODIFIED:20250113T185028Z
UID:20841-1736773200-1736776800@ctkrva.org
SUMMARY:AA
DESCRIPTION:
URL:https://ctkrva.org/event/aa-176/
LOCATION:Fellowship Hall
END:VEVENT
BEGIN:VEVENT
DTSTART;TZID=America/New_York:20250113T120000
DTEND;TZID=America/New_York:20250113T130000
DTSTAMP:20260425T192746
CREATED:20241127T212247Z
LAST-MODIFIED:20250113T173531Z
UID:20840-1736769600-1736773200@ctkrva.org
SUMMARY:Executive Team
DESCRIPTION:
URL:https://ctkrva.org/event/executive-team-42/
END:VEVENT
BEGIN:VEVENT
DTSTART;TZID=America/New_York:20250112T120000
DTEND;TZID=America/New_York:20250112T130000
DTSTAMP:20260425T192746
CREATED:20241127T212246Z
LAST-MODIFIED:20250112T170606Z
UID:20839-1736683200-1736686800@ctkrva.org
SUMMARY:Worship & Music and Faith Formation
DESCRIPTION:
URL:https://ctkrva.org/event/worship-music-and-faith-formation-3/
END:VEVENT
BEGIN:VEVENT
DTSTART;TZID=America/New_York:20250112T113000
DTEND;TZID=America/New_York:20250112T120000
DTSTAMP:20260425T192746
CREATED:20250102T142100Z
LAST-MODIFIED:20250112T155106Z
UID:22219-1736681400-1736683200@ctkrva.org
SUMMARY:Sunday School
DESCRIPTION:
URL:https://ctkrva.org/event/sunday-school-17/
END:VEVENT
BEGIN:VEVENT
DTSTART;TZID=America/New_York:20250112T113000
DTEND;TZID=America/New_York:20250112T120000
DTSTAMP:20260425T192746
CREATED:20250102T142100Z
LAST-MODIFIED:20250112T155106Z
UID:22220-1736681400-1736683200@ctkrva.org
SUMMARY:Everyday Christians
DESCRIPTION:
URL:https://ctkrva.org/event/everyday-christians-12/
END:VEVENT
BEGIN:VEVENT
DTSTART;TZID=America/New_York:20250112T100000
DTEND;TZID=America/New_York:20250112T150000
DTSTAMP:20260425T192746
CREATED:20250102T153551Z
LAST-MODIFIED:20250112T193606Z
UID:22273-1736676000-1736694000@ctkrva.org
SUMMARY:Red Cross Blood Drive at CTK
DESCRIPTION:
URL:https://ctkrva.org/event/red-cross-blood-drive-at-ctk-3/
LOCATION:Fellowship Hall
END:VEVENT
BEGIN:VEVENT
DTSTART;TZID=America/New_York:20250112T100000
DTEND;TZID=America/New_York:20250112T110000
DTSTAMP:20260425T192746
CREATED:20241127T212246Z
LAST-MODIFIED:20250112T155106Z
UID:20838-1736676000-1736679600@ctkrva.org
SUMMARY:Worship
DESCRIPTION:
URL:https://ctkrva.org/event/worship-103/
END:VEVENT
BEGIN:VEVENT
DTSTART;TZID=America/New_York:20250111T110000
DTEND;TZID=America/New_York:20250111T180000
DTSTAMP:20260425T192746
CREATED:20241127T212245Z
LAST-MODIFIED:20250111T223519Z
UID:20837-1736593200-1736618400@ctkrva.org
SUMMARY:Facilities Use: Lohr Baby Shower
DESCRIPTION:
URL:https://ctkrva.org/event/facilities-use-lohr-baby-shower/
LOCATION:Gathering Space & Kitchen
END:VEVENT
BEGIN:VEVENT
DTSTART;TZID=America/New_York:20250110T190000
DTEND;TZID=America/New_York:20250110T200000
DTSTAMP:20260425T192746
CREATED:20241127T212245Z
LAST-MODIFIED:20250111T000802Z
UID:20836-1736535600-1736539200@ctkrva.org
SUMMARY:NA
DESCRIPTION:
URL:https://ctkrva.org/event/na-47/
LOCATION:Fellowship Hall
END:VEVENT
BEGIN:VEVENT
DTSTART;TZID=America/New_York:20250110T190000
DTEND;TZID=America/New_York:20250110T200000
DTSTAMP:20260425T192746
CREATED:20241127T212244Z
LAST-MODIFIED:20250111T000802Z
UID:20835-1736535600-1736539200@ctkrva.org
SUMMARY:NarAnon
DESCRIPTION:
URL:https://ctkrva.org/event/naranon-49/
LOCATION:Gathering Space
END:VEVENT
END:VCALENDAR