BEGIN:VCALENDAR
VERSION:2.0
PRODID:-//Christ The King Lutheran Church - ECPv6.15.20//NONSGML v1.0//EN
CALSCALE:GREGORIAN
METHOD:PUBLISH
X-WR-CALNAME:Christ The King Lutheran Church
X-ORIGINAL-URL:https://ctkrva.org
X-WR-CALDESC:Events for Christ The King Lutheran Church
REFRESH-INTERVAL;VALUE=DURATION:PT1H
X-Robots-Tag:noindex
X-PUBLISHED-TTL:PT1H
BEGIN:VTIMEZONE
TZID:America/New_York
BEGIN:DAYLIGHT
TZOFFSETFROM:-0500
TZOFFSETTO:-0400
TZNAME:EDT
DTSTART:20230312T070000
END:DAYLIGHT
BEGIN:STANDARD
TZOFFSETFROM:-0400
TZOFFSETTO:-0500
TZNAME:EST
DTSTART:20231105T060000
END:STANDARD
BEGIN:DAYLIGHT
TZOFFSETFROM:-0500
TZOFFSETTO:-0400
TZNAME:EDT
DTSTART:20240310T070000
END:DAYLIGHT
BEGIN:STANDARD
TZOFFSETFROM:-0400
TZOFFSETTO:-0500
TZNAME:EST
DTSTART:20241103T060000
END:STANDARD
BEGIN:DAYLIGHT
TZOFFSETFROM:-0500
TZOFFSETTO:-0400
TZNAME:EDT
DTSTART:20250309T070000
END:DAYLIGHT
BEGIN:STANDARD
TZOFFSETFROM:-0400
TZOFFSETTO:-0500
TZNAME:EST
DTSTART:20251102T060000
END:STANDARD
END:VTIMEZONE
BEGIN:VEVENT
DTSTART;VALUE=DATE:20241227
DTEND;VALUE=DATE:20241228
DTSTAMP:20260425T223058
CREATED:20241127T212146Z
LAST-MODIFIED:20241227T232136Z
UID:20806-1735257600-1735343999@ctkrva.org
SUMMARY:Office Closed - Vacation Day
DESCRIPTION:
URL:https://ctkrva.org/event/office-closed-vacation-day/
END:VEVENT
BEGIN:VEVENT
DTSTART;TZID=America/New_York:20241226T183000
DTEND;TZID=America/New_York:20241226T203000
DTSTAMP:20260425T223058
CREATED:20241127T212146Z
LAST-MODIFIED:20241227T005035Z
UID:20805-1735237800-1735245000@ctkrva.org
SUMMARY:Tai Chi - John Crouse
DESCRIPTION:
URL:https://ctkrva.org/event/tai-chi-john-crouse-171/
LOCATION:Fellowship Hall
END:VEVENT
BEGIN:VEVENT
DTSTART;VALUE=DATE:20241226
DTEND;VALUE=DATE:20241227
DTSTAMP:20260425T223058
CREATED:20241127T212143Z
LAST-MODIFIED:20241226T233543Z
UID:20801-1735171200-1735257599@ctkrva.org
SUMMARY:Office Closed for Holiday
DESCRIPTION:
URL:https://ctkrva.org/event/office-closed-for-holiday-10/
END:VEVENT
BEGIN:VEVENT
DTSTART;VALUE=DATE:20241225
DTEND;VALUE=DATE:20241226
DTSTAMP:20260425T223058
CREATED:20241127T212144Z
LAST-MODIFIED:20241225T235138Z
UID:20802-1735084800-1735171199@ctkrva.org
SUMMARY:Office Closed for Holiday
DESCRIPTION:
URL:https://ctkrva.org/event/office-closed-for-holiday-11/
END:VEVENT
BEGIN:VEVENT
DTSTART;VALUE=DATE:20241225
DTEND;VALUE=DATE:20241226
DTSTAMP:20260425T223058
CREATED:20241127T212144Z
LAST-MODIFIED:20241225T235137Z
UID:20803-1735084800-1735171199@ctkrva.org
SUMMARY:Christmas Day
DESCRIPTION:
URL:https://ctkrva.org/event/christmas-day-2/
END:VEVENT
BEGIN:VEVENT
DTSTART;TZID=America/New_York:20241224T200000
DTEND;TZID=America/New_York:20241224T210000
DTSTAMP:20260425T223058
CREATED:20241127T212129Z
LAST-MODIFIED:20241225T014010Z
UID:20800-1735070400-1735074000@ctkrva.org
SUMMARY:Christmas Eve Service
DESCRIPTION:
URL:https://ctkrva.org/event/christmas-eve-service-2/
END:VEVENT
BEGIN:VEVENT
DTSTART;TZID=America/New_York:20241224T150000
DTEND;TZID=America/New_York:20241224T160000
DTSTAMP:20260425T223058
CREATED:20241127T212128Z
LAST-MODIFIED:20241224T205018Z
UID:20799-1735052400-1735056000@ctkrva.org
SUMMARY:Christmas Eve Service
DESCRIPTION:
URL:https://ctkrva.org/event/christmas-eve-service/
END:VEVENT
BEGIN:VEVENT
DTSTART;VALUE=DATE:20241224
DTEND;VALUE=DATE:20241225
DTSTAMP:20260425T223058
CREATED:20241127T212128Z
LAST-MODIFIED:20241224T232016Z
UID:20798-1734998400-1735084799@ctkrva.org
SUMMARY:Office Closed for Holiday
DESCRIPTION:
URL:https://ctkrva.org/event/office-closed-for-holiday-9/
END:VEVENT
BEGIN:VEVENT
DTSTART;VALUE=DATE:20241224
DTEND;VALUE=DATE:20241225
DTSTAMP:20260425T223058
CREATED:20241127T212127Z
LAST-MODIFIED:20241224T232016Z
UID:20797-1734998400-1735084799@ctkrva.org
SUMMARY:Christmas Eve
DESCRIPTION:
URL:https://ctkrva.org/event/christmas-eve-2/
END:VEVENT
BEGIN:VEVENT
DTSTART;TZID=America/New_York:20241223T130000
DTEND;TZID=America/New_York:20241223T140000
DTSTAMP:20260425T223058
CREATED:20241127T212126Z
LAST-MODIFIED:20241223T183841Z
UID:20795-1734958800-1734962400@ctkrva.org
SUMMARY:AA
DESCRIPTION:
URL:https://ctkrva.org/event/aa-170/
LOCATION:Fellowship Hall
END:VEVENT
BEGIN:VEVENT
DTSTART;TZID=America/New_York:20241223T120000
DTEND;TZID=America/New_York:20241223T130000
DTSTAMP:20260425T223058
CREATED:20241127T212126Z
LAST-MODIFIED:20241223T172221Z
UID:20796-1734955200-1734958800@ctkrva.org
SUMMARY:Executive Team
DESCRIPTION:
URL:https://ctkrva.org/event/executive-team-41/
END:VEVENT
BEGIN:VEVENT
DTSTART;TZID=America/New_York:20241222T100000
DTEND;TZID=America/New_York:20241222T110000
DTSTAMP:20260425T223058
CREATED:20241127T212125Z
LAST-MODIFIED:20241222T153607Z
UID:20794-1734861600-1734865200@ctkrva.org
SUMMARY:Worship
DESCRIPTION:
URL:https://ctkrva.org/event/worship-100/
END:VEVENT
BEGIN:VEVENT
DTSTART;VALUE=DATE:20241222
DTEND;VALUE=DATE:20241223
DTSTAMP:20260425T223058
CREATED:20241127T212124Z
LAST-MODIFIED:20241222T230517Z
UID:20793-1734825600-1734911999@ctkrva.org
SUMMARY:Choir Christmas Cantata
DESCRIPTION:
URL:https://ctkrva.org/event/choir-christmas-cantata/
LOCATION:during worship
END:VEVENT
BEGIN:VEVENT
DTSTART;TZID=America/New_York:20241221T110000
DTEND;TZID=America/New_York:20241221T120000
DTSTAMP:20260425T223058
CREATED:20241127T145255Z
LAST-MODIFIED:20241221T155440Z
UID:20713-1734778800-1734782400@ctkrva.org
SUMMARY:Choir Rehearsal - Women
DESCRIPTION:
URL:https://ctkrva.org/event/choir-rehearsal-women-2/
END:VEVENT
BEGIN:VEVENT
DTSTART;TZID=America/New_York:20241221T090000
DTEND;TZID=America/New_York:20241221T100000
DTSTAMP:20260425T223058
CREATED:20241127T145254Z
LAST-MODIFIED:20241221T143949Z
UID:20712-1734771600-1734775200@ctkrva.org
SUMMARY:Choir Rehearsal - Men
DESCRIPTION:
URL:https://ctkrva.org/event/choir-rehearsal-men-2/
END:VEVENT
BEGIN:VEVENT
DTSTART;TZID=America/New_York:20241220T190000
DTEND;TZID=America/New_York:20241220T200000
DTSTAMP:20260425T223058
CREATED:20241127T212111Z
LAST-MODIFIED:20241221T005040Z
UID:20792-1734721200-1734724800@ctkrva.org
SUMMARY:NA
DESCRIPTION:
URL:https://ctkrva.org/event/na-44/
LOCATION:Fellowship Hall
END:VEVENT
BEGIN:VEVENT
DTSTART;TZID=America/New_York:20241220T190000
DTEND;TZID=America/New_York:20241220T200000
DTSTAMP:20260425T223058
CREATED:20241127T212111Z
LAST-MODIFIED:20241221T005040Z
UID:20791-1734721200-1734724800@ctkrva.org
SUMMARY:NarAnon
DESCRIPTION:
URL:https://ctkrva.org/event/naranon-46/
LOCATION:Gathering Space
END:VEVENT
BEGIN:VEVENT
DTSTART;TZID=America/New_York:20241220T130000
DTEND;TZID=America/New_York:20241220T140000
DTSTAMP:20260425T223058
CREATED:20241127T212110Z
LAST-MODIFIED:20241220T183536Z
UID:20790-1734699600-1734703200@ctkrva.org
SUMMARY:AA
DESCRIPTION:
URL:https://ctkrva.org/event/aa-169/
LOCATION:Fellowship Hall
END:VEVENT
BEGIN:VEVENT
DTSTART;TZID=America/New_York:20241219T190000
DTEND;TZID=America/New_York:20241219T200000
DTSTAMP:20260425T223058
CREATED:20241127T212109Z
LAST-MODIFIED:20241219T235425Z
UID:20788-1734634800-1734638400@ctkrva.org
SUMMARY:Choir
DESCRIPTION:
URL:https://ctkrva.org/event/choir-85/
END:VEVENT
BEGIN:VEVENT
DTSTART;TZID=America/New_York:20241219T190000
DTEND;TZID=America/New_York:20241219T200000
DTSTAMP:20260425T223058
CREATED:20241127T212108Z
LAST-MODIFIED:20241219T235425Z
UID:20787-1734634800-1734638400@ctkrva.org
SUMMARY:Blue Christmas Service
DESCRIPTION:
URL:https://ctkrva.org/event/blue-sunday-service/
LOCATION:Bon Air Presbyterian
END:VEVENT
BEGIN:VEVENT
DTSTART;TZID=America/New_York:20241219T183000
DTEND;TZID=America/New_York:20241219T203000
DTSTAMP:20260425T223058
CREATED:20241127T212109Z
LAST-MODIFIED:20241220T010743Z
UID:20789-1734633000-1734640200@ctkrva.org
SUMMARY:Tai Chi - John Crouse
DESCRIPTION:
URL:https://ctkrva.org/event/tai-chi-john-crouse-170/
LOCATION:Fellowship Hall
END:VEVENT
BEGIN:VEVENT
DTSTART;TZID=America/New_York:20241219T120000
DTEND;TZID=America/New_York:20241219T130000
DTSTAMP:20260425T223058
CREATED:20241127T212107Z
LAST-MODIFIED:20241219T173523Z
UID:20786-1734609600-1734613200@ctkrva.org
SUMMARY:ALANON (12&12)
DESCRIPTION:
URL:https://ctkrva.org/event/alanon-1212-86/
LOCATION:Fellowship Hall
END:VEVENT
BEGIN:VEVENT
DTSTART;TZID=America/New_York:20241218T190000
DTEND;TZID=America/New_York:20241218T193000
DTSTAMP:20260425T223058
CREATED:20241125T213839Z
LAST-MODIFIED:20241219T000522Z
UID:20671-1734548400-1734550200@ctkrva.org
SUMMARY:Midweek Advent Service
DESCRIPTION:
URL:https://ctkrva.org/event/midweek-advent-service-6/
END:VEVENT
BEGIN:VEVENT
DTSTART;TZID=America/New_York:20241218T133000
DTEND;TZID=America/New_York:20241218T143000
DTSTAMP:20260425T223058
CREATED:20241127T212106Z
LAST-MODIFIED:20241218T190517Z
UID:20784-1734528600-1734532200@ctkrva.org
SUMMARY:Intercessory Prayer Service
DESCRIPTION:
URL:https://ctkrva.org/event/intercessory-prayer-service-18/
END:VEVENT
BEGIN:VEVENT
DTSTART;TZID=America/New_York:20241218T100000
DTEND;TZID=America/New_York:20241218T160000
DTSTAMP:20260425T223058
CREATED:20241127T212107Z
LAST-MODIFIED:20241218T202020Z
UID:20785-1734516000-1734537600@ctkrva.org
SUMMARY:CTK Quilters
DESCRIPTION:
URL:https://ctkrva.org/event/ctk-quilters-4/
END:VEVENT
BEGIN:VEVENT
DTSTART;TZID=America/New_York:20241218T093000
DTEND;TZID=America/New_York:20241218T103000
DTSTAMP:20260425T223058
CREATED:20241127T212052Z
LAST-MODIFIED:20241218T152145Z
UID:20782-1734514200-1734517800@ctkrva.org
SUMMARY:Staff Meeting
DESCRIPTION:
URL:https://ctkrva.org/event/staff-meeting-84/
END:VEVENT
BEGIN:VEVENT
DTSTART;TZID=America/New_York:20241217T183000
DTEND;TZID=America/New_York:20241217T203000
DTSTAMP:20260425T223058
CREATED:20241127T212052Z
LAST-MODIFIED:20241218T002435Z
UID:20781-1734460200-1734467400@ctkrva.org
SUMMARY:Tai Chi - John Crouse
DESCRIPTION:
URL:https://ctkrva.org/event/tai-chi-john-crouse-169/
LOCATION:Fellowship Hall
END:VEVENT
BEGIN:VEVENT
DTSTART;TZID=America/New_York:20241216T110000
DTEND;TZID=America/New_York:20241216T120000
DTSTAMP:20260425T223058
CREATED:20241127T212051Z
LAST-MODIFIED:20241216T155023Z
UID:20780-1734346800-1734350400@ctkrva.org
SUMMARY:AA ( with Christmas Party)
DESCRIPTION:
URL:https://ctkrva.org/event/aa-with-christmas-party/
LOCATION:Fellowship Hall
END:VEVENT
BEGIN:VEVENT
DTSTART;TZID=America/New_York:20241215T180000
DTEND;TZID=America/New_York:20241215T200000
DTSTAMP:20260425T223058
CREATED:20241127T212050Z
LAST-MODIFIED:20241216T005013Z
UID:20779-1734285600-1734292800@ctkrva.org
SUMMARY:Youth Group Christmas Party
DESCRIPTION:
URL:https://ctkrva.org/event/youth-group-christmas-party/
LOCATION:CTK
END:VEVENT
BEGIN:VEVENT
DTSTART;TZID=America/New_York:20241215T160000
DTEND;TZID=America/New_York:20241215T183000
DTSTAMP:20260425T223058
CREATED:20241127T212049Z
LAST-MODIFIED:20241215T222037Z
UID:20777-1734278400-1734287400@ctkrva.org
SUMMARY:Confirmation Class (CTK)
DESCRIPTION:
URL:https://ctkrva.org/event/confirmation-class-ctk-2/
END:VEVENT
END:VCALENDAR