BEGIN:VCALENDAR
VERSION:2.0
PRODID:-//Christ The King Lutheran Church - ECPv6.15.20//NONSGML v1.0//EN
CALSCALE:GREGORIAN
METHOD:PUBLISH
X-WR-CALNAME:Christ The King Lutheran Church
X-ORIGINAL-URL:https://ctkrva.org
X-WR-CALDESC:Events for Christ The King Lutheran Church
REFRESH-INTERVAL;VALUE=DURATION:PT1H
X-Robots-Tag:noindex
X-PUBLISHED-TTL:PT1H
BEGIN:VTIMEZONE
TZID:America/New_York
BEGIN:DAYLIGHT
TZOFFSETFROM:-0500
TZOFFSETTO:-0400
TZNAME:EDT
DTSTART:20240310T070000
END:DAYLIGHT
BEGIN:STANDARD
TZOFFSETFROM:-0400
TZOFFSETTO:-0500
TZNAME:EST
DTSTART:20241103T060000
END:STANDARD
BEGIN:DAYLIGHT
TZOFFSETFROM:-0500
TZOFFSETTO:-0400
TZNAME:EDT
DTSTART:20250309T070000
END:DAYLIGHT
BEGIN:STANDARD
TZOFFSETFROM:-0400
TZOFFSETTO:-0500
TZNAME:EST
DTSTART:20251102T060000
END:STANDARD
BEGIN:DAYLIGHT
TZOFFSETFROM:-0500
TZOFFSETTO:-0400
TZNAME:EDT
DTSTART:20260308T070000
END:DAYLIGHT
BEGIN:STANDARD
TZOFFSETFROM:-0400
TZOFFSETTO:-0500
TZNAME:EST
DTSTART:20261101T060000
END:STANDARD
END:VTIMEZONE
BEGIN:VEVENT
DTSTART;TZID=America/New_York:20250902T183000
DTEND;TZID=America/New_York:20250902T203000
DTSTAMP:20260424T042227
CREATED:20250818T202448Z
LAST-MODIFIED:20250902T222026Z
UID:36391-1756837800-1756845000@ctkrva.org
SUMMARY:Tai Chi - John Crouse
DESCRIPTION:
URL:https://ctkrva.org/event/tai-chi-john-crouse-213/
LOCATION:Fellowship Hall
END:VEVENT
BEGIN:VEVENT
DTSTART;TZID=America/New_York:20250901T130000
DTEND;TZID=America/New_York:20250901T140000
DTSTAMP:20260424T042227
CREATED:20250818T202446Z
LAST-MODIFIED:20250902T154808Z
UID:36389-1756731600-1756735200@ctkrva.org
SUMMARY:AA
DESCRIPTION:
URL:https://ctkrva.org/event/aa-211/
LOCATION:Fellowship Hall
END:VEVENT
BEGIN:VEVENT
DTSTART;VALUE=DATE:20250901
DTEND;VALUE=DATE:20250902
DTSTAMP:20260424T042227
CREATED:20250818T202447Z
LAST-MODIFIED:20250902T154806Z
UID:36390-1756684800-1756771199@ctkrva.org
SUMMARY:Labor Day - Office Closed
DESCRIPTION:
URL:https://ctkrva.org/event/labor-day-office-closed/
END:VEVENT
BEGIN:VEVENT
DTSTART;TZID=America/New_York:20250831T131500
DTEND;TZID=America/New_York:20250831T151500
DTSTAMP:20260424T042227
CREATED:20250818T202446Z
LAST-MODIFIED:20250902T154804Z
UID:36388-1756646100-1756653300@ctkrva.org
SUMMARY:Audition for CTK Organist/Choir Director
DESCRIPTION:This is not a Teams Meeting.\nThis is an in-person audition with our Organist/Choir Director candidate\, Gabrielle Maes.\nWe have 2 altos\, 4 sopranos\, a bass and a tenor who responded that they can come.\nGabrielle will be coming from services at Huguenot Baptist Church where she is currently the interim Music Director.\nRuth got all the music in place before she went on her trip\, and Gabrielle has picked it up and is getting prepared. The audition will be in two parts\, a choir rehearsal and a demonstration of organ skills. Timing will go as follows:\n1:15-1:30 PM: Gather back in the choir room after having eaten lunch. Gabrielle will teach us one piece of music from our library that we have never sung before.  We will also leave time for Gabrielle to answer job related questions from the choir.\n2:15 PM: Break.  (Any of our choir members who cannot stay may leave at this point.)\n2:30 PM: Gabrielle will play typical Lutheran hymns we have selected on the organ\, and also one piece of her own choosing.\nWe are scheduling two hours for the audition\, so you can expect to be free about 3:15 PM.\nBy way of background\, Gabrielle has over 30 yers of experience as a musician specializing in vocal performance.  She has taught\, directed\, and performed in various capacities. She has worked in churches worldwide\, adapting to diverse situations.\nThank you for your participation in our selection process for this important position.
URL:https://ctkrva.org/event/audition-for-ctk-organist-choir-director/
END:VEVENT
BEGIN:VEVENT
DTSTART;TZID=America/New_York:20250831T111500
DTEND;TZID=America/New_York:20250831T114500
DTSTAMP:20260424T042227
CREATED:20250818T202445Z
LAST-MODIFIED:20250902T154803Z
UID:36387-1756638900-1756640700@ctkrva.org
SUMMARY:CTK Cafe
DESCRIPTION:
URL:https://ctkrva.org/event/ctk-cafe-31/
LOCATION:After Worship
END:VEVENT
BEGIN:VEVENT
DTSTART;TZID=America/New_York:20250831T100000
DTEND;TZID=America/New_York:20250831T110000
DTSTAMP:20260424T042227
CREATED:20250818T202444Z
LAST-MODIFIED:20250902T154802Z
UID:36386-1756634400-1756638000@ctkrva.org
SUMMARY:Worship
DESCRIPTION:
URL:https://ctkrva.org/event/worship-42/
END:VEVENT
BEGIN:VEVENT
DTSTART;TZID=America/New_York:20250829T190000
DTEND;TZID=America/New_York:20250829T200000
DTSTAMP:20260424T042227
CREATED:20250818T202443Z
LAST-MODIFIED:20250902T154801Z
UID:36385-1756494000-1756497600@ctkrva.org
SUMMARY:NarAnon
DESCRIPTION:
URL:https://ctkrva.org/event/naranon-66/
LOCATION:Gathering Space
END:VEVENT
BEGIN:VEVENT
DTSTART;TZID=America/New_York:20250829T130000
DTEND;TZID=America/New_York:20250829T140000
DTSTAMP:20260424T042227
CREATED:20250818T202442Z
LAST-MODIFIED:20250902T154800Z
UID:36384-1756472400-1756476000@ctkrva.org
SUMMARY:AA
DESCRIPTION:
URL:https://ctkrva.org/event/aa-210/
LOCATION:Fellowship Hall
END:VEVENT
BEGIN:VEVENT
DTSTART;TZID=America/New_York:20250828T183000
DTEND;TZID=America/New_York:20250828T203000
DTSTAMP:20260424T042227
CREATED:20250818T202427Z
LAST-MODIFIED:20250902T154759Z
UID:36383-1756405800-1756413000@ctkrva.org
SUMMARY:Tai Chi - John Crouse
DESCRIPTION:
URL:https://ctkrva.org/event/tai-chi-john-crouse-212/
LOCATION:Fellowship Hall
END:VEVENT
BEGIN:VEVENT
DTSTART;TZID=America/New_York:20250828T120000
DTEND;TZID=America/New_York:20250828T130000
DTSTAMP:20260424T042227
CREATED:20250818T202426Z
LAST-MODIFIED:20250902T154758Z
UID:36382-1756382400-1756386000@ctkrva.org
SUMMARY:ALANON (12&12)
DESCRIPTION:
URL:https://ctkrva.org/event/alanon-1212-102/
LOCATION:Fellowship Hall
END:VEVENT
BEGIN:VEVENT
DTSTART;TZID=America/New_York:20250827T173000
DTEND;TZID=America/New_York:20250827T200000
DTSTAMP:20260424T042227
CREATED:20250818T202425Z
LAST-MODIFIED:20250902T154756Z
UID:36381-1756315800-1756324800@ctkrva.org
SUMMARY:Community Event at CTK: Bring Your Own Picnic
DESCRIPTION:
URL:https://ctkrva.org/event/community-event-at-ctk-bring-your-own-picnic/
LOCATION:Picnic Pavilion
END:VEVENT
BEGIN:VEVENT
DTSTART;TZID=America/New_York:20250827T133000
DTEND;TZID=America/New_York:20250827T143000
DTSTAMP:20260424T042227
CREATED:20250818T202424Z
LAST-MODIFIED:20250902T154754Z
UID:36380-1756301400-1756305000@ctkrva.org
SUMMARY:Intercessory Prayer Service
DESCRIPTION:
URL:https://ctkrva.org/event/intercessory-prayer-service-23/
END:VEVENT
BEGIN:VEVENT
DTSTART;TZID=America/New_York:20250827T100000
DTEND;TZID=America/New_York:20250827T160000
DTSTAMP:20260424T042227
CREATED:20250818T202424Z
LAST-MODIFIED:20250902T154752Z
UID:36379-1756288800-1756310400@ctkrva.org
SUMMARY:CTK Quilters
DESCRIPTION:
URL:https://ctkrva.org/event/ctk-quilters-23/
END:VEVENT
BEGIN:VEVENT
DTSTART;TZID=America/New_York:20250827T093000
DTEND;TZID=America/New_York:20250827T103000
DTSTAMP:20260424T042227
CREATED:20250818T202423Z
LAST-MODIFIED:20250902T154751Z
UID:36378-1756287000-1756290600@ctkrva.org
SUMMARY:Staff Meeting
DESCRIPTION:
URL:https://ctkrva.org/event/staff-meeting-103/
END:VEVENT
BEGIN:VEVENT
DTSTART;TZID=America/New_York:20250826T183000
DTEND;TZID=America/New_York:20250826T203000
DTSTAMP:20260424T042227
CREATED:20250818T202422Z
LAST-MODIFIED:20250902T154750Z
UID:36377-1756233000-1756240200@ctkrva.org
SUMMARY:Tai Chi - John Crouse
DESCRIPTION:
URL:https://ctkrva.org/event/tai-chi-john-crouse-209/
LOCATION:Fellowship Hall
END:VEVENT
BEGIN:VEVENT
DTSTART;TZID=America/New_York:20250825T130000
DTEND;TZID=America/New_York:20250825T140000
DTSTAMP:20260424T042227
CREATED:20250818T202420Z
LAST-MODIFIED:20250825T175022Z
UID:36375-1756126800-1756130400@ctkrva.org
SUMMARY:AA
DESCRIPTION:
URL:https://ctkrva.org/event/aa-209/
LOCATION:Fellowship Hall
END:VEVENT
BEGIN:VEVENT
DTSTART;TZID=America/New_York:20250825T120000
DTEND;TZID=America/New_York:20250825T130000
DTSTAMP:20260424T042227
CREATED:20250818T202421Z
LAST-MODIFIED:20250825T162216Z
UID:36376-1756123200-1756126800@ctkrva.org
SUMMARY:Executive Team
DESCRIPTION:
URL:https://ctkrva.org/event/executive-team-50/
END:VEVENT
BEGIN:VEVENT
DTSTART;TZID=America/New_York:20250824T111500
DTEND;TZID=America/New_York:20250824T114500
DTSTAMP:20260424T042227
CREATED:20250818T202419Z
LAST-MODIFIED:20250825T162215Z
UID:36374-1756034100-1756035900@ctkrva.org
SUMMARY:CTK Cafe
DESCRIPTION:
URL:https://ctkrva.org/event/ctk-cafe-30/
LOCATION:After Worship
END:VEVENT
BEGIN:VEVENT
DTSTART;TZID=America/New_York:20250824T100000
DTEND;TZID=America/New_York:20250824T110000
DTSTAMP:20260424T042227
CREATED:20250818T202404Z
LAST-MODIFIED:20250825T162214Z
UID:36372-1756029600-1756033200@ctkrva.org
SUMMARY:Worship
DESCRIPTION:
URL:https://ctkrva.org/event/worship-40/
END:VEVENT
BEGIN:VEVENT
DTSTART;VALUE=DATE:20250824
DTEND;VALUE=DATE:20250825
DTSTAMP:20260424T042227
CREATED:20250818T192055Z
LAST-MODIFIED:20250825T162213Z
UID:36361-1755993600-1756079999@ctkrva.org
SUMMARY:Blessing of Backpacks
DESCRIPTION:
URL:https://ctkrva.org/event/blessing-of-backpacks-2/
END:VEVENT
BEGIN:VEVENT
DTSTART;TZID=America/New_York:20250822T190000
DTEND;TZID=America/New_York:20250822T200000
DTSTAMP:20260424T042227
CREATED:20250818T202403Z
LAST-MODIFIED:20250822T233519Z
UID:36371-1755889200-1755892800@ctkrva.org
SUMMARY:NarAnon
DESCRIPTION:
URL:https://ctkrva.org/event/naranon-65/
LOCATION:Gathering Space
END:VEVENT
BEGIN:VEVENT
DTSTART;TZID=America/New_York:20250822T130000
DTEND;TZID=America/New_York:20250822T140000
DTSTAMP:20260424T042227
CREATED:20250818T202402Z
LAST-MODIFIED:20250822T184645Z
UID:36370-1755867600-1755871200@ctkrva.org
SUMMARY:AA
DESCRIPTION:
URL:https://ctkrva.org/event/aa-206/
LOCATION:Fellowship Hall
END:VEVENT
BEGIN:VEVENT
DTSTART;TZID=America/New_York:20250821T183000
DTEND;TZID=America/New_York:20250821T203000
DTSTAMP:20260424T042227
CREATED:20250818T202401Z
LAST-MODIFIED:20250821T233549Z
UID:36369-1755801000-1755808200@ctkrva.org
SUMMARY:Tai Chi - John Crouse
DESCRIPTION:
URL:https://ctkrva.org/event/tai-chi-john-crouse-208/
LOCATION:Fellowship Hall
END:VEVENT
BEGIN:VEVENT
DTSTART;TZID=America/New_York:20250821T120000
DTEND;TZID=America/New_York:20250821T130000
DTSTAMP:20260424T042227
CREATED:20250818T202400Z
LAST-MODIFIED:20250821T162110Z
UID:36368-1755777600-1755781200@ctkrva.org
SUMMARY:ALANON (12&12)
DESCRIPTION:
URL:https://ctkrva.org/event/alanon-1212-101/
LOCATION:Fellowship Hall
END:VEVENT
BEGIN:VEVENT
DTSTART;TZID=America/New_York:20250820T100000
DTEND;TZID=America/New_York:20250820T160000
DTSTAMP:20260424T042227
CREATED:20250818T202358Z
LAST-MODIFIED:20250821T161226Z
UID:36366-1755684000-1755705600@ctkrva.org
SUMMARY:CTK Quilters
DESCRIPTION:
URL:https://ctkrva.org/event/ctk-quilters-22/
END:VEVENT
BEGIN:VEVENT
DTSTART;TZID=America/New_York:20250820T093000
DTEND;TZID=America/New_York:20250820T103000
DTSTAMP:20260424T042227
CREATED:20250818T202359Z
LAST-MODIFIED:20250821T161225Z
UID:36367-1755682200-1755685800@ctkrva.org
SUMMARY:Staff Meeting
DESCRIPTION:
URL:https://ctkrva.org/event/staff-meeting-102/
END:VEVENT
BEGIN:VEVENT
DTSTART;TZID=America/New_York:20250819T190000
DTEND;TZID=America/New_York:20250819T210000
DTSTAMP:20260424T042227
CREATED:20250818T202358Z
LAST-MODIFIED:20250821T161224Z
UID:36365-1755630000-1755637200@ctkrva.org
SUMMARY:Church Council
DESCRIPTION:
URL:https://ctkrva.org/event/church-council-25/
END:VEVENT
BEGIN:VEVENT
DTSTART;TZID=America/New_York:20250819T183000
DTEND;TZID=America/New_York:20250819T203000
DTSTAMP:20260424T042227
CREATED:20250818T202357Z
LAST-MODIFIED:20250821T161223Z
UID:36364-1755628200-1755635400@ctkrva.org
SUMMARY:Tai Chi - John Crouse
DESCRIPTION:
URL:https://ctkrva.org/event/tai-chi-john-crouse-206/
LOCATION:Fellowship Hall
END:VEVENT
BEGIN:VEVENT
DTSTART;TZID=America/New_York:20250805T183000
DTEND;TZID=America/New_York:20250805T203000
DTSTAMP:20260424T042227
CREATED:20250804T193538Z
LAST-MODIFIED:20250806T002049Z
UID:34933-1754418600-1754425800@ctkrva.org
SUMMARY:Tai Chi - John Crouse
DESCRIPTION:
URL:https://ctkrva.org/event/tai-chi-john-crouse-205/
LOCATION:Fellowship Hall
END:VEVENT
BEGIN:VEVENT
DTSTART;TZID=America/New_York:20250804T180000
DTEND;TZID=America/New_York:20250804T200000
DTSTAMP:20260424T042227
CREATED:20250804T193537Z
LAST-MODIFIED:20250804T232055Z
UID:34932-1754330400-1754337600@ctkrva.org
SUMMARY:Mutual Ministry
DESCRIPTION:
URL:https://ctkrva.org/event/mutual-ministry-4/
END:VEVENT
END:VCALENDAR