BEGIN:VCALENDAR
VERSION:2.0
PRODID:-//Christ The King Lutheran Church - ECPv6.15.20//NONSGML v1.0//EN
CALSCALE:GREGORIAN
METHOD:PUBLISH
X-WR-CALNAME:Christ The King Lutheran Church
X-ORIGINAL-URL:https://ctkrva.org
X-WR-CALDESC:Events for Christ The King Lutheran Church
REFRESH-INTERVAL;VALUE=DURATION:PT1H
X-Robots-Tag:noindex
X-PUBLISHED-TTL:PT1H
BEGIN:VTIMEZONE
TZID:America/New_York
BEGIN:DAYLIGHT
TZOFFSETFROM:-0500
TZOFFSETTO:-0400
TZNAME:EDT
DTSTART:20240310T070000
END:DAYLIGHT
BEGIN:STANDARD
TZOFFSETFROM:-0400
TZOFFSETTO:-0500
TZNAME:EST
DTSTART:20241103T060000
END:STANDARD
BEGIN:DAYLIGHT
TZOFFSETFROM:-0500
TZOFFSETTO:-0400
TZNAME:EDT
DTSTART:20250309T070000
END:DAYLIGHT
BEGIN:STANDARD
TZOFFSETFROM:-0400
TZOFFSETTO:-0500
TZNAME:EST
DTSTART:20251102T060000
END:STANDARD
BEGIN:DAYLIGHT
TZOFFSETFROM:-0500
TZOFFSETTO:-0400
TZNAME:EDT
DTSTART:20260308T070000
END:DAYLIGHT
BEGIN:STANDARD
TZOFFSETFROM:-0400
TZOFFSETTO:-0500
TZNAME:EST
DTSTART:20261101T060000
END:STANDARD
END:VTIMEZONE
BEGIN:VEVENT
DTSTART;TZID=America/New_York:20251003T140000
DTEND;TZID=America/New_York:20251003T190000
DTSTAMP:20260424T030807
CREATED:20250818T202656Z
LAST-MODIFIED:20251006T155342Z
UID:36449-1759500000-1759518000@ctkrva.org
SUMMARY:Set Up for Quilt Day
DESCRIPTION:
URL:https://ctkrva.org/event/set-up-for-quilt-day/
LOCATION:Fellowship Hall
END:VEVENT
BEGIN:VEVENT
DTSTART;TZID=America/New_York:20251003T130000
DTEND;TZID=America/New_York:20251003T140000
DTSTAMP:20260424T030807
CREATED:20250818T202657Z
LAST-MODIFIED:20251006T155341Z
UID:36450-1759496400-1759500000@ctkrva.org
SUMMARY:AA
DESCRIPTION:
URL:https://ctkrva.org/event/aa-223/
LOCATION:Fellowship Hall
END:VEVENT
BEGIN:VEVENT
DTSTART;TZID=America/New_York:20251002T183000
DTEND;TZID=America/New_York:20251002T203000
DTSTAMP:20260424T030807
CREATED:20250818T202655Z
LAST-MODIFIED:20251006T155340Z
UID:36448-1759429800-1759437000@ctkrva.org
SUMMARY:Tai Chi - John Crouse
DESCRIPTION:
URL:https://ctkrva.org/event/tai-chi-john-crouse-224/
LOCATION:Fellowship Hall
END:VEVENT
BEGIN:VEVENT
DTSTART;TZID=America/New_York:20251002T120000
DTEND;TZID=America/New_York:20251002T130000
DTSTAMP:20260424T030807
CREATED:20250818T202655Z
LAST-MODIFIED:20251006T155339Z
UID:36447-1759406400-1759410000@ctkrva.org
SUMMARY:ALANON (12&12)
DESCRIPTION:
URL:https://ctkrva.org/event/alanon-1212-109/
LOCATION:Fellowship Hall
END:VEVENT
BEGIN:VEVENT
DTSTART;TZID=America/New_York:20251001T100000
DTEND;TZID=America/New_York:20251001T160000
DTSTAMP:20260424T030807
CREATED:20250818T202652Z
LAST-MODIFIED:20251006T155337Z
UID:36444-1759312800-1759334400@ctkrva.org
SUMMARY:CTK Quilters
DESCRIPTION:
URL:https://ctkrva.org/event/ctk-quilters-30/
END:VEVENT
BEGIN:VEVENT
DTSTART;TZID=America/New_York:20251001T093000
DTEND;TZID=America/New_York:20251001T103000
DTSTAMP:20260424T030807
CREATED:20250818T202653Z
LAST-MODIFIED:20251006T155336Z
UID:36445-1759311000-1759314600@ctkrva.org
SUMMARY:Staff Meeting
DESCRIPTION:
URL:https://ctkrva.org/event/staff-meeting-110/
END:VEVENT
BEGIN:VEVENT
DTSTART;TZID=America/New_York:20250930T183000
DTEND;TZID=America/New_York:20250930T203000
DTSTAMP:20260424T030807
CREATED:20250818T202638Z
LAST-MODIFIED:20251006T155335Z
UID:36443-1759257000-1759264200@ctkrva.org
SUMMARY:Tai Chi - John Crouse
DESCRIPTION:
URL:https://ctkrva.org/event/tai-chi-john-crouse-223/
LOCATION:Fellowship Hall
END:VEVENT
BEGIN:VEVENT
DTSTART;TZID=America/New_York:20250929T130000
DTEND;TZID=America/New_York:20250929T140000
DTSTAMP:20260424T030807
CREATED:20250818T202637Z
LAST-MODIFIED:20250929T172123Z
UID:36442-1759150800-1759154400@ctkrva.org
SUMMARY:AA
DESCRIPTION:
URL:https://ctkrva.org/event/aa-222/
LOCATION:Fellowship Hall
END:VEVENT
BEGIN:VEVENT
DTSTART;TZID=America/New_York:20250929T080000
DTEND;TZID=America/New_York:20251001T120000
DTSTAMP:20260424T030807
CREATED:20250818T202654Z
LAST-MODIFIED:20251006T155334Z
UID:36446-1759132800-1759320000@ctkrva.org
SUMMARY:Ministerium
DESCRIPTION:
URL:https://ctkrva.org/event/ministerium/
END:VEVENT
BEGIN:VEVENT
DTSTART;TZID=America/New_York:20250928T111500
DTEND;TZID=America/New_York:20250928T114500
DTSTAMP:20260424T030807
CREATED:20250818T202636Z
LAST-MODIFIED:20250929T163028Z
UID:36440-1759058100-1759059900@ctkrva.org
SUMMARY:CTK Cafe
DESCRIPTION:
URL:https://ctkrva.org/event/ctk-cafe-37/
LOCATION:After Worship
END:VEVENT
BEGIN:VEVENT
DTSTART;TZID=America/New_York:20250928T100000
DTEND;TZID=America/New_York:20250928T110000
DTSTAMP:20260424T030807
CREATED:20250818T202635Z
LAST-MODIFIED:20250929T163027Z
UID:36439-1759053600-1759057200@ctkrva.org
SUMMARY:Worship
DESCRIPTION:
URL:https://ctkrva.org/event/worship-47/
END:VEVENT
BEGIN:VEVENT
DTSTART;VALUE=DATE:20250928
DTEND;VALUE=DATE:20250929
DTSTAMP:20260424T030807
CREATED:20250818T202637Z
LAST-MODIFIED:20250929T163026Z
UID:36441-1759017600-1759103999@ctkrva.org
SUMMARY:Festival Worship
DESCRIPTION:
URL:https://ctkrva.org/event/festival-worship/
END:VEVENT
BEGIN:VEVENT
DTSTART;TZID=America/New_York:20250927T170000
DTEND;TZID=America/New_York:20250927T200000
DTSTAMP:20260424T030807
CREATED:20250818T202634Z
LAST-MODIFIED:20250929T163025Z
UID:36438-1758992400-1759003200@ctkrva.org
SUMMARY:CTK Lobster Bake
DESCRIPTION:
URL:https://ctkrva.org/event/lobster-bake/
LOCATION:Time TBD
END:VEVENT
BEGIN:VEVENT
DTSTART;TZID=America/New_York:20250926T190000
DTEND;TZID=America/New_York:20250926T200000
DTSTAMP:20260424T030807
CREATED:20250818T202633Z
LAST-MODIFIED:20250929T163024Z
UID:36437-1758913200-1758916800@ctkrva.org
SUMMARY:NarAnon
DESCRIPTION:
URL:https://ctkrva.org/event/naranon-71/
LOCATION:Gathering Space
END:VEVENT
BEGIN:VEVENT
DTSTART;TZID=America/New_York:20250926T130000
DTEND;TZID=America/New_York:20250926T140000
DTSTAMP:20260424T030807
CREATED:20250818T202632Z
LAST-MODIFIED:20250929T163023Z
UID:36436-1758891600-1758895200@ctkrva.org
SUMMARY:AA
DESCRIPTION:
URL:https://ctkrva.org/event/aa-221/
LOCATION:Fellowship Hall
END:VEVENT
BEGIN:VEVENT
DTSTART;TZID=America/New_York:20250925T183000
DTEND;TZID=America/New_York:20250925T203000
DTSTAMP:20260424T030807
CREATED:20250818T202631Z
LAST-MODIFIED:20250929T163022Z
UID:36435-1758825000-1758832200@ctkrva.org
SUMMARY:Tai Chi - John Crouse
DESCRIPTION:
URL:https://ctkrva.org/event/tai-chi-john-crouse-222/
LOCATION:Fellowship Hall
END:VEVENT
BEGIN:VEVENT
DTSTART;TZID=America/New_York:20250925T120000
DTEND;TZID=America/New_York:20250925T130000
DTSTAMP:20260424T030807
CREATED:20250818T202630Z
LAST-MODIFIED:20250929T163020Z
UID:36434-1758801600-1758805200@ctkrva.org
SUMMARY:ALANON (12&12)
DESCRIPTION:
URL:https://ctkrva.org/event/alanon-1212-108/
LOCATION:Fellowship Hall
END:VEVENT
BEGIN:VEVENT
DTSTART;TZID=America/New_York:20250924T133000
DTEND;TZID=America/New_York:20250924T143000
DTSTAMP:20260424T030807
CREATED:20250818T202615Z
LAST-MODIFIED:20250929T163019Z
UID:36432-1758720600-1758724200@ctkrva.org
SUMMARY:Intercessory Prayer Service
DESCRIPTION:
URL:https://ctkrva.org/event/intercessory-prayer-service-24/
END:VEVENT
BEGIN:VEVENT
DTSTART;TZID=America/New_York:20250924T100000
DTEND;TZID=America/New_York:20250924T160000
DTSTAMP:20260424T030807
CREATED:20250818T202616Z
LAST-MODIFIED:20250929T163018Z
UID:36433-1758708000-1758729600@ctkrva.org
SUMMARY:CTK Quilters
DESCRIPTION:
URL:https://ctkrva.org/event/ctk-quilters-29/
END:VEVENT
BEGIN:VEVENT
DTSTART;TZID=America/New_York:20250924T093000
DTEND;TZID=America/New_York:20250924T103000
DTSTAMP:20260424T030807
CREATED:20250818T202614Z
LAST-MODIFIED:20250929T163017Z
UID:36431-1758706200-1758709800@ctkrva.org
SUMMARY:Staff Meeting
DESCRIPTION:
URL:https://ctkrva.org/event/staff-meeting-109/
END:VEVENT
BEGIN:VEVENT
DTSTART;TZID=America/New_York:20250923T183000
DTEND;TZID=America/New_York:20250923T203000
DTSTAMP:20260424T030807
CREATED:20250818T202613Z
LAST-MODIFIED:20250929T163016Z
UID:36430-1758652200-1758659400@ctkrva.org
SUMMARY:Tai Chi - John Crouse
DESCRIPTION:
URL:https://ctkrva.org/event/tai-chi-john-crouse-221/
LOCATION:Fellowship Hall
END:VEVENT
BEGIN:VEVENT
DTSTART;TZID=America/New_York:20250923T100000
DTEND;TZID=America/New_York:20250923T120000
DTSTAMP:20260424T030807
CREATED:20250818T202613Z
LAST-MODIFIED:20250929T163015Z
UID:36429-1758621600-1758628800@ctkrva.org
SUMMARY:Circle of Faith
DESCRIPTION:
URL:https://ctkrva.org/event/circle-of-faith-41/
END:VEVENT
BEGIN:VEVENT
DTSTART;TZID=America/New_York:20250922T130000
DTEND;TZID=America/New_York:20250922T140000
DTSTAMP:20260424T030807
CREATED:20250818T202611Z
LAST-MODIFIED:20250922T173511Z
UID:36427-1758546000-1758549600@ctkrva.org
SUMMARY:AA
DESCRIPTION:
URL:https://ctkrva.org/event/aa-220/
LOCATION:Fellowship Hall
END:VEVENT
BEGIN:VEVENT
DTSTART;TZID=America/New_York:20250922T120000
DTEND;TZID=America/New_York:20250922T130000
DTSTAMP:20260424T030807
CREATED:20250818T202612Z
LAST-MODIFIED:20250922T162845Z
UID:36428-1758542400-1758546000@ctkrva.org
SUMMARY:Executive Team
DESCRIPTION:
URL:https://ctkrva.org/event/executive-team-52/
END:VEVENT
BEGIN:VEVENT
DTSTART;TZID=America/New_York:20250921T111500
DTEND;TZID=America/New_York:20250921T114500
DTSTAMP:20260424T030807
CREATED:20250818T202610Z
LAST-MODIFIED:20250922T154653Z
UID:36426-1758453300-1758455100@ctkrva.org
SUMMARY:CTK Cafe
DESCRIPTION:
URL:https://ctkrva.org/event/ctk-cafe-36/
LOCATION:After Worship
END:VEVENT
BEGIN:VEVENT
DTSTART;TZID=America/New_York:20250921T100000
DTEND;TZID=America/New_York:20250921T110000
DTSTAMP:20260424T030807
CREATED:20250818T202609Z
LAST-MODIFIED:20250922T154652Z
UID:36425-1758448800-1758452400@ctkrva.org
SUMMARY:Worship
DESCRIPTION:
URL:https://ctkrva.org/event/worship-46/
END:VEVENT
BEGIN:VEVENT
DTSTART;TZID=America/New_York:20250919T190000
DTEND;TZID=America/New_York:20250919T200000
DTSTAMP:20260424T030807
CREATED:20250818T202608Z
LAST-MODIFIED:20250922T154651Z
UID:36424-1758308400-1758312000@ctkrva.org
SUMMARY:NarAnon
DESCRIPTION:
URL:https://ctkrva.org/event/naranon-70/
LOCATION:Gathering Space
END:VEVENT
BEGIN:VEVENT
DTSTART;TZID=America/New_York:20250919T130000
DTEND;TZID=America/New_York:20250919T140000
DTSTAMP:20260424T030807
CREATED:20250818T202554Z
LAST-MODIFIED:20250922T154650Z
UID:36423-1758286800-1758290400@ctkrva.org
SUMMARY:AA
DESCRIPTION:
URL:https://ctkrva.org/event/aa-219/
LOCATION:Fellowship Hall
END:VEVENT
BEGIN:VEVENT
DTSTART;TZID=America/New_York:20250918T183000
DTEND;TZID=America/New_York:20250918T203000
DTSTAMP:20260424T030807
CREATED:20250818T202553Z
LAST-MODIFIED:20250922T154649Z
UID:36422-1758220200-1758227400@ctkrva.org
SUMMARY:Tai Chi - John Crouse
DESCRIPTION:
URL:https://ctkrva.org/event/tai-chi-john-crouse-220/
LOCATION:Fellowship Hall
END:VEVENT
BEGIN:VEVENT
DTSTART;TZID=America/New_York:20250918T120000
DTEND;TZID=America/New_York:20250918T130000
DTSTAMP:20260424T030807
CREATED:20250818T202552Z
LAST-MODIFIED:20250922T154647Z
UID:36421-1758196800-1758200400@ctkrva.org
SUMMARY:ALANON (12&12)
DESCRIPTION:
URL:https://ctkrva.org/event/alanon-1212-107/
LOCATION:Fellowship Hall
END:VEVENT
END:VCALENDAR