BEGIN:VCALENDAR
VERSION:2.0
PRODID:-//Christ The King Lutheran Church - ECPv6.15.20//NONSGML v1.0//EN
CALSCALE:GREGORIAN
METHOD:PUBLISH
X-WR-CALNAME:Christ The King Lutheran Church
X-ORIGINAL-URL:https://ctkrva.org
X-WR-CALDESC:Events for Christ The King Lutheran Church
REFRESH-INTERVAL;VALUE=DURATION:PT1H
X-Robots-Tag:noindex
X-PUBLISHED-TTL:PT1H
BEGIN:VTIMEZONE
TZID:America/New_York
BEGIN:DAYLIGHT
TZOFFSETFROM:-0500
TZOFFSETTO:-0400
TZNAME:EDT
DTSTART:20250309T070000
END:DAYLIGHT
BEGIN:STANDARD
TZOFFSETFROM:-0400
TZOFFSETTO:-0500
TZNAME:EST
DTSTART:20251102T060000
END:STANDARD
BEGIN:DAYLIGHT
TZOFFSETFROM:-0500
TZOFFSETTO:-0400
TZNAME:EDT
DTSTART:20260308T070000
END:DAYLIGHT
BEGIN:STANDARD
TZOFFSETFROM:-0400
TZOFFSETTO:-0500
TZNAME:EST
DTSTART:20261101T060000
END:STANDARD
BEGIN:DAYLIGHT
TZOFFSETFROM:-0500
TZOFFSETTO:-0400
TZNAME:EDT
DTSTART:20270314T070000
END:DAYLIGHT
BEGIN:STANDARD
TZOFFSETFROM:-0400
TZOFFSETTO:-0500
TZNAME:EST
DTSTART:20271107T060000
END:STANDARD
END:VTIMEZONE
BEGIN:VEVENT
DTSTART;TZID=America/New_York:20260522T190000
DTEND;TZID=America/New_York:20260522T200000
DTSTAMP:20260423T171038
CREATED:20251107T191313Z
LAST-MODIFIED:20260423T210623Z
UID:38612-1779476400-1779480000@ctkrva.org
SUMMARY:NarAnon
DESCRIPTION:
URL:https://ctkrva.org/event/naranon-104/
LOCATION:Gathering Space
END:VEVENT
BEGIN:VEVENT
DTSTART;TZID=America/New_York:20260524T100000
DTEND;TZID=America/New_York:20260524T110000
DTSTAMP:20260423T171038
CREATED:20251108T012931Z
LAST-MODIFIED:20260423T210623Z
UID:38619-1779616800-1779620400@ctkrva.org
SUMMARY:Worship
DESCRIPTION:
URL:https://ctkrva.org/event/worship-157/
END:VEVENT
BEGIN:VEVENT
DTSTART;TZID=America/New_York:20260524T111500
DTEND;TZID=America/New_York:20260524T114500
DTSTAMP:20260423T171038
CREATED:20251109T171421Z
LAST-MODIFIED:20260423T210635Z
UID:38653-1779621300-1779623100@ctkrva.org
SUMMARY:CTK Cafe
DESCRIPTION:
URL:https://ctkrva.org/event/ctk-cafe-124/
LOCATION:After Worship
END:VEVENT
BEGIN:VEVENT
DTSTART;TZID=America/New_York:20260525T130000
DTEND;TZID=America/New_York:20260525T140000
DTSTAMP:20260423T171038
CREATED:20251110T053307Z
LAST-MODIFIED:20260423T210636Z
UID:38667-1779714000-1779717600@ctkrva.org
SUMMARY:AA
DESCRIPTION:
URL:https://ctkrva.org/event/aa-288/
LOCATION:Fellowship Hall
END:VEVENT
BEGIN:VEVENT
DTSTART;TZID=America/New_York:20260526T100000
DTEND;TZID=America/New_York:20260526T120000
DTSTAMP:20260423T171038
CREATED:20251111T171514Z
LAST-MODIFIED:20260423T210636Z
UID:38703-1779789600-1779796800@ctkrva.org
SUMMARY:Circle of Faith
DESCRIPTION:
URL:https://ctkrva.org/event/circle-of-faith-57/
END:VEVENT
BEGIN:VEVENT
DTSTART;TZID=America/New_York:20260526T183000
DTEND;TZID=America/New_York:20260526T203000
DTSTAMP:20260423T171038
CREATED:20251112T015929Z
LAST-MODIFIED:20260423T210636Z
UID:38712-1779820200-1779827400@ctkrva.org
SUMMARY:Tai Chi - John Crouse
DESCRIPTION:
URL:https://ctkrva.org/event/tai-chi-john-crouse-288/
LOCATION:Fellowship Hall
END:VEVENT
BEGIN:VEVENT
DTSTART;TZID=America/New_York:20260527T133000
DTEND;TZID=America/New_York:20260527T143000
DTSTAMP:20260423T171038
CREATED:20251112T211318Z
LAST-MODIFIED:20260423T210636Z
UID:38730-1779888600-1779892200@ctkrva.org
SUMMARY:Intercessory Prayer Service
DESCRIPTION:
URL:https://ctkrva.org/event/intercessory-prayer-service-32/
END:VEVENT
BEGIN:VEVENT
DTSTART;TZID=America/New_York:20260528T120000
DTEND;TZID=America/New_York:20260528T130000
DTSTAMP:20260423T171038
CREATED:20251113T185819Z
LAST-MODIFIED:20260423T210636Z
UID:38750-1779969600-1779973200@ctkrva.org
SUMMARY:ALANON (12&12)
DESCRIPTION:
URL:https://ctkrva.org/event/alanon-1212-142/
LOCATION:Fellowship Hall
END:VEVENT
BEGIN:VEVENT
DTSTART;TZID=America/New_York:20260528T183000
DTEND;TZID=America/New_York:20260528T203000
DTSTAMP:20260423T171038
CREATED:20251113T185821Z
LAST-MODIFIED:20260423T210636Z
UID:38751-1779993000-1780000200@ctkrva.org
SUMMARY:Tai Chi - John Crouse
DESCRIPTION:
URL:https://ctkrva.org/event/tai-chi-john-crouse-289/
LOCATION:Fellowship Hall
END:VEVENT
BEGIN:VEVENT
DTSTART;TZID=America/New_York:20260528T190000
DTEND;TZID=America/New_York:20260528T200000
DTSTAMP:20260423T171038
CREATED:20260219T142439Z
LAST-MODIFIED:20260423T210636Z
UID:41053-1779994800-1779998400@ctkrva.org
SUMMARY:Choir
DESCRIPTION:
URL:https://ctkrva.org/event/choir-86/
END:VEVENT
BEGIN:VEVENT
DTSTART;TZID=America/New_York:20260529T130000
DTEND;TZID=America/New_York:20260529T140000
DTSTAMP:20260423T171038
CREATED:20251113T185822Z
LAST-MODIFIED:20260423T210636Z
UID:38752-1780059600-1780063200@ctkrva.org
SUMMARY:AA
DESCRIPTION:
URL:https://ctkrva.org/event/aa-289/
LOCATION:Fellowship Hall
END:VEVENT
BEGIN:VEVENT
DTSTART;TZID=America/New_York:20260529T190000
DTEND;TZID=America/New_York:20260529T200000
DTSTAMP:20260423T171038
CREATED:20251114T195809Z
LAST-MODIFIED:20260423T210636Z
UID:38784-1780081200-1780084800@ctkrva.org
SUMMARY:NarAnon
DESCRIPTION:
URL:https://ctkrva.org/event/naranon-105/
LOCATION:Gathering Space
END:VEVENT
BEGIN:VEVENT
DTSTART;TZID=America/New_York:20260531T100000
DTEND;TZID=America/New_York:20260531T110000
DTSTAMP:20260423T171038
CREATED:20251115T021312Z
LAST-MODIFIED:20260423T210649Z
UID:38791-1780221600-1780225200@ctkrva.org
SUMMARY:Worship
DESCRIPTION:
URL:https://ctkrva.org/event/worship-158/
END:VEVENT
BEGIN:VEVENT
DTSTART;TZID=America/New_York:20260531T111500
DTEND;TZID=America/New_York:20260531T114500
DTSTAMP:20260423T171038
CREATED:20251116T165813Z
LAST-MODIFIED:20260423T210649Z
UID:38824-1780226100-1780227900@ctkrva.org
SUMMARY:CTK Cafe
DESCRIPTION:
URL:https://ctkrva.org/event/ctk-cafe-125/
LOCATION:After Worship
END:VEVENT
BEGIN:VEVENT
DTSTART;TZID=America/New_York:20260601T130000
DTEND;TZID=America/New_York:20260601T140000
DTSTAMP:20260423T171038
CREATED:20251116T165815Z
LAST-MODIFIED:20260423T210649Z
UID:38825-1780318800-1780322400@ctkrva.org
SUMMARY:AA
DESCRIPTION:
URL:https://ctkrva.org/event/aa-290/
LOCATION:Fellowship Hall
END:VEVENT
BEGIN:VEVENT
DTSTART;TZID=America/New_York:20260602T183000
DTEND;TZID=America/New_York:20260602T203000
DTSTAMP:20260423T171038
CREATED:20251117T194311Z
LAST-MODIFIED:20260423T210649Z
UID:38850-1780425000-1780432200@ctkrva.org
SUMMARY:Tai Chi - John Crouse
DESCRIPTION:
URL:https://ctkrva.org/event/tai-chi-john-crouse-290/
LOCATION:Fellowship Hall
END:VEVENT
BEGIN:VEVENT
DTSTART;TZID=America/New_York:20260604T120000
DTEND;TZID=America/New_York:20260604T130000
DTSTAMP:20260423T171038
CREATED:20251119T024314Z
LAST-MODIFIED:20260423T210649Z
UID:38883-1780574400-1780578000@ctkrva.org
SUMMARY:ALANON (12&12)
DESCRIPTION:
URL:https://ctkrva.org/event/alanon-1212-143/
LOCATION:Fellowship Hall
END:VEVENT
BEGIN:VEVENT
DTSTART;TZID=America/New_York:20260604T183000
DTEND;TZID=America/New_York:20260604T203000
DTSTAMP:20260423T171038
CREATED:20251119T024315Z
LAST-MODIFIED:20260423T210649Z
UID:38884-1780597800-1780605000@ctkrva.org
SUMMARY:Tai Chi - John Crouse
DESCRIPTION:
URL:https://ctkrva.org/event/tai-chi-john-crouse-291/
LOCATION:Fellowship Hall
END:VEVENT
BEGIN:VEVENT
DTSTART;TZID=America/New_York:20260604T190000
DTEND;TZID=America/New_York:20260604T200000
DTSTAMP:20260423T171038
CREATED:20260219T142459Z
LAST-MODIFIED:20260423T210649Z
UID:41054-1780599600-1780603200@ctkrva.org
SUMMARY:Choir
DESCRIPTION:
URL:https://ctkrva.org/event/choir-91/
END:VEVENT
BEGIN:VEVENT
DTSTART;TZID=America/New_York:20260605T130000
DTEND;TZID=America/New_York:20260605T140000
DTSTAMP:20260423T171038
CREATED:20251119T162826Z
LAST-MODIFIED:20260423T210649Z
UID:38898-1780664400-1780668000@ctkrva.org
SUMMARY:AA
DESCRIPTION:
URL:https://ctkrva.org/event/aa-291/
LOCATION:Fellowship Hall
END:VEVENT
BEGIN:VEVENT
DTSTART;TZID=America/New_York:20260605T190000
DTEND;TZID=America/New_York:20260605T200000
DTSTAMP:20260423T171038
CREATED:20251119T162827Z
LAST-MODIFIED:20260423T210649Z
UID:38899-1780686000-1780689600@ctkrva.org
SUMMARY:NarAnon
DESCRIPTION:
URL:https://ctkrva.org/event/naranon-106/
LOCATION:Gathering Space
END:VEVENT
BEGIN:VEVENT
DTSTART;VALUE=DATE:20260607
DTEND;VALUE=DATE:20260608
DTSTAMP:20260423T171038
CREATED:20251119T212813Z
LAST-MODIFIED:20260423T210703Z
UID:38909-1780790400-1780876799@ctkrva.org
SUMMARY:Food Pantry Sunday
DESCRIPTION:
URL:https://ctkrva.org/event/food-pantry-sunday-39/
END:VEVENT
BEGIN:VEVENT
DTSTART;TZID=America/New_York:20260607T100000
DTEND;TZID=America/New_York:20260607T110000
DTSTAMP:20260423T171038
CREATED:20251119T162828Z
LAST-MODIFIED:20260423T210703Z
UID:38900-1780826400-1780830000@ctkrva.org
SUMMARY:Worship
DESCRIPTION:
URL:https://ctkrva.org/event/worship-159/
END:VEVENT
BEGIN:VEVENT
DTSTART;TZID=America/New_York:20260607T111500
DTEND;TZID=America/New_York:20260607T114500
DTSTAMP:20260423T171038
CREATED:20251119T212812Z
LAST-MODIFIED:20260423T210650Z
UID:38908-1780830900-1780832700@ctkrva.org
SUMMARY:CTK Cafe
DESCRIPTION:
URL:https://ctkrva.org/event/ctk-cafe-126/
LOCATION:After Worship
END:VEVENT
BEGIN:VEVENT
DTSTART;TZID=America/New_York:20260608T120000
DTEND;TZID=America/New_York:20260608T130000
DTSTAMP:20260423T171038
CREATED:20251121T015804Z
LAST-MODIFIED:20260423T210703Z
UID:38947-1780920000-1780923600@ctkrva.org
SUMMARY:Executive Team
DESCRIPTION:
URL:https://ctkrva.org/event/executive-team-70/
END:VEVENT
BEGIN:VEVENT
DTSTART;TZID=America/New_York:20260608T130000
DTEND;TZID=America/New_York:20260608T140000
DTSTAMP:20260423T171038
CREATED:20251120T182813Z
LAST-MODIFIED:20260423T210703Z
UID:38939-1780923600-1780927200@ctkrva.org
SUMMARY:AA
DESCRIPTION:
URL:https://ctkrva.org/event/aa-292/
LOCATION:Fellowship Hall
END:VEVENT
BEGIN:VEVENT
DTSTART;TZID=America/New_York:20260609T100000
DTEND;TZID=America/New_York:20260609T120000
DTSTAMP:20260423T171038
CREATED:20251121T191313Z
LAST-MODIFIED:20260423T210703Z
UID:38963-1780999200-1781006400@ctkrva.org
SUMMARY:Richmond Conference Meeting
DESCRIPTION:
URL:https://ctkrva.org/event/richmond-conference-meeting-33/
END:VEVENT
BEGIN:VEVENT
DTSTART;TZID=America/New_York:20260609T100000
DTEND;TZID=America/New_York:20260609T120000
DTSTAMP:20260423T171038
CREATED:20251122T012810Z
LAST-MODIFIED:20260423T210703Z
UID:38970-1780999200-1781006400@ctkrva.org
SUMMARY:Circle of Faith
DESCRIPTION:
URL:https://ctkrva.org/event/circle-of-faith-58/
END:VEVENT
BEGIN:VEVENT
DTSTART;TZID=America/New_York:20260609T183000
DTEND;TZID=America/New_York:20260609T203000
DTSTAMP:20260423T171038
CREATED:20251122T162816Z
LAST-MODIFIED:20260423T210703Z
UID:38984-1781029800-1781037000@ctkrva.org
SUMMARY:Tai Chi - John Crouse
DESCRIPTION:
URL:https://ctkrva.org/event/tai-chi-john-crouse-292/
LOCATION:Fellowship Hall
END:VEVENT
BEGIN:VEVENT
DTSTART;TZID=America/New_York:20260611T120000
DTEND;TZID=America/New_York:20260611T130000
DTSTAMP:20260423T171038
CREATED:20251123T171309Z
LAST-MODIFIED:20260423T210703Z
UID:39006-1781179200-1781182800@ctkrva.org
SUMMARY:ALANON (12&12)
DESCRIPTION:
URL:https://ctkrva.org/event/alanon-1212-144/
LOCATION:Fellowship Hall
END:VEVENT
END:VCALENDAR