BEGIN:VCALENDAR
VERSION:2.0
PRODID:-//Christ The King Lutheran Church - ECPv6.15.20//NONSGML v1.0//EN
CALSCALE:GREGORIAN
METHOD:PUBLISH
X-ORIGINAL-URL:https://ctkrva.org
X-WR-CALDESC:Events for Christ The King Lutheran Church
REFRESH-INTERVAL;VALUE=DURATION:PT1H
X-Robots-Tag:noindex
X-PUBLISHED-TTL:PT1H
BEGIN:VTIMEZONE
TZID:America/New_York
BEGIN:DAYLIGHT
TZOFFSETFROM:-0500
TZOFFSETTO:-0400
TZNAME:EDT
DTSTART:20250309T070000
END:DAYLIGHT
BEGIN:STANDARD
TZOFFSETFROM:-0400
TZOFFSETTO:-0500
TZNAME:EST
DTSTART:20251102T060000
END:STANDARD
BEGIN:DAYLIGHT
TZOFFSETFROM:-0500
TZOFFSETTO:-0400
TZNAME:EDT
DTSTART:20260308T070000
END:DAYLIGHT
BEGIN:STANDARD
TZOFFSETFROM:-0400
TZOFFSETTO:-0500
TZNAME:EST
DTSTART:20261101T060000
END:STANDARD
BEGIN:DAYLIGHT
TZOFFSETFROM:-0500
TZOFFSETTO:-0400
TZNAME:EDT
DTSTART:20270314T070000
END:DAYLIGHT
BEGIN:STANDARD
TZOFFSETFROM:-0400
TZOFFSETTO:-0500
TZNAME:EST
DTSTART:20271107T060000
END:STANDARD
END:VTIMEZONE
BEGIN:VEVENT
DTSTART;TZID=America/New_York:20260326T120000
DTEND;TZID=America/New_York:20260326T130000
DTSTAMP:20260423T195456
CREATED:20250924T202851Z
LAST-MODIFIED:20260326T153643Z
UID:37451-1774526400-1774530000@ctkrva.org
SUMMARY:ALANON (12&12)
DESCRIPTION:
URL:https://ctkrva.org/event/alanon-1212-133/
LOCATION:Fellowship Hall
END:VEVENT
BEGIN:VEVENT
DTSTART;TZID=America/New_York:20260326T183000
DTEND;TZID=America/New_York:20260326T203000
DTSTAMP:20260423T195456
CREATED:20250925T173107Z
LAST-MODIFIED:20260327T000615Z
UID:37470-1774549800-1774557000@ctkrva.org
SUMMARY:Tai Chi - John Crouse
DESCRIPTION:
URL:https://ctkrva.org/event/tai-chi-john-crouse-271/
LOCATION:Fellowship Hall
END:VEVENT
BEGIN:VEVENT
DTSTART;TZID=America/New_York:20260326T190000
DTEND;TZID=America/New_York:20260326T200000
DTSTAMP:20260423T195456
CREATED:20260219T142149Z
LAST-MODIFIED:20260326T225053Z
UID:41044-1774551600-1774555200@ctkrva.org
SUMMARY:Choir
DESCRIPTION:
URL:https://ctkrva.org/event/choir-27/
END:VEVENT
BEGIN:VEVENT
DTSTART;TZID=America/New_York:20260327T130000
DTEND;TZID=America/New_York:20260327T140000
DTSTAMP:20260423T195456
CREATED:20250926T005818Z
LAST-MODIFIED:20260327T172553Z
UID:37479-1774616400-1774620000@ctkrva.org
SUMMARY:AA
DESCRIPTION:
URL:https://ctkrva.org/event/aa-271/
LOCATION:Fellowship Hall
END:VEVENT
BEGIN:VEVENT
DTSTART;TZID=America/New_York:20260327T190000
DTEND;TZID=America/New_York:20260327T200000
DTSTAMP:20260423T195456
CREATED:20250926T184346Z
LAST-MODIFIED:20260327T232028Z
UID:37496-1774638000-1774641600@ctkrva.org
SUMMARY:NarAnon
DESCRIPTION:
URL:https://ctkrva.org/event/naranon-96/
LOCATION:Gathering Space
END:VEVENT
BEGIN:VEVENT
DTSTART;TZID=America/New_York:20260329T090000
DTEND;TZID=America/New_York:20260329T100000
DTSTAMP:20260423T195456
CREATED:20251028T051236Z
LAST-MODIFIED:20260330T151859Z
UID:38289-1774774800-1774778400@ctkrva.org
SUMMARY:Worship
DESCRIPTION:
URL:https://ctkrva.org/event/worship-147/
END:VEVENT
BEGIN:VEVENT
DTSTART;TZID=America/New_York:20260329T100000
DTEND;TZID=America/New_York:20260329T110000
DTSTAMP:20260423T195456
CREATED:20250927T005858Z
LAST-MODIFIED:20260329T135224Z
UID:37503-1774778400-1774782000@ctkrva.org
SUMMARY:Worship
DESCRIPTION:
URL:https://ctkrva.org/event/worship-119/
END:VEVENT
BEGIN:VEVENT
DTSTART;TZID=America/New_York:20260329T101500
DTEND;TZID=America/New_York:20260329T104500
DTSTAMP:20260423T195456
CREATED:20251028T051237Z
LAST-MODIFIED:20260330T151858Z
UID:38290-1774779300-1774781100@ctkrva.org
SUMMARY:CTK Cafe
DESCRIPTION:
URL:https://ctkrva.org/event/ctk-cafe-110/
LOCATION:After Worship
END:VEVENT
BEGIN:VEVENT
DTSTART;TZID=America/New_York:20260329T110000
DTEND;TZID=America/New_York:20260329T120000
DTSTAMP:20260423T195456
CREATED:20260303T050619Z
LAST-MODIFIED:20260330T151857Z
UID:41321-1774782000-1774785600@ctkrva.org
SUMMARY:Worship
DESCRIPTION:
URL:https://ctkrva.org/event/worship-177/
END:VEVENT
BEGIN:VEVENT
DTSTART;TZID=America/New_York:20260329T111500
DTEND;TZID=America/New_York:20260329T114500
DTSTAMP:20260423T195456
CREATED:20250928T021459Z
LAST-MODIFIED:20260329T150547Z
UID:37526-1774782900-1774784700@ctkrva.org
SUMMARY:CTK Cafe
DESCRIPTION:
URL:https://ctkrva.org/event/ctk-cafe-71/
LOCATION:After Worship
END:VEVENT
BEGIN:VEVENT
DTSTART;TZID=America/New_York:20260329T121500
DTEND;TZID=America/New_York:20260329T124500
DTSTAMP:20260423T195456
CREATED:20260303T050620Z
LAST-MODIFIED:20260330T151856Z
UID:41322-1774786500-1774788300@ctkrva.org
SUMMARY:CTK Cafe
DESCRIPTION:
URL:https://ctkrva.org/event/ctk-cafe-144/
LOCATION:After Worship
END:VEVENT
BEGIN:VEVENT
DTSTART;TZID=America/New_York:20260330T130000
DTEND;TZID=America/New_York:20260330T140000
DTSTAMP:20260423T195456
CREATED:20250928T163002Z
LAST-MODIFIED:20260330T175223Z
UID:37540-1774875600-1774879200@ctkrva.org
SUMMARY:AA
DESCRIPTION:
URL:https://ctkrva.org/event/aa-272/
LOCATION:Fellowship Hall
END:VEVENT
BEGIN:VEVENT
DTSTART;TZID=America/New_York:20260331T183000
DTEND;TZID=America/New_York:20260331T203000
DTSTAMP:20260423T195456
CREATED:20250928T163003Z
LAST-MODIFIED:20260401T002034Z
UID:37541-1774981800-1774989000@ctkrva.org
SUMMARY:Tai Chi - John Crouse
DESCRIPTION:
URL:https://ctkrva.org/event/tai-chi-john-crouse-272/
LOCATION:Fellowship Hall
END:VEVENT
BEGIN:VEVENT
DTSTART;TZID=America/New_York:20260402T120000
DTEND;TZID=America/New_York:20260402T130000
DTSTAMP:20260423T195456
CREATED:20250929T001400Z
LAST-MODIFIED:20260402T155126Z
UID:37550-1775131200-1775134800@ctkrva.org
SUMMARY:ALANON (12&12)
DESCRIPTION:
URL:https://ctkrva.org/event/alanon-1212-134/
LOCATION:Fellowship Hall
END:VEVENT
BEGIN:VEVENT
DTSTART;TZID=America/New_York:20260402T183000
DTEND;TZID=America/New_York:20260402T203000
DTSTAMP:20260423T195456
CREATED:20250929T184552Z
LAST-MODIFIED:20260402T232238Z
UID:37567-1775154600-1775161800@ctkrva.org
SUMMARY:Tai Chi - John Crouse
DESCRIPTION:
URL:https://ctkrva.org/event/tai-chi-john-crouse-273/
LOCATION:Fellowship Hall
END:VEVENT
BEGIN:VEVENT
DTSTART;TZID=America/New_York:20260402T190000
DTEND;TZID=America/New_York:20260402T200000
DTSTAMP:20260423T195456
CREATED:20260219T142204Z
LAST-MODIFIED:20260402T232238Z
UID:41045-1775156400-1775160000@ctkrva.org
SUMMARY:Choir
DESCRIPTION:
URL:https://ctkrva.org/event/choir-28/
END:VEVENT
BEGIN:VEVENT
DTSTART;TZID=America/New_York:20260403T130000
DTEND;TZID=America/New_York:20260403T140000
DTSTAMP:20260423T195456
CREATED:20251001T004548Z
LAST-MODIFIED:20260406T152318Z
UID:37594-1775221200-1775224800@ctkrva.org
SUMMARY:AA
DESCRIPTION:
URL:https://ctkrva.org/event/aa-273/
LOCATION:Fellowship Hall
END:VEVENT
BEGIN:VEVENT
DTSTART;TZID=America/New_York:20260403T190000
DTEND;TZID=America/New_York:20260403T200000
DTSTAMP:20260423T195456
CREATED:20251001T165839Z
LAST-MODIFIED:20260406T152317Z
UID:37609-1775242800-1775246400@ctkrva.org
SUMMARY:NarAnon
DESCRIPTION:
URL:https://ctkrva.org/event/naranon-97/
LOCATION:Gathering Space
END:VEVENT
BEGIN:VEVENT
DTSTART;VALUE=DATE:20260405
DTEND;VALUE=DATE:20260406
DTSTAMP:20260423T195456
CREATED:20251002T174552Z
LAST-MODIFIED:20260406T152316Z
UID:37634-1775347200-1775433599@ctkrva.org
SUMMARY:Food Pantry Sunday
DESCRIPTION:
URL:https://ctkrva.org/event/food-pantry-sunday-29/
END:VEVENT
BEGIN:VEVENT
DTSTART;TZID=America/New_York:20260405T000000
DTEND;TZID=America/New_York:20260406T000000
DTSTAMP:20260423T195456
CREATED:20251008T044413Z
LAST-MODIFIED:20260406T152315Z
UID:37769-1775347200-1775433600@ctkrva.org
SUMMARY:Food Pantry Sunday
DESCRIPTION:
URL:https://ctkrva.org/event/food-pantry-sunday-36/
END:VEVENT
BEGIN:VEVENT
DTSTART;TZID=America/New_York:20260405T090000
DTEND;TZID=America/New_York:20260405T100000
DTSTAMP:20260423T195456
CREATED:20251028T051256Z
LAST-MODIFIED:20260406T152314Z
UID:38291-1775379600-1775383200@ctkrva.org
SUMMARY:Worship
DESCRIPTION:
URL:https://ctkrva.org/event/worship-148/
END:VEVENT
BEGIN:VEVENT
DTSTART;TZID=America/New_York:20260405T100000
DTEND;TZID=America/New_York:20260405T110000
DTSTAMP:20260423T195456
CREATED:20251001T204401Z
LAST-MODIFIED:20260406T152313Z
UID:37614-1775383200-1775386800@ctkrva.org
SUMMARY:Worship
DESCRIPTION:
URL:https://ctkrva.org/event/worship-120/
END:VEVENT
BEGIN:VEVENT
DTSTART;TZID=America/New_York:20260405T101500
DTEND;TZID=America/New_York:20260405T104500
DTSTAMP:20260423T195456
CREATED:20251028T051257Z
LAST-MODIFIED:20260406T152312Z
UID:38292-1775384100-1775385900@ctkrva.org
SUMMARY:CTK Cafe
DESCRIPTION:
URL:https://ctkrva.org/event/ctk-cafe-114/
LOCATION:After Worship
END:VEVENT
BEGIN:VEVENT
DTSTART;TZID=America/New_York:20260405T110000
DTEND;TZID=America/New_York:20260405T120000
DTSTAMP:20260423T195456
CREATED:20260303T050634Z
LAST-MODIFIED:20260406T152312Z
UID:41323-1775386800-1775390400@ctkrva.org
SUMMARY:Worship
DESCRIPTION:
URL:https://ctkrva.org/event/worship-178/
END:VEVENT
BEGIN:VEVENT
DTSTART;TZID=America/New_York:20260405T111500
DTEND;TZID=America/New_York:20260405T114500
DTSTAMP:20260423T195456
CREATED:20251002T174551Z
LAST-MODIFIED:20260406T152311Z
UID:37633-1775387700-1775389500@ctkrva.org
SUMMARY:CTK Cafe
DESCRIPTION:
URL:https://ctkrva.org/event/ctk-cafe-72/
LOCATION:After Worship
END:VEVENT
BEGIN:VEVENT
DTSTART;TZID=America/New_York:20260405T121500
DTEND;TZID=America/New_York:20260405T124500
DTSTAMP:20260423T195456
CREATED:20260303T050636Z
LAST-MODIFIED:20260406T152310Z
UID:41324-1775391300-1775393100@ctkrva.org
SUMMARY:CTK Cafe
DESCRIPTION:
URL:https://ctkrva.org/event/ctk-cafe-145/
LOCATION:After Worship
END:VEVENT
BEGIN:VEVENT
DTSTART;TZID=America/New_York:20260406T130000
DTEND;TZID=America/New_York:20260406T140000
DTSTAMP:20260423T195456
CREATED:20251003T181456Z
LAST-MODIFIED:20260406T175109Z
UID:37657-1775480400-1775484000@ctkrva.org
SUMMARY:AA
DESCRIPTION:
URL:https://ctkrva.org/event/aa-274/
LOCATION:Fellowship Hall
END:VEVENT
BEGIN:VEVENT
DTSTART;TZID=America/New_York:20260407T183000
DTEND;TZID=America/New_York:20260407T203000
DTSTAMP:20260423T195456
CREATED:20251004T002936Z
LAST-MODIFIED:20260420T141034Z
UID:37664-1775586600-1775593800@ctkrva.org
SUMMARY:Tai Chi - John Crouse
DESCRIPTION:
URL:https://ctkrva.org/event/tai-chi-john-crouse-274/
LOCATION:Fellowship Hall
END:VEVENT
BEGIN:VEVENT
DTSTART;TZID=America/New_York:20260409T120000
DTEND;TZID=America/New_York:20260409T130000
DTSTAMP:20260423T195456
CREATED:20251004T002938Z
LAST-MODIFIED:20260420T141033Z
UID:37665-1775736000-1775739600@ctkrva.org
SUMMARY:Bon Air Ministers Lunch
DESCRIPTION:
URL:https://ctkrva.org/event/bon-air-ministers-lunch-20/
END:VEVENT
BEGIN:VEVENT
DTSTART;TZID=America/New_York:20260409T120000
DTEND;TZID=America/New_York:20260409T130000
DTSTAMP:20260423T195456
CREATED:20251004T041403Z
LAST-MODIFIED:20260420T141032Z
UID:37671-1775736000-1775739600@ctkrva.org
SUMMARY:ALANON (12&12)
DESCRIPTION:
URL:https://ctkrva.org/event/alanon-1212-135/
LOCATION:Fellowship Hall
END:VEVENT
END:VCALENDAR