BEGIN:VCALENDAR
VERSION:2.0
PRODID:-//Christ The King Lutheran Church - ECPv6.15.20//NONSGML v1.0//EN
CALSCALE:GREGORIAN
METHOD:PUBLISH
X-WR-CALNAME:Christ The King Lutheran Church
X-ORIGINAL-URL:https://ctkrva.org
X-WR-CALDESC:Events for Christ The King Lutheran Church
REFRESH-INTERVAL;VALUE=DURATION:PT1H
X-Robots-Tag:noindex
X-PUBLISHED-TTL:PT1H
BEGIN:VTIMEZONE
TZID:America/New_York
BEGIN:DAYLIGHT
TZOFFSETFROM:-0500
TZOFFSETTO:-0400
TZNAME:EDT
DTSTART:20240310T070000
END:DAYLIGHT
BEGIN:STANDARD
TZOFFSETFROM:-0400
TZOFFSETTO:-0500
TZNAME:EST
DTSTART:20241103T060000
END:STANDARD
BEGIN:DAYLIGHT
TZOFFSETFROM:-0500
TZOFFSETTO:-0400
TZNAME:EDT
DTSTART:20250309T070000
END:DAYLIGHT
BEGIN:STANDARD
TZOFFSETFROM:-0400
TZOFFSETTO:-0500
TZNAME:EST
DTSTART:20251102T060000
END:STANDARD
BEGIN:DAYLIGHT
TZOFFSETFROM:-0500
TZOFFSETTO:-0400
TZNAME:EDT
DTSTART:20260308T070000
END:DAYLIGHT
BEGIN:STANDARD
TZOFFSETFROM:-0400
TZOFFSETTO:-0500
TZNAME:EST
DTSTART:20261101T060000
END:STANDARD
END:VTIMEZONE
BEGIN:VEVENT
DTSTART;TZID=America/New_York:20250619T183000
DTEND;TZID=America/New_York:20250619T203000
DTSTAMP:20260424T083759
CREATED:20250619T172308Z
LAST-MODIFIED:20250619T235041Z
UID:28560-1750357800-1750365000@ctkrva.org
SUMMARY:Tai Chi - John Crouse
DESCRIPTION:
URL:https://ctkrva.org/event/tai-chi-john-crouse-203/
LOCATION:Fellowship Hall
END:VEVENT
BEGIN:VEVENT
DTSTART;VALUE=DATE:20250619
DTEND;VALUE=DATE:20250620
DTSTAMP:20260424T083759
CREATED:20250619T172308Z
LAST-MODIFIED:20250619T235041Z
UID:28561-1750291200-1750377599@ctkrva.org
SUMMARY:Office Closed for Holiday
DESCRIPTION:
URL:https://ctkrva.org/event/office-closed-for-holiday-14/
END:VEVENT
BEGIN:VEVENT
DTSTART;VALUE=DATE:20250619
DTEND;VALUE=DATE:20250620
DTSTAMP:20260424T083759
CREATED:20250619T172307Z
LAST-MODIFIED:20250619T235041Z
UID:28559-1750291200-1750377599@ctkrva.org
SUMMARY:Juneteenth
DESCRIPTION:
URL:https://ctkrva.org/event/juneteenth-3/
END:VEVENT
BEGIN:VEVENT
DTSTART;TZID=America/New_York:20250612T183000
DTEND;TZID=America/New_York:20250612T203000
DTSTAMP:20260424T083759
CREATED:20250609T170513Z
LAST-MODIFIED:20250612T235039Z
UID:27559-1749753000-1749760200@ctkrva.org
SUMMARY:Tai Chi - John Crouse
DESCRIPTION:
URL:https://ctkrva.org/event/tai-chi-john-crouse-211/
LOCATION:Fellowship Hall
END:VEVENT
BEGIN:VEVENT
DTSTART;TZID=America/New_York:20250612T120000
DTEND;TZID=America/New_York:20250612T130000
DTSTAMP:20260424T083759
CREATED:20250609T170513Z
LAST-MODIFIED:20250612T162032Z
UID:27558-1749729600-1749733200@ctkrva.org
SUMMARY:Senior Fellowship Luncheon
DESCRIPTION:
URL:https://ctkrva.org/event/senior-fellowship-luncheon-3/
LOCATION:Fellowship Hall
END:VEVENT
BEGIN:VEVENT
DTSTART;TZID=America/New_York:20250612T120000
DTEND;TZID=America/New_York:20250612T130000
DTSTAMP:20260424T083759
CREATED:20250609T170512Z
LAST-MODIFIED:20250612T162032Z
UID:27557-1749729600-1749733200@ctkrva.org
SUMMARY:ALANON (12&12)
DESCRIPTION:
URL:https://ctkrva.org/event/alanon-1212-105/
LOCATION:Fellowship Hall
END:VEVENT
BEGIN:VEVENT
DTSTART;TZID=America/New_York:20250611T100000
DTEND;TZID=America/New_York:20250611T160000
DTSTAMP:20260424T083759
CREATED:20250609T170511Z
LAST-MODIFIED:20250611T190516Z
UID:27555-1749636000-1749657600@ctkrva.org
SUMMARY:CTK Quilters
DESCRIPTION:
URL:https://ctkrva.org/event/ctk-quilters-26/
END:VEVENT
BEGIN:VEVENT
DTSTART;TZID=America/New_York:20250611T093000
DTEND;TZID=America/New_York:20250611T103000
DTSTAMP:20260424T083759
CREATED:20250609T170512Z
LAST-MODIFIED:20250611T140526Z
UID:27556-1749634200-1749637800@ctkrva.org
SUMMARY:Staff Meeting
DESCRIPTION:
URL:https://ctkrva.org/event/staff-meeting-106/
END:VEVENT
BEGIN:VEVENT
DTSTART;TZID=America/New_York:20250610T183000
DTEND;TZID=America/New_York:20250610T203000
DTSTAMP:20260424T083759
CREATED:20250609T170511Z
LAST-MODIFIED:20250611T002018Z
UID:27554-1749580200-1749587400@ctkrva.org
SUMMARY:Tai Chi - John Crouse
DESCRIPTION:
URL:https://ctkrva.org/event/tai-chi-john-crouse-210/
LOCATION:Fellowship Hall
END:VEVENT
BEGIN:VEVENT
DTSTART;TZID=America/New_York:20250610T100000
DTEND;TZID=America/New_York:20250610T120000
DTSTAMP:20260424T083759
CREATED:20250609T170510Z
LAST-MODIFIED:20250610T153516Z
UID:27553-1749549600-1749556800@ctkrva.org
SUMMARY:Richmond Conference Meeting
DESCRIPTION:
URL:https://ctkrva.org/event/richmond-conference-meeting-23/
END:VEVENT
BEGIN:VEVENT
DTSTART;TZID=America/New_York:20250609T190000
DTEND;TZID=America/New_York:20250609T210000
DTSTAMP:20260424T083759
CREATED:20250609T170510Z
LAST-MODIFIED:20250610T003512Z
UID:27552-1749495600-1749502800@ctkrva.org
SUMMARY:Church Council
DESCRIPTION:
URL:https://ctkrva.org/event/church-council-24/
END:VEVENT
BEGIN:VEVENT
DTSTART;TZID=America/New_York:20250609T130000
DTEND;TZID=America/New_York:20250609T140000
DTSTAMP:20260424T083759
CREATED:20250609T170509Z
LAST-MODIFIED:20250609T170509Z
UID:27551-1749474000-1749477600@ctkrva.org
SUMMARY:AA
DESCRIPTION:
URL:https://ctkrva.org/event/aa-213/
LOCATION:Fellowship Hall
END:VEVENT
BEGIN:VEVENT
DTSTART;TZID=America/New_York:20250606T190000
DTEND;TZID=America/New_York:20250606T213000
DTSTAMP:20260424T083759
CREATED:20250602T163142Z
LAST-MODIFIED:20250606T233613Z
UID:26705-1749236400-1749245400@ctkrva.org
SUMMARY:Tom Schneider Rehearsal
DESCRIPTION:
URL:https://ctkrva.org/event/tom-schneider-rehearsal-4/
LOCATION:Sanctuary
END:VEVENT
BEGIN:VEVENT
DTSTART;TZID=America/New_York:20250606T190000
DTEND;TZID=America/New_York:20250606T200000
DTSTAMP:20260424T083759
CREATED:20250602T163142Z
LAST-MODIFIED:20250606T233614Z
UID:26704-1749236400-1749240000@ctkrva.org
SUMMARY:NarAnon
DESCRIPTION:
URL:https://ctkrva.org/event/naranon-64/
LOCATION:Gathering Space
END:VEVENT
BEGIN:VEVENT
DTSTART;TZID=America/New_York:20250606T130000
DTEND;TZID=America/New_York:20250606T140000
DTSTAMP:20260424T083759
CREATED:20250602T163127Z
LAST-MODIFIED:20250606T172038Z
UID:26703-1749214800-1749218400@ctkrva.org
SUMMARY:AA
DESCRIPTION:
URL:https://ctkrva.org/event/aa-203/
LOCATION:Fellowship Hall
END:VEVENT
BEGIN:VEVENT
DTSTART;TZID=America/New_York:20250605T190000
DTEND;TZID=America/New_York:20250605T200000
DTSTAMP:20260424T083759
CREATED:20250602T163127Z
LAST-MODIFIED:20250605T225041Z
UID:26702-1749150000-1749153600@ctkrva.org
SUMMARY:Choir
DESCRIPTION:
URL:https://ctkrva.org/event/choir-22/
END:VEVENT
BEGIN:VEVENT
DTSTART;TZID=America/New_York:20250605T183000
DTEND;TZID=America/New_York:20250605T203000
DTSTAMP:20260424T083759
CREATED:20250602T163126Z
LAST-MODIFIED:20250606T000521Z
UID:26701-1749148200-1749155400@ctkrva.org
SUMMARY:Tai Chi - John Crouse
DESCRIPTION:
URL:https://ctkrva.org/event/tai-chi-john-crouse-202/
LOCATION:Fellowship Hall
END:VEVENT
BEGIN:VEVENT
DTSTART;TZID=America/New_York:20250605T130000
DTEND;TZID=America/New_York:20250605T150000
DTSTAMP:20260424T083759
CREATED:20250602T163125Z
LAST-MODIFIED:20250605T175019Z
UID:26699-1749128400-1749135600@ctkrva.org
SUMMARY:Tom Schneider Rehearsal
DESCRIPTION:
URL:https://ctkrva.org/event/tom-schneider-rehearsal-3/
LOCATION:Sanctuary
END:VEVENT
BEGIN:VEVENT
DTSTART;TZID=America/New_York:20250605T120000
DTEND;TZID=America/New_York:20250605T130000
DTSTAMP:20260424T083759
CREATED:20250602T163126Z
LAST-MODIFIED:20250605T163547Z
UID:26700-1749124800-1749128400@ctkrva.org
SUMMARY:ALANON (12&12)
DESCRIPTION:
URL:https://ctkrva.org/event/alanon-1212-100/
LOCATION:Fellowship Hall
END:VEVENT
BEGIN:VEVENT
DTSTART;TZID=America/New_York:20250605T100000
DTEND;TZID=America/New_York:20250605T120000
DTSTAMP:20260424T083759
CREATED:20250602T163125Z
LAST-MODIFIED:20250605T152020Z
UID:26698-1749117600-1749124800@ctkrva.org
SUMMARY:Tom Schneider Rehearsal
DESCRIPTION:
URL:https://ctkrva.org/event/tom-schneider-rehearsal-2/
LOCATION:Sanctuary
END:VEVENT
BEGIN:VEVENT
DTSTART;TZID=America/New_York:20250604T190000
DTEND;TZID=America/New_York:20250604T213000
DTSTAMP:20260424T083759
CREATED:20250602T163125Z
LAST-MODIFIED:20250605T003532Z
UID:26697-1749063600-1749072600@ctkrva.org
SUMMARY:Tom Schneider Rehearsal
DESCRIPTION:
URL:https://ctkrva.org/event/tom-schneider-rehearsal/
LOCATION:Sanctuary
END:VEVENT
BEGIN:VEVENT
DTSTART;TZID=America/New_York:20250604T100000
DTEND;TZID=America/New_York:20250604T160000
DTSTAMP:20260424T083759
CREATED:20250603T133541Z
LAST-MODIFIED:20250604T193520Z
UID:27307-1749031200-1749052800@ctkrva.org
SUMMARY:CTK Quilters
DESCRIPTION:
URL:https://ctkrva.org/event/ctk-quilters-21/
END:VEVENT
BEGIN:VEVENT
DTSTART;TZID=America/New_York:20250604T093000
DTEND;TZID=America/New_York:20250604T103000
DTSTAMP:20260424T083759
CREATED:20250602T163124Z
LAST-MODIFIED:20250604T132111Z
UID:26696-1749029400-1749033000@ctkrva.org
SUMMARY:Staff Meeting
DESCRIPTION:
URL:https://ctkrva.org/event/staff-meeting-101/
END:VEVENT
BEGIN:VEVENT
DTSTART;TZID=America/New_York:20250603T183000
DTEND;TZID=America/New_York:20250603T203000
DTSTAMP:20260424T083759
CREATED:20250602T163124Z
LAST-MODIFIED:20250603T233525Z
UID:26695-1748975400-1748982600@ctkrva.org
SUMMARY:Tai Chi - John Crouse
DESCRIPTION:
URL:https://ctkrva.org/event/tai-chi-john-crouse-201/
LOCATION:Fellowship Hall
END:VEVENT
BEGIN:VEVENT
DTSTART;TZID=America/New_York:20250602T130000
DTEND;TZID=America/New_York:20250602T140000
DTSTAMP:20260424T083800
CREATED:20250602T163123Z
LAST-MODIFIED:20250602T173525Z
UID:26694-1748869200-1748872800@ctkrva.org
SUMMARY:AA
DESCRIPTION:
URL:https://ctkrva.org/event/aa-202/
LOCATION:Fellowship Hall
END:VEVENT
BEGIN:VEVENT
DTSTART;TZID=America/New_York:20250528T133000
DTEND;TZID=America/New_York:20250528T143000
DTSTAMP:20260424T083800
CREATED:20250423T135739Z
LAST-MODIFIED:20250528T182022Z
UID:25162-1748439000-1748442600@ctkrva.org
SUMMARY:Intercessory Prayer Service
DESCRIPTION:
URL:https://ctkrva.org/event/intercessory-prayer-service-22/
END:VEVENT
BEGIN:VEVENT
DTSTART;TZID=America/New_York:20250528T100000
DTEND;TZID=America/New_York:20250528T160000
DTSTAMP:20260424T083800
CREATED:20250423T135740Z
LAST-MODIFIED:20250528T193557Z
UID:25163-1748426400-1748448000@ctkrva.org
SUMMARY:CTK Quilters
DESCRIPTION:
URL:https://ctkrva.org/event/ctk-quilters-20/
END:VEVENT
BEGIN:VEVENT
DTSTART;TZID=America/New_York:20250528T093000
DTEND;TZID=America/New_York:20250528T103000
DTSTAMP:20260424T083800
CREATED:20250423T135740Z
LAST-MODIFIED:20250528T132016Z
UID:25164-1748424600-1748428200@ctkrva.org
SUMMARY:Staff Meeting
DESCRIPTION:
URL:https://ctkrva.org/event/staff-meeting-100/
END:VEVENT
BEGIN:VEVENT
DTSTART;TZID=America/New_York:20250527T183000
DTEND;TZID=America/New_York:20250527T203000
DTSTAMP:20260424T083800
CREATED:20250423T135739Z
LAST-MODIFIED:20250527T233509Z
UID:25161-1748370600-1748377800@ctkrva.org
SUMMARY:Tai Chi - John Crouse
DESCRIPTION:
URL:https://ctkrva.org/event/tai-chi-john-crouse-200/
LOCATION:Fellowship Hall
END:VEVENT
BEGIN:VEVENT
DTSTART;TZID=America/New_York:20250527T100000
DTEND;TZID=America/New_York:20250527T120000
DTSTAMP:20260424T083800
CREATED:20250423T135739Z
LAST-MODIFIED:20250527T150514Z
UID:25160-1748340000-1748347200@ctkrva.org
SUMMARY:Circle of Faith
DESCRIPTION:
URL:https://ctkrva.org/event/circle-of-faith-15/
END:VEVENT
END:VCALENDAR