BEGIN:VCALENDAR
VERSION:2.0
PRODID:-//Christ The King Lutheran Church - ECPv6.15.20//NONSGML v1.0//EN
CALSCALE:GREGORIAN
METHOD:PUBLISH
X-ORIGINAL-URL:https://ctkrva.org
X-WR-CALDESC:Events for Christ The King Lutheran Church
REFRESH-INTERVAL;VALUE=DURATION:PT1H
X-Robots-Tag:noindex
X-PUBLISHED-TTL:PT1H
BEGIN:VTIMEZONE
TZID:America/New_York
BEGIN:DAYLIGHT
TZOFFSETFROM:-0500
TZOFFSETTO:-0400
TZNAME:EDT
DTSTART:20250309T070000
END:DAYLIGHT
BEGIN:STANDARD
TZOFFSETFROM:-0400
TZOFFSETTO:-0500
TZNAME:EST
DTSTART:20251102T060000
END:STANDARD
BEGIN:DAYLIGHT
TZOFFSETFROM:-0500
TZOFFSETTO:-0400
TZNAME:EDT
DTSTART:20260308T070000
END:DAYLIGHT
BEGIN:STANDARD
TZOFFSETFROM:-0400
TZOFFSETTO:-0500
TZNAME:EST
DTSTART:20261101T060000
END:STANDARD
BEGIN:DAYLIGHT
TZOFFSETFROM:-0500
TZOFFSETTO:-0400
TZNAME:EDT
DTSTART:20270314T070000
END:DAYLIGHT
BEGIN:STANDARD
TZOFFSETFROM:-0400
TZOFFSETTO:-0500
TZNAME:EST
DTSTART:20271107T060000
END:STANDARD
END:VTIMEZONE
BEGIN:VEVENT
DTSTART;TZID=America/New_York:20261022T120000
DTEND;TZID=America/New_York:20261022T130000
DTSTAMP:20260424T023713
CREATED:20260404T005127Z
LAST-MODIFIED:20260424T055732Z
UID:42192-1792670400-1792674000@ctkrva.org
SUMMARY:ALANON (12&12)
DESCRIPTION:
URL:https://ctkrva.org/event/alanon-1212-163/
LOCATION:Fellowship Hall
END:VEVENT
BEGIN:VEVENT
DTSTART;TZID=America/New_York:20261022T183000
DTEND;TZID=America/New_York:20261022T203000
DTSTAMP:20260424T023714
CREATED:20260405T154345Z
LAST-MODIFIED:20260424T055732Z
UID:42225-1792693800-1792701000@ctkrva.org
SUMMARY:Tai Chi - John Crouse
DESCRIPTION:
URL:https://ctkrva.org/event/tai-chi-john-crouse-331/
LOCATION:Fellowship Hall
END:VEVENT
BEGIN:VEVENT
DTSTART;TZID=America/New_York:20261023T130000
DTEND;TZID=America/New_York:20261023T140000
DTSTAMP:20260424T023714
CREATED:20260405T170039Z
LAST-MODIFIED:20260424T055732Z
UID:42228-1792760400-1792764000@ctkrva.org
SUMMARY:AA
DESCRIPTION:
URL:https://ctkrva.org/event/aa-331/
LOCATION:Fellowship Hall
END:VEVENT
BEGIN:VEVENT
DTSTART;TZID=America/New_York:20261023T190000
DTEND;TZID=America/New_York:20261023T200000
DTSTAMP:20260424T023714
CREATED:20260406T002852Z
LAST-MODIFIED:20260424T055732Z
UID:42236-1792782000-1792785600@ctkrva.org
SUMMARY:NarAnon
DESCRIPTION:
URL:https://ctkrva.org/event/naranon-126/
LOCATION:Gathering Space
END:VEVENT
BEGIN:VEVENT
DTSTART;TZID=America/New_York:20261025T100000
DTEND;TZID=America/New_York:20261025T110000
DTSTAMP:20260424T023714
CREATED:20260406T191509Z
LAST-MODIFIED:20260424T055750Z
UID:42254-1792922400-1792926000@ctkrva.org
SUMMARY:Worship
DESCRIPTION:
URL:https://ctkrva.org/event/worship-208/
END:VEVENT
BEGIN:VEVENT
DTSTART;TZID=America/New_York:20261025T111500
DTEND;TZID=America/New_York:20261025T114500
DTSTAMP:20260424T023714
CREATED:20260408T011420Z
LAST-MODIFIED:20260424T055750Z
UID:42283-1792926900-1792928700@ctkrva.org
SUMMARY:CTK Cafe
DESCRIPTION:
URL:https://ctkrva.org/event/ctk-cafe-175/
LOCATION:After Worship
END:VEVENT
BEGIN:VEVENT
DTSTART;TZID=America/New_York:20261026T130000
DTEND;TZID=America/New_York:20261026T140000
DTSTAMP:20260424T023714
CREATED:20260408T145910Z
LAST-MODIFIED:20260424T055750Z
UID:42296-1793019600-1793023200@ctkrva.org
SUMMARY:AA
DESCRIPTION:
URL:https://ctkrva.org/event/aa-332/
LOCATION:Fellowship Hall
END:VEVENT
BEGIN:VEVENT
DTSTART;TZID=America/New_York:20261027T183000
DTEND;TZID=America/New_York:20261027T203000
DTSTAMP:20260424T023714
CREATED:20260409T171429Z
LAST-MODIFIED:20260424T055750Z
UID:42319-1793125800-1793133000@ctkrva.org
SUMMARY:Tai Chi - John Crouse
DESCRIPTION:
URL:https://ctkrva.org/event/tai-chi-john-crouse-332/
LOCATION:Fellowship Hall
END:VEVENT
BEGIN:VEVENT
DTSTART;TZID=America/New_York:20261028T133000
DTEND;TZID=America/New_York:20261028T143000
DTSTAMP:20260424T023714
CREATED:20260409T171430Z
LAST-MODIFIED:20260424T055750Z
UID:42320-1793194200-1793197800@ctkrva.org
SUMMARY:Intercessory Prayer Service
DESCRIPTION:
URL:https://ctkrva.org/event/intercessory-prayer-service-37/
END:VEVENT
BEGIN:VEVENT
DTSTART;TZID=America/New_York:20261029T120000
DTEND;TZID=America/New_York:20261029T130000
DTSTAMP:20260424T023714
CREATED:20260409T171432Z
LAST-MODIFIED:20260424T055750Z
UID:42321-1793275200-1793278800@ctkrva.org
SUMMARY:ALANON (12&12)
DESCRIPTION:
URL:https://ctkrva.org/event/alanon-1212-164/
LOCATION:Fellowship Hall
END:VEVENT
BEGIN:VEVENT
DTSTART;TZID=America/New_York:20261029T183000
DTEND;TZID=America/New_York:20261029T203000
DTSTAMP:20260424T023714
CREATED:20260410T002922Z
LAST-MODIFIED:20260424T055751Z
UID:42331-1793298600-1793305800@ctkrva.org
SUMMARY:Tai Chi - John Crouse
DESCRIPTION:
URL:https://ctkrva.org/event/tai-chi-john-crouse-333/
LOCATION:Fellowship Hall
END:VEVENT
BEGIN:VEVENT
DTSTART;TZID=America/New_York:20261030T130000
DTEND;TZID=America/New_York:20261030T140000
DTSTAMP:20260424T023714
CREATED:20260410T014512Z
LAST-MODIFIED:20260424T055751Z
UID:42334-1793365200-1793368800@ctkrva.org
SUMMARY:AA
DESCRIPTION:
URL:https://ctkrva.org/event/aa-333/
LOCATION:Fellowship Hall
END:VEVENT
BEGIN:VEVENT
DTSTART;TZID=America/New_York:20261030T190000
DTEND;TZID=America/New_York:20261030T200000
DTSTAMP:20260424T023714
CREATED:20260410T185944Z
LAST-MODIFIED:20260424T055751Z
UID:42350-1793386800-1793390400@ctkrva.org
SUMMARY:NarAnon
DESCRIPTION:
URL:https://ctkrva.org/event/naranon-127/
LOCATION:Gathering Space
END:VEVENT
BEGIN:VEVENT
DTSTART;VALUE=DATE:20261101
DTEND;VALUE=DATE:20261102
DTSTAMP:20260424T023714
CREATED:20260411T045947Z
LAST-MODIFIED:20260424T055751Z
UID:42362-1793491200-1793577599@ctkrva.org
SUMMARY:Food Pantry Sunday
DESCRIPTION:
URL:https://ctkrva.org/event/food-pantry-sunday-44/
END:VEVENT
BEGIN:VEVENT
DTSTART;TZID=America/New_York:20261101T100000
DTEND;TZID=America/New_York:20261101T110000
DTSTAMP:20260424T023714
CREATED:20260411T011439Z
LAST-MODIFIED:20260424T055808Z
UID:42357-1793527200-1793530800@ctkrva.org
SUMMARY:Worship
DESCRIPTION:
URL:https://ctkrva.org/event/worship-209/
END:VEVENT
BEGIN:VEVENT
DTSTART;TZID=America/New_York:20261101T111500
DTEND;TZID=America/New_York:20261101T114500
DTSTAMP:20260424T023714
CREATED:20260412T043143Z
LAST-MODIFIED:20260424T055808Z
UID:42383-1793531700-1793533500@ctkrva.org
SUMMARY:CTK Cafe
DESCRIPTION:
URL:https://ctkrva.org/event/ctk-cafe-176/
LOCATION:After Worship
END:VEVENT
BEGIN:VEVENT
DTSTART;TZID=America/New_York:20261102T130000
DTEND;TZID=America/New_York:20261102T140000
DTSTAMP:20260424T023714
CREATED:20260413T191457Z
LAST-MODIFIED:20260424T055808Z
UID:42419-1793624400-1793628000@ctkrva.org
SUMMARY:AA
DESCRIPTION:
URL:https://ctkrva.org/event/aa-334/
LOCATION:Fellowship Hall
END:VEVENT
BEGIN:VEVENT
DTSTART;TZID=America/New_York:20261103T183000
DTEND;TZID=America/New_York:20261103T203000
DTSTAMP:20260424T023714
CREATED:20260414T165823Z
LAST-MODIFIED:20260424T055809Z
UID:42440-1793730600-1793737800@ctkrva.org
SUMMARY:Tai Chi - John Crouse
DESCRIPTION:
URL:https://ctkrva.org/event/tai-chi-john-crouse-334/
LOCATION:Fellowship Hall
END:VEVENT
BEGIN:VEVENT
DTSTART;TZID=America/New_York:20261105T120000
DTEND;TZID=America/New_York:20261105T130000
DTSTAMP:20260424T023714
CREATED:20260414T165824Z
LAST-MODIFIED:20260424T055809Z
UID:42441-1793880000-1793883600@ctkrva.org
SUMMARY:ALANON (12&12)
DESCRIPTION:
URL:https://ctkrva.org/event/alanon-1212-165/
LOCATION:Fellowship Hall
END:VEVENT
BEGIN:VEVENT
DTSTART;TZID=America/New_York:20261105T183000
DTEND;TZID=America/New_York:20261105T203000
DTSTAMP:20260424T023714
CREATED:20260415T012834Z
LAST-MODIFIED:20260424T055809Z
UID:42454-1793903400-1793910600@ctkrva.org
SUMMARY:Tai Chi - John Crouse
DESCRIPTION:
URL:https://ctkrva.org/event/tai-chi-john-crouse-335/
LOCATION:Fellowship Hall
END:VEVENT
BEGIN:VEVENT
DTSTART;TZID=America/New_York:20261106T130000
DTEND;TZID=America/New_York:20261106T140000
DTSTAMP:20260424T023714
CREATED:20260416T181546Z
LAST-MODIFIED:20260424T055809Z
UID:42489-1793970000-1793973600@ctkrva.org
SUMMARY:AA
DESCRIPTION:
URL:https://ctkrva.org/event/aa-335/
LOCATION:Fellowship Hall
END:VEVENT
BEGIN:VEVENT
DTSTART;TZID=America/New_York:20261106T190000
DTEND;TZID=America/New_York:20261106T200000
DTSTAMP:20260424T023714
CREATED:20260417T014607Z
LAST-MODIFIED:20260424T055809Z
UID:42497-1793991600-1793995200@ctkrva.org
SUMMARY:NarAnon
DESCRIPTION:
URL:https://ctkrva.org/event/naranon-128/
LOCATION:Gathering Space
END:VEVENT
BEGIN:VEVENT
DTSTART;TZID=America/New_York:20261108T100000
DTEND;TZID=America/New_York:20261108T110000
DTSTAMP:20260424T023714
CREATED:20260417T014608Z
LAST-MODIFIED:20260424T055809Z
UID:42498-1794132000-1794135600@ctkrva.org
SUMMARY:Worship
DESCRIPTION:
URL:https://ctkrva.org/event/worship-210/
END:VEVENT
BEGIN:VEVENT
DTSTART;TZID=America/New_York:20261108T111500
DTEND;TZID=America/New_York:20261108T114500
DTSTAMP:20260424T023714
CREATED:20260417T191426Z
LAST-MODIFIED:20260424T055809Z
UID:42515-1794136500-1794138300@ctkrva.org
SUMMARY:CTK Cafe
DESCRIPTION:
URL:https://ctkrva.org/event/ctk-cafe-177/
LOCATION:After Worship
END:VEVENT
BEGIN:VEVENT
DTSTART;TZID=America/New_York:20261109T120000
DTEND;TZID=America/New_York:20261109T130000
DTSTAMP:20260424T023714
CREATED:20260418T191331Z
LAST-MODIFIED:20260424T055827Z
UID:42543-1794225600-1794229200@ctkrva.org
SUMMARY:Executive Team
DESCRIPTION:
URL:https://ctkrva.org/event/executive-team-77/
END:VEVENT
BEGIN:VEVENT
DTSTART;TZID=America/New_York:20261109T130000
DTEND;TZID=America/New_York:20261109T140000
DTSTAMP:20260424T023714
CREATED:20260418T003154Z
LAST-MODIFIED:20260424T055827Z
UID:42526-1794229200-1794232800@ctkrva.org
SUMMARY:AA
DESCRIPTION:
URL:https://ctkrva.org/event/aa-336/
LOCATION:Fellowship Hall
END:VEVENT
BEGIN:VEVENT
DTSTART;TZID=America/New_York:20261110T100000
DTEND;TZID=America/New_York:20261110T120000
DTSTAMP:20260424T023714
CREATED:20260419T151327Z
LAST-MODIFIED:20260424T055827Z
UID:42561-1794304800-1794312000@ctkrva.org
SUMMARY:Richmond Conference Meeting
DESCRIPTION:
URL:https://ctkrva.org/event/richmond-conference-meeting-38/
END:VEVENT
BEGIN:VEVENT
DTSTART;TZID=America/New_York:20261110T100000
DTEND;TZID=America/New_York:20261110T120000
DTSTAMP:20260424T023714
CREATED:20260419T162848Z
LAST-MODIFIED:20260424T055827Z
UID:42563-1794304800-1794312000@ctkrva.org
SUMMARY:Circle of Faith
DESCRIPTION:
URL:https://ctkrva.org/event/circle-of-faith-67/
END:VEVENT
BEGIN:VEVENT
DTSTART;TZID=America/New_York:20261110T183000
DTEND;TZID=America/New_York:20261110T203000
DTSTAMP:20260424T023714
CREATED:20260420T181334Z
LAST-MODIFIED:20260424T055827Z
UID:42587-1794335400-1794342600@ctkrva.org
SUMMARY:Tai Chi - John Crouse
DESCRIPTION:
URL:https://ctkrva.org/event/tai-chi-john-crouse-336/
LOCATION:Fellowship Hall
END:VEVENT
BEGIN:VEVENT
DTSTART;TZID=America/New_York:20261112T120000
DTEND;TZID=America/New_York:20261112T130000
DTSTAMP:20260424T023714
CREATED:20260422T012854Z
LAST-MODIFIED:20260424T055827Z
UID:42615-1794484800-1794488400@ctkrva.org
SUMMARY:ALANON (12&12)
DESCRIPTION:
URL:https://ctkrva.org/event/alanon-1212-166/
LOCATION:Fellowship Hall
END:VEVENT
END:VCALENDAR