BEGIN:VCALENDAR
VERSION:2.0
PRODID:-//Christ The King Lutheran Church - ECPv6.15.20//NONSGML v1.0//EN
CALSCALE:GREGORIAN
METHOD:PUBLISH
X-WR-CALNAME:Christ The King Lutheran Church
X-ORIGINAL-URL:https://ctkrva.org
X-WR-CALDESC:Events for Christ The King Lutheran Church
REFRESH-INTERVAL;VALUE=DURATION:PT1H
X-Robots-Tag:noindex
X-PUBLISHED-TTL:PT1H
BEGIN:VTIMEZONE
TZID:America/New_York
BEGIN:DAYLIGHT
TZOFFSETFROM:-0500
TZOFFSETTO:-0400
TZNAME:EDT
DTSTART:20240310T070000
END:DAYLIGHT
BEGIN:STANDARD
TZOFFSETFROM:-0400
TZOFFSETTO:-0500
TZNAME:EST
DTSTART:20241103T060000
END:STANDARD
BEGIN:DAYLIGHT
TZOFFSETFROM:-0500
TZOFFSETTO:-0400
TZNAME:EDT
DTSTART:20250309T070000
END:DAYLIGHT
BEGIN:STANDARD
TZOFFSETFROM:-0400
TZOFFSETTO:-0500
TZNAME:EST
DTSTART:20251102T060000
END:STANDARD
BEGIN:DAYLIGHT
TZOFFSETFROM:-0500
TZOFFSETTO:-0400
TZNAME:EDT
DTSTART:20260308T070000
END:DAYLIGHT
BEGIN:STANDARD
TZOFFSETFROM:-0400
TZOFFSETTO:-0500
TZNAME:EST
DTSTART:20261101T060000
END:STANDARD
END:VTIMEZONE
BEGIN:VEVENT
DTSTART;TZID=America/New_York:20250929T080000
DTEND;TZID=America/New_York:20251001T120000
DTSTAMP:20260423T185433
CREATED:20250818T202654Z
LAST-MODIFIED:20251006T155334Z
UID:36446-1759132800-1759320000@ctkrva.org
SUMMARY:Ministerium
DESCRIPTION:
URL:https://ctkrva.org/event/ministerium/
END:VEVENT
BEGIN:VEVENT
DTSTART;TZID=America/New_York:20251001T093000
DTEND;TZID=America/New_York:20251001T103000
DTSTAMP:20260423T185433
CREATED:20250818T202653Z
LAST-MODIFIED:20251006T155336Z
UID:36445-1759311000-1759314600@ctkrva.org
SUMMARY:Staff Meeting
DESCRIPTION:
URL:https://ctkrva.org/event/staff-meeting-110/
END:VEVENT
BEGIN:VEVENT
DTSTART;TZID=America/New_York:20251001T100000
DTEND;TZID=America/New_York:20251001T160000
DTSTAMP:20260423T185433
CREATED:20250818T202652Z
LAST-MODIFIED:20251006T155337Z
UID:36444-1759312800-1759334400@ctkrva.org
SUMMARY:CTK Quilters
DESCRIPTION:
URL:https://ctkrva.org/event/ctk-quilters-30/
END:VEVENT
BEGIN:VEVENT
DTSTART;TZID=America/New_York:20251002T120000
DTEND;TZID=America/New_York:20251002T130000
DTSTAMP:20260423T185433
CREATED:20250818T202655Z
LAST-MODIFIED:20251006T155339Z
UID:36447-1759406400-1759410000@ctkrva.org
SUMMARY:ALANON (12&12)
DESCRIPTION:
URL:https://ctkrva.org/event/alanon-1212-109/
LOCATION:Fellowship Hall
END:VEVENT
BEGIN:VEVENT
DTSTART;TZID=America/New_York:20251002T183000
DTEND;TZID=America/New_York:20251002T203000
DTSTAMP:20260423T185433
CREATED:20250818T202655Z
LAST-MODIFIED:20251006T155340Z
UID:36448-1759429800-1759437000@ctkrva.org
SUMMARY:Tai Chi - John Crouse
DESCRIPTION:
URL:https://ctkrva.org/event/tai-chi-john-crouse-224/
LOCATION:Fellowship Hall
END:VEVENT
BEGIN:VEVENT
DTSTART;TZID=America/New_York:20251003T130000
DTEND;TZID=America/New_York:20251003T140000
DTSTAMP:20260423T185433
CREATED:20250818T202657Z
LAST-MODIFIED:20251006T155341Z
UID:36450-1759496400-1759500000@ctkrva.org
SUMMARY:AA
DESCRIPTION:
URL:https://ctkrva.org/event/aa-223/
LOCATION:Fellowship Hall
END:VEVENT
BEGIN:VEVENT
DTSTART;TZID=America/New_York:20251003T140000
DTEND;TZID=America/New_York:20251003T190000
DTSTAMP:20260423T185433
CREATED:20250818T202656Z
LAST-MODIFIED:20251006T155342Z
UID:36449-1759500000-1759518000@ctkrva.org
SUMMARY:Set Up for Quilt Day
DESCRIPTION:
URL:https://ctkrva.org/event/set-up-for-quilt-day/
LOCATION:Fellowship Hall
END:VEVENT
BEGIN:VEVENT
DTSTART;TZID=America/New_York:20251003T190000
DTEND;TZID=America/New_York:20251003T200000
DTSTAMP:20260423T185433
CREATED:20250818T202658Z
LAST-MODIFIED:20251006T155343Z
UID:36451-1759518000-1759521600@ctkrva.org
SUMMARY:NarAnon
DESCRIPTION:
URL:https://ctkrva.org/event/naranon-72/
LOCATION:Gathering Space
END:VEVENT
BEGIN:VEVENT
DTSTART;TZID=America/New_York:20251004T083000
DTEND;TZID=America/New_York:20251004T160000
DTSTAMP:20260423T185433
CREATED:20250818T202659Z
LAST-MODIFIED:20251006T155344Z
UID:36452-1759566600-1759593600@ctkrva.org
SUMMARY:Community Quilt Day
DESCRIPTION:
URL:https://ctkrva.org/event/community-quilt-day-3/
LOCATION:Fellowship Hall
END:VEVENT
BEGIN:VEVENT
DTSTART;VALUE=DATE:20251005
DTEND;VALUE=DATE:20251006
DTSTAMP:20260423T185433
CREATED:20250818T165221Z
LAST-MODIFIED:20251006T155345Z
UID:35936-1759622400-1759708799@ctkrva.org
SUMMARY:Food Pantry Sunday
DESCRIPTION:
URL:https://ctkrva.org/event/food-pantry-sunday-8/
END:VEVENT
BEGIN:VEVENT
DTSTART;TZID=America/New_York:20251005T100000
DTEND;TZID=America/New_York:20251005T110000
DTSTAMP:20260423T185433
CREATED:20250818T165234Z
LAST-MODIFIED:20251006T155346Z
UID:35937-1759658400-1759662000@ctkrva.org
SUMMARY:Worship
DESCRIPTION:
URL:https://ctkrva.org/event/worship-43/
END:VEVENT
BEGIN:VEVENT
DTSTART;TZID=America/New_York:20251005T111500
DTEND;TZID=America/New_York:20251005T114500
DTSTAMP:20260423T185433
CREATED:20250818T165235Z
LAST-MODIFIED:20251006T155347Z
UID:35938-1759662900-1759664700@ctkrva.org
SUMMARY:CTK Cafe
DESCRIPTION:
URL:https://ctkrva.org/event/ctk-cafe-32/
LOCATION:After Worship
END:VEVENT
BEGIN:VEVENT
DTSTART;TZID=America/New_York:20251006T130000
DTEND;TZID=America/New_York:20251006T140000
DTSTAMP:20260423T185433
CREATED:20250818T165236Z
LAST-MODIFIED:20251006T173744Z
UID:35939-1759755600-1759759200@ctkrva.org
SUMMARY:AA
DESCRIPTION:
URL:https://ctkrva.org/event/aa-214/
LOCATION:Fellowship Hall
END:VEVENT
BEGIN:VEVENT
DTSTART;TZID=America/New_York:20251007T183000
DTEND;TZID=America/New_York:20251007T203000
DTSTAMP:20260423T185433
CREATED:20250818T165237Z
LAST-MODIFIED:20251007T233515Z
UID:35940-1759861800-1759869000@ctkrva.org
SUMMARY:Tai Chi - John Crouse
DESCRIPTION:
URL:https://ctkrva.org/event/tai-chi-john-crouse-214/
LOCATION:Fellowship Hall
END:VEVENT
BEGIN:VEVENT
DTSTART;TZID=America/New_York:20251008T093000
DTEND;TZID=America/New_York:20251008T103000
DTSTAMP:20260423T185433
CREATED:20250818T165238Z
LAST-MODIFIED:20251014T213832Z
UID:35941-1759915800-1759919400@ctkrva.org
SUMMARY:Staff Meeting
DESCRIPTION:
URL:https://ctkrva.org/event/staff-meeting-105/
END:VEVENT
BEGIN:VEVENT
DTSTART;TZID=America/New_York:20251008T100000
DTEND;TZID=America/New_York:20251008T160000
DTSTAMP:20260423T185433
CREATED:20250818T165238Z
LAST-MODIFIED:20251008T193643Z
UID:35942-1759917600-1759939200@ctkrva.org
SUMMARY:CTK Quilters
DESCRIPTION:
URL:https://ctkrva.org/event/ctk-quilters-25/
END:VEVENT
BEGIN:VEVENT
DTSTART;TZID=America/New_York:20251009T120000
DTEND;TZID=America/New_York:20251009T130000
DTSTAMP:20260423T185433
CREATED:20250818T165239Z
LAST-MODIFIED:20251009T165439Z
UID:35943-1760011200-1760014800@ctkrva.org
SUMMARY:ALANON (12&12)
DESCRIPTION:
URL:https://ctkrva.org/event/alanon-1212-104/
LOCATION:Fellowship Hall
END:VEVENT
BEGIN:VEVENT
DTSTART;TZID=America/New_York:20251009T120000
DTEND;TZID=America/New_York:20251009T130000
DTSTAMP:20260423T185433
CREATED:20250818T165240Z
LAST-MODIFIED:20251009T165439Z
UID:35944-1760011200-1760014800@ctkrva.org
SUMMARY:Senior Fellowship Luncheon
DESCRIPTION:
URL:https://ctkrva.org/event/senior-fellowship-luncheon-5/
LOCATION:Fellowship Hall
END:VEVENT
BEGIN:VEVENT
DTSTART;TZID=America/New_York:20251009T120000
DTEND;TZID=America/New_York:20251009T130000
DTSTAMP:20260423T185433
CREATED:20250911T205159Z
LAST-MODIFIED:20251009T165439Z
UID:37138-1760011200-1760014800@ctkrva.org
SUMMARY:Bon Air Ministers Lunch
DESCRIPTION:
URL:https://ctkrva.org/event/bon-air-ministers-lunch-5/
END:VEVENT
BEGIN:VEVENT
DTSTART;TZID=America/New_York:20251009T183000
DTEND;TZID=America/New_York:20251009T203000
DTSTAMP:20260423T185433
CREATED:20250818T165241Z
LAST-MODIFIED:20251010T002031Z
UID:35945-1760034600-1760041800@ctkrva.org
SUMMARY:Tai Chi - John Crouse
DESCRIPTION:
URL:https://ctkrva.org/event/tai-chi-john-crouse-215/
LOCATION:Fellowship Hall
END:VEVENT
BEGIN:VEVENT
DTSTART;TZID=America/New_York:20251010T130000
DTEND;TZID=America/New_York:20251010T140000
DTSTAMP:20260423T185433
CREATED:20250818T165242Z
LAST-MODIFIED:20251014T213834Z
UID:35946-1760101200-1760104800@ctkrva.org
SUMMARY:AA
DESCRIPTION:
URL:https://ctkrva.org/event/aa-215/
LOCATION:Fellowship Hall
END:VEVENT
BEGIN:VEVENT
DTSTART;TZID=America/New_York:20251010T190000
DTEND;TZID=America/New_York:20251010T200000
DTSTAMP:20260423T185433
CREATED:20250818T165256Z
LAST-MODIFIED:20251014T213835Z
UID:35947-1760122800-1760126400@ctkrva.org
SUMMARY:NarAnon
DESCRIPTION:
URL:https://ctkrva.org/event/naranon-68/
LOCATION:Gathering Space
END:VEVENT
BEGIN:VEVENT
DTSTART;TZID=America/New_York:20251012T100000
DTEND;TZID=America/New_York:20251012T110000
DTSTAMP:20260423T185433
CREATED:20250818T165257Z
LAST-MODIFIED:20251014T213836Z
UID:35948-1760263200-1760266800@ctkrva.org
SUMMARY:Worship
DESCRIPTION:
URL:https://ctkrva.org/event/worship-53/
END:VEVENT
BEGIN:VEVENT
DTSTART;TZID=America/New_York:20251012T111500
DTEND;TZID=America/New_York:20251012T114500
DTSTAMP:20260423T185433
CREATED:20250818T165258Z
LAST-MODIFIED:20251014T213837Z
UID:35949-1760267700-1760269500@ctkrva.org
SUMMARY:CTK Cafe
DESCRIPTION:
URL:https://ctkrva.org/event/ctk-cafe-39/
LOCATION:After Worship
END:VEVENT
BEGIN:VEVENT
DTSTART;VALUE=DATE:20251013
DTEND;VALUE=DATE:20251014
DTSTAMP:20260423T185433
CREATED:20250818T165259Z
LAST-MODIFIED:20251014T213838Z
UID:35950-1760313600-1760399999@ctkrva.org
SUMMARY:Columbus Day/Indigenous Peoples Day - Office Closed
DESCRIPTION:
URL:https://ctkrva.org/event/columbus-day-indigenous-peoples-day-office-closed/
END:VEVENT
BEGIN:VEVENT
DTSTART;TZID=America/New_York:20251013T120000
DTEND;TZID=America/New_York:20251013T130000
DTSTAMP:20260423T185433
CREATED:20250818T165300Z
LAST-MODIFIED:20251014T213839Z
UID:35951-1760356800-1760360400@ctkrva.org
SUMMARY:Executive Team
DESCRIPTION:
URL:https://ctkrva.org/event/executive-team-53/
END:VEVENT
BEGIN:VEVENT
DTSTART;TZID=America/New_York:20251013T130000
DTEND;TZID=America/New_York:20251013T140000
DTSTAMP:20260423T185433
CREATED:20250818T165301Z
LAST-MODIFIED:20251014T213840Z
UID:35952-1760360400-1760364000@ctkrva.org
SUMMARY:AA
DESCRIPTION:
URL:https://ctkrva.org/event/aa-226/
LOCATION:Fellowship Hall
END:VEVENT
BEGIN:VEVENT
DTSTART;TZID=America/New_York:20251014T093000
DTEND;TZID=America/New_York:20251014T100000
DTSTAMP:20260423T185433
CREATED:20251014T133617Z
LAST-MODIFIED:20251014T133617Z
UID:37923-1760434200-1760436000@ctkrva.org
SUMMARY:Dead Deer
DESCRIPTION:________________________________________________________________________________\nMicrosoft Teams Need help?\nJoin the meeting now\nMeeting ID: 291 035 223 342 2\nPasscode: EU2V4pd6\n________________________________\nDial in by phone\n+1 804-462-9970\,\,987168978# United States\, Lively\nFind a local number\nPhone conference ID: 987 168 978#\nFor organizers: Meeting options | Reset dial-in PIN\n________________________________________________________________________________\n_____________________________________________\nFrom: Richard Landers\nSent: Sunday\, October 12\, 2025 2:37 PM\nTo: Tim Young\nCc: Charles Albert ; Matt Fay ; Office Info\nSubject: Re: Dead Deer\nTim –\nI also submitted a Service Request (#  2219325 )\, yesterday at noon. They predict pickup within 72 hours.\nMy guess is that the Deer was hit Friday night. It was pretty bloated by noon yesterday.\nI’ll fix the Banner Frame this week. The impact knocked the deer through the frame. It knocked off both bottom 2x4s\, but didn’t break them. I’ll straighten the brackets and nail them back in.\nIt also destroyed all 4 of the little solar lights. I’m not sure how much benefit these were. They were always an obstacle to mow around. Unless someone wants these I’ll not replace them.\nI picked up a large wheel well molding\, and another piece that the driver left behind. It must have been a pickup.\nThat is the 5th dead deer in the last 3 years.\nThanks.\nRichard\nOn Sun\, Oct 12\, 2025 at 2:11 PM Tim Young <TYoung@htrsi.com> wrote:\nWe have another dead deer on the property. I submitted it to VDOT.\nTim Young\nKevin Currie Group\nw/ Hometown Realty\n804-385-0683\ntyoung@htrsi.com\nhttps://www.kevincurriegroup.com/\n________________________________\nFrom: Tim Young\nSent: Wednesday\, May 28\, 2025 8:19 PM\nTo: Charles Albert <charlesgalbert@gmail.com>\nCc: Richard Landers <richard.landers@gmail.com>; Matt Fay <mflapfay@gmail.com>\nSubject: Re: Dead Deer\nLooks like the deer was picked up. Thank you again Richard for making the call.\nTim Young\nKevin Currie Group\nw/ Hometown Realty\n804-385-0683\ntyoung@htrsi.com\nOn May 26\, 2025\, at 19:37\, Charles Albert <charlesgalbert@gmail.com> wrote:\n﻿ Thanks Richard! You’re the best\nSent from my iPhone\nOn May 26\, 2025\, at 2:02 PM\, Richard Landers <richard.landers@gmail.com> wrote:\n﻿\nFYI\nYour service request number is 2136848. Track your status on https://my.vdot.virginia.gov.\nReply STOP to Cancel\nOn Mon\, May 26\, 2025 at 1:33 PM Richard Landers <richard.landers@gmail.com> wrote:\nI looked at the deer and decided to call VDOT at 800-367-7623. It’s a little big to put in a trash can. They have our address. They’ll pick it up. It may be 1 to 2 days\, since it is a holiday.\nI was on the way over anyway to trim some brush.\nRichard\nIf your request is related to a road hazard that needs immediate attention\, please call 1-800-367-7623\nOn Mon\, May 26\, 2025 at 12:57 PM Tim Young <TYoung@htrsi.com> wrote:\nI’ll drag it to the other side for now.\nRichard\, is there a number to call to have it removed?\nTim Young\nKevin Currie Group\nw/ Hometown Realty\n804-385-0683\ntyoung@htrsi.com\nOn May 26\, 2025\, at 12:19\, Charles Albert <charlesgalbert@gmail.com> wrote:\n﻿\nHi all\,\nI hate to be the bearer of bad news but Gretchen saw a dead deer on the church property. Very near Huguenot. Kinda half way down the property line.\nI just wanted to give you a heads up.\nCharles\nSent from my iPhone\nThis is an External email! Please think carefully before clicking links or opening attachments.\nThis is an External email! Please think carefully before clicking links or opening attachments.
URL:https://ctkrva.org/event/dead-deer/
LOCATION:Microsoft Teams Meeting
END:VEVENT
BEGIN:VEVENT
DTSTART;TZID=America/New_York:20251014T100000
DTEND;TZID=America/New_York:20251014T120000
DTSTAMP:20260423T185433
CREATED:20250818T165302Z
LAST-MODIFIED:20251014T213841Z
UID:35953-1760436000-1760443200@ctkrva.org
SUMMARY:Richmond Conference Meeting
DESCRIPTION:
URL:https://ctkrva.org/event/richmond-conference-meeting-25/
END:VEVENT
BEGIN:VEVENT
DTSTART;TZID=America/New_York:20251014T100000
DTEND;TZID=America/New_York:20251014T120000
DTSTAMP:20260423T185433
CREATED:20250818T165303Z
LAST-MODIFIED:20251014T213842Z
UID:35954-1760436000-1760443200@ctkrva.org
SUMMARY:Circle of Faith
DESCRIPTION:
URL:https://ctkrva.org/event/circle-of-faith-42/
END:VEVENT
END:VCALENDAR