BEGIN:VCALENDAR
VERSION:2.0
PRODID:-//Christ The King Lutheran Church - ECPv6.15.20//NONSGML v1.0//EN
CALSCALE:GREGORIAN
METHOD:PUBLISH
X-WR-CALNAME:Christ The King Lutheran Church
X-ORIGINAL-URL:https://ctkrva.org
X-WR-CALDESC:Events for Christ The King Lutheran Church
REFRESH-INTERVAL;VALUE=DURATION:PT1H
X-Robots-Tag:noindex
X-PUBLISHED-TTL:PT1H
BEGIN:VTIMEZONE
TZID:America/New_York
BEGIN:DAYLIGHT
TZOFFSETFROM:-0500
TZOFFSETTO:-0400
TZNAME:EDT
DTSTART:20250309T070000
END:DAYLIGHT
BEGIN:STANDARD
TZOFFSETFROM:-0400
TZOFFSETTO:-0500
TZNAME:EST
DTSTART:20251102T060000
END:STANDARD
BEGIN:DAYLIGHT
TZOFFSETFROM:-0500
TZOFFSETTO:-0400
TZNAME:EDT
DTSTART:20260308T070000
END:DAYLIGHT
BEGIN:STANDARD
TZOFFSETFROM:-0400
TZOFFSETTO:-0500
TZNAME:EST
DTSTART:20261101T060000
END:STANDARD
BEGIN:DAYLIGHT
TZOFFSETFROM:-0500
TZOFFSETTO:-0400
TZNAME:EDT
DTSTART:20270314T070000
END:DAYLIGHT
BEGIN:STANDARD
TZOFFSETFROM:-0400
TZOFFSETTO:-0500
TZNAME:EST
DTSTART:20271107T060000
END:STANDARD
END:VTIMEZONE
BEGIN:VEVENT
DTSTART;TZID=America/New_York:20261001T120000
DTEND;TZID=America/New_York:20261001T130000
DTSTAMP:20260423T181818
CREATED:20260315T161333Z
LAST-MODIFIED:20260423T211147Z
UID:41703-1790856000-1790859600@ctkrva.org
SUMMARY:ALANON (12&12)
DESCRIPTION:
URL:https://ctkrva.org/event/alanon-1212-160/
LOCATION:Fellowship Hall
END:VEVENT
BEGIN:VEVENT
DTSTART;TZID=America/New_York:20261001T183000
DTEND;TZID=America/New_York:20261001T203000
DTSTAMP:20260423T181818
CREATED:20260315T161334Z
LAST-MODIFIED:20260423T211147Z
UID:41704-1790879400-1790886600@ctkrva.org
SUMMARY:Tai Chi - John Crouse
DESCRIPTION:
URL:https://ctkrva.org/event/tai-chi-john-crouse-325/
LOCATION:Fellowship Hall
END:VEVENT
BEGIN:VEVENT
DTSTART;TZID=America/New_York:20261002T130000
DTEND;TZID=America/New_York:20261002T140000
DTSTAMP:20260423T181818
CREATED:20260316T182819Z
LAST-MODIFIED:20260423T211147Z
UID:41731-1790946000-1790949600@ctkrva.org
SUMMARY:AA
DESCRIPTION:
URL:https://ctkrva.org/event/aa-325/
LOCATION:Fellowship Hall
END:VEVENT
BEGIN:VEVENT
DTSTART;TZID=America/New_York:20261002T190000
DTEND;TZID=America/New_York:20261002T200000
DTSTAMP:20260423T181818
CREATED:20260318T011317Z
LAST-MODIFIED:20260423T211205Z
UID:41758-1790967600-1790971200@ctkrva.org
SUMMARY:NarAnon
DESCRIPTION:
URL:https://ctkrva.org/event/naranon-123/
LOCATION:Gathering Space
END:VEVENT
BEGIN:VEVENT
DTSTART;VALUE=DATE:20261004
DTEND;VALUE=DATE:20261005
DTSTAMP:20260423T181819
CREATED:20260318T011319Z
LAST-MODIFIED:20260423T211205Z
UID:41759-1791072000-1791158399@ctkrva.org
SUMMARY:Food Pantry Sunday
DESCRIPTION:
URL:https://ctkrva.org/event/food-pantry-sunday-43/
END:VEVENT
BEGIN:VEVENT
DTSTART;TZID=America/New_York:20261004T100000
DTEND;TZID=America/New_York:20261004T110000
DTSTAMP:20260423T181819
CREATED:20260319T005835Z
LAST-MODIFIED:20260423T211205Z
UID:41785-1791108000-1791111600@ctkrva.org
SUMMARY:Worship
DESCRIPTION:
URL:https://ctkrva.org/event/worship-205/
END:VEVENT
BEGIN:VEVENT
DTSTART;TZID=America/New_York:20261004T111500
DTEND;TZID=America/New_York:20261004T114500
DTSTAMP:20260423T181819
CREATED:20260319T192823Z
LAST-MODIFIED:20260423T211205Z
UID:41802-1791112500-1791114300@ctkrva.org
SUMMARY:CTK Cafe
DESCRIPTION:
URL:https://ctkrva.org/event/ctk-cafe-172/
LOCATION:After Worship
END:VEVENT
BEGIN:VEVENT
DTSTART;TZID=America/New_York:20261005T130000
DTEND;TZID=America/New_York:20261005T140000
DTSTAMP:20260423T181819
CREATED:20260320T002838Z
LAST-MODIFIED:20260423T211205Z
UID:41808-1791205200-1791208800@ctkrva.org
SUMMARY:AA
DESCRIPTION:
URL:https://ctkrva.org/event/aa-326/
LOCATION:Fellowship Hall
END:VEVENT
BEGIN:VEVENT
DTSTART;TZID=America/New_York:20261006T183000
DTEND;TZID=America/New_York:20261006T203000
DTSTAMP:20260423T181819
CREATED:20260320T024309Z
LAST-MODIFIED:20260423T211205Z
UID:41815-1791311400-1791318600@ctkrva.org
SUMMARY:Tai Chi - John Crouse
DESCRIPTION:
URL:https://ctkrva.org/event/tai-chi-john-crouse-326/
LOCATION:Fellowship Hall
END:VEVENT
BEGIN:VEVENT
DTSTART;TZID=America/New_York:20261008T120000
DTEND;TZID=America/New_York:20261008T130000
DTSTAMP:20260423T181819
CREATED:20260320T181336Z
LAST-MODIFIED:20260423T211205Z
UID:41830-1791460800-1791464400@ctkrva.org
SUMMARY:Bon Air Ministers Lunch
DESCRIPTION:
URL:https://ctkrva.org/event/bon-air-ministers-lunch-26/
END:VEVENT
BEGIN:VEVENT
DTSTART;TZID=America/New_York:20261008T120000
DTEND;TZID=America/New_York:20261008T130000
DTSTAMP:20260423T181819
CREATED:20260321T011406Z
LAST-MODIFIED:20260423T211205Z
UID:41845-1791460800-1791464400@ctkrva.org
SUMMARY:CTK Luncheon
DESCRIPTION:
URL:https://ctkrva.org/event/ctk-luncheon-9/
END:VEVENT
BEGIN:VEVENT
DTSTART;TZID=America/New_York:20261008T120000
DTEND;TZID=America/New_York:20261008T130000
DTSTAMP:20260423T181819
CREATED:20260322T045910Z
LAST-MODIFIED:20260423T211206Z
UID:41870-1791460800-1791464400@ctkrva.org
SUMMARY:ALANON (12&12)
DESCRIPTION:
URL:https://ctkrva.org/event/alanon-1212-161/
LOCATION:Fellowship Hall
END:VEVENT
BEGIN:VEVENT
DTSTART;TZID=America/New_York:20261008T183000
DTEND;TZID=America/New_York:20261008T203000
DTSTAMP:20260423T181819
CREATED:20260322T161403Z
LAST-MODIFIED:20260423T211206Z
UID:41881-1791484200-1791491400@ctkrva.org
SUMMARY:Tai Chi - John Crouse
DESCRIPTION:
URL:https://ctkrva.org/event/tai-chi-john-crouse-327/
LOCATION:Fellowship Hall
END:VEVENT
BEGIN:VEVENT
DTSTART;TZID=America/New_York:20261009T130000
DTEND;TZID=America/New_York:20261009T140000
DTSTAMP:20260423T181819
CREATED:20260323T184420Z
LAST-MODIFIED:20260423T211224Z
UID:41905-1791550800-1791554400@ctkrva.org
SUMMARY:AA
DESCRIPTION:
URL:https://ctkrva.org/event/aa-327/
LOCATION:Fellowship Hall
END:VEVENT
BEGIN:VEVENT
DTSTART;TZID=America/New_York:20261009T190000
DTEND;TZID=America/New_York:20261009T200000
DTSTAMP:20260423T181819
CREATED:20260324T162853Z
LAST-MODIFIED:20260423T211225Z
UID:41927-1791572400-1791576000@ctkrva.org
SUMMARY:NarAnon
DESCRIPTION:
URL:https://ctkrva.org/event/naranon-124/
LOCATION:Gathering Space
END:VEVENT
BEGIN:VEVENT
DTSTART;TZID=America/New_York:20261011T100000
DTEND;TZID=America/New_York:20261011T110000
DTSTAMP:20260423T181819
CREATED:20260325T011547Z
LAST-MODIFIED:20260423T211225Z
UID:41936-1791712800-1791716400@ctkrva.org
SUMMARY:Worship
DESCRIPTION:
URL:https://ctkrva.org/event/worship-206/
END:VEVENT
BEGIN:VEVENT
DTSTART;TZID=America/New_York:20261011T111500
DTEND;TZID=America/New_York:20261011T114500
DTSTAMP:20260423T181819
CREATED:20260325T191542Z
LAST-MODIFIED:20260423T211225Z
UID:41956-1791717300-1791719100@ctkrva.org
SUMMARY:CTK Cafe
DESCRIPTION:
URL:https://ctkrva.org/event/ctk-cafe-173/
LOCATION:After Worship
END:VEVENT
BEGIN:VEVENT
DTSTART;TZID=America/New_York:20261012T120000
DTEND;TZID=America/New_York:20261012T130000
DTSTAMP:20260423T181819
CREATED:20260326T001708Z
LAST-MODIFIED:20260423T211225Z
UID:41962-1791806400-1791810000@ctkrva.org
SUMMARY:Executive Team
DESCRIPTION:
URL:https://ctkrva.org/event/executive-team-76/
END:VEVENT
BEGIN:VEVENT
DTSTART;TZID=America/New_York:20261012T130000
DTEND;TZID=America/New_York:20261012T140000
DTSTAMP:20260423T181819
CREATED:20260326T174603Z
LAST-MODIFIED:20260423T211225Z
UID:41986-1791810000-1791813600@ctkrva.org
SUMMARY:AA
DESCRIPTION:
URL:https://ctkrva.org/event/aa-328/
LOCATION:Fellowship Hall
END:VEVENT
BEGIN:VEVENT
DTSTART;TZID=America/New_York:20261013T100000
DTEND;TZID=America/New_York:20261013T120000
DTSTAMP:20260423T181819
CREATED:20260327T001432Z
LAST-MODIFIED:20260423T211225Z
UID:41994-1791885600-1791892800@ctkrva.org
SUMMARY:Circle of Faith
DESCRIPTION:
URL:https://ctkrva.org/event/circle-of-faith-66/
END:VEVENT
BEGIN:VEVENT
DTSTART;TZID=America/New_York:20261013T100000
DTEND;TZID=America/New_York:20261013T120000
DTSTAMP:20260423T181819
CREATED:20260327T012953Z
LAST-MODIFIED:20260423T211225Z
UID:41997-1791885600-1791892800@ctkrva.org
SUMMARY:Richmond Conference Meeting
DESCRIPTION:
URL:https://ctkrva.org/event/richmond-conference-meeting-37/
END:VEVENT
BEGIN:VEVENT
DTSTART;TZID=America/New_York:20261013T183000
DTEND;TZID=America/New_York:20261013T203000
DTSTAMP:20260423T181819
CREATED:20260327T184602Z
LAST-MODIFIED:20260423T211225Z
UID:42013-1791916200-1791923400@ctkrva.org
SUMMARY:Tai Chi - John Crouse
DESCRIPTION:
URL:https://ctkrva.org/event/tai-chi-john-crouse-328/
LOCATION:Fellowship Hall
END:VEVENT
BEGIN:VEVENT
DTSTART;TZID=America/New_York:20261015T120000
DTEND;TZID=America/New_York:20261015T130000
DTSTAMP:20260423T181819
CREATED:20260328T004558Z
LAST-MODIFIED:20260423T211225Z
UID:42020-1792065600-1792069200@ctkrva.org
SUMMARY:ALANON (12&12)
DESCRIPTION:
URL:https://ctkrva.org/event/alanon-1212-162/
LOCATION:Fellowship Hall
END:VEVENT
BEGIN:VEVENT
DTSTART;TZID=America/New_York:20261015T183000
DTEND;TZID=America/New_York:20261015T203000
DTSTAMP:20260423T181819
CREATED:20260329T151352Z
LAST-MODIFIED:20260423T211244Z
UID:42053-1792089000-1792096200@ctkrva.org
SUMMARY:Tai Chi - John Crouse
DESCRIPTION:
URL:https://ctkrva.org/event/tai-chi-john-crouse-329/
LOCATION:Fellowship Hall
END:VEVENT
BEGIN:VEVENT
DTSTART;TZID=America/New_York:20261016T130000
DTEND;TZID=America/New_York:20261016T140000
DTSTAMP:20260423T181819
CREATED:20260329T162817Z
LAST-MODIFIED:20260423T211244Z
UID:42056-1792155600-1792159200@ctkrva.org
SUMMARY:AA
DESCRIPTION:
URL:https://ctkrva.org/event/aa-329/
LOCATION:Fellowship Hall
END:VEVENT
BEGIN:VEVENT
DTSTART;TZID=America/New_York:20261016T190000
DTEND;TZID=America/New_York:20261016T200000
DTSTAMP:20260423T181819
CREATED:20260330T190030Z
LAST-MODIFIED:20260423T211244Z
UID:42084-1792177200-1792180800@ctkrva.org
SUMMARY:NarAnon
DESCRIPTION:
URL:https://ctkrva.org/event/naranon-125/
LOCATION:Gathering Space
END:VEVENT
BEGIN:VEVENT
DTSTART;TZID=America/New_York:20261018T100000
DTEND;TZID=America/New_York:20261018T110000
DTSTAMP:20260423T181819
CREATED:20260401T014514Z
LAST-MODIFIED:20260423T211244Z
UID:42111-1792317600-1792321200@ctkrva.org
SUMMARY:Worship
DESCRIPTION:
URL:https://ctkrva.org/event/worship-207/
END:VEVENT
BEGIN:VEVENT
DTSTART;TZID=America/New_York:20261018T111500
DTEND;TZID=America/New_York:20261018T114500
DTSTAMP:20260423T181819
CREATED:20260402T171013Z
LAST-MODIFIED:20260423T211244Z
UID:42156-1792322100-1792323900@ctkrva.org
SUMMARY:CTK Cafe
DESCRIPTION:
URL:https://ctkrva.org/event/ctk-cafe-174/
LOCATION:After Worship
END:VEVENT
BEGIN:VEVENT
DTSTART;TZID=America/New_York:20261019T130000
DTEND;TZID=America/New_York:20261019T140000
DTSTAMP:20260423T181819
CREATED:20260403T011359Z
LAST-MODIFIED:20260423T211244Z
UID:42166-1792414800-1792418400@ctkrva.org
SUMMARY:AA
DESCRIPTION:
URL:https://ctkrva.org/event/aa-330/
LOCATION:Fellowship Hall
END:VEVENT
BEGIN:VEVENT
DTSTART;TZID=America/New_York:20261020T183000
DTEND;TZID=America/New_York:20261020T203000
DTSTAMP:20260423T181819
CREATED:20260403T185241Z
LAST-MODIFIED:20260423T211244Z
UID:42185-1792521000-1792528200@ctkrva.org
SUMMARY:Tai Chi - John Crouse
DESCRIPTION:
URL:https://ctkrva.org/event/tai-chi-john-crouse-330/
LOCATION:Fellowship Hall
END:VEVENT
END:VCALENDAR